BEGIN:VCALENDAR
VERSION:2.0
PRODID:-//Friendship Circle of Charlotte - ECPv6.15.15//NONSGML v1.0//EN
CALSCALE:GREGORIAN
METHOD:PUBLISH
X-WR-CALNAME:Friendship Circle of Charlotte
X-ORIGINAL-URL:https://friendshipcirclenc.org
X-WR-CALDESC:Events for Friendship Circle of Charlotte
REFRESH-INTERVAL;VALUE=DURATION:PT1H
X-Robots-Tag:noindex
X-PUBLISHED-TTL:PT1H
BEGIN:VTIMEZONE
TZID:America/New_York
BEGIN:DAYLIGHT
TZOFFSETFROM:-0500
TZOFFSETTO:-0400
TZNAME:EDT
DTSTART:20220313T070000
END:DAYLIGHT
BEGIN:STANDARD
TZOFFSETFROM:-0400
TZOFFSETTO:-0500
TZNAME:EST
DTSTART:20221106T060000
END:STANDARD
BEGIN:DAYLIGHT
TZOFFSETFROM:-0500
TZOFFSETTO:-0400
TZNAME:EDT
DTSTART:20230312T070000
END:DAYLIGHT
BEGIN:STANDARD
TZOFFSETFROM:-0400
TZOFFSETTO:-0500
TZNAME:EST
DTSTART:20231105T060000
END:STANDARD
BEGIN:DAYLIGHT
TZOFFSETFROM:-0500
TZOFFSETTO:-0400
TZNAME:EDT
DTSTART:20240310T070000
END:DAYLIGHT
BEGIN:STANDARD
TZOFFSETFROM:-0400
TZOFFSETTO:-0500
TZNAME:EST
DTSTART:20241103T060000
END:STANDARD
END:VTIMEZONE
BEGIN:VEVENT
DTSTART;TZID=America/New_York:20231015T160000
DTEND;TZID=America/New_York:20231015T174500
DTSTAMP:20260422T143715
CREATED:20230815T162709Z
LAST-MODIFIED:20231010T221626Z
UID:10098-1697385600-1697391900@friendshipcirclenc.org
SUMMARY:Birthday Circle: Theatre Edition
DESCRIPTION:We’re super excited to be celebrating all the October Birthdays by inviting our Friends to a fantastic trip to see Disney’s Finding Nemo Jr. at Matthews Playhouse! \nThe show is approximately 60 minutes and Matthews Playhouse has generously offered to provide headphones and/or fidgets to make this an enjoyable experience for all our Friends. Please make sure to let us know on your RSVP if we should count you in. \nImportant Info: \n\nDropoff and Pickup will be at Stumptown Park across from the Playhouse.\nAll Friends must wear a purple Friendship Circle shirt. If you need one\, please let us know when you RSVP and we will bring one for you.\n\nParticipation in Friendship Circle programs is for registered friends only.
URL:https://friendshipcirclenc.org/event/birthday-circle-1023/
LOCATION:Stumptown Park\, 120 S Trade St\, Matthews\, 28105\, United States
CATEGORIES:FC Friends,Teen Friends
ATTACH;FMTTYPE=image/jpeg:https://friendshipcirclenc.org/wp-content/uploads/2023/08/1015-Finding-Nemo.jpg
END:VEVENT
END:VCALENDAR