BEGIN:VCALENDAR
VERSION:2.0
PRODID:-//Friendship Circle of Charlotte - ECPv6.15.15//NONSGML v1.0//EN
CALSCALE:GREGORIAN
METHOD:PUBLISH
X-WR-CALNAME:Friendship Circle of Charlotte
X-ORIGINAL-URL:https://friendshipcirclenc.org
X-WR-CALDESC:Events for Friendship Circle of Charlotte
REFRESH-INTERVAL;VALUE=DURATION:PT1H
X-Robots-Tag:noindex
X-PUBLISHED-TTL:PT1H
BEGIN:VTIMEZONE
TZID:America/New_York
BEGIN:DAYLIGHT
TZOFFSETFROM:-0500
TZOFFSETTO:-0400
TZNAME:EDT
DTSTART:20240310T070000
END:DAYLIGHT
BEGIN:STANDARD
TZOFFSETFROM:-0400
TZOFFSETTO:-0500
TZNAME:EST
DTSTART:20241103T060000
END:STANDARD
BEGIN:DAYLIGHT
TZOFFSETFROM:-0500
TZOFFSETTO:-0400
TZNAME:EDT
DTSTART:20250309T070000
END:DAYLIGHT
BEGIN:STANDARD
TZOFFSETFROM:-0400
TZOFFSETTO:-0500
TZNAME:EST
DTSTART:20251102T060000
END:STANDARD
BEGIN:DAYLIGHT
TZOFFSETFROM:-0500
TZOFFSETTO:-0400
TZNAME:EDT
DTSTART:20260308T070000
END:DAYLIGHT
BEGIN:STANDARD
TZOFFSETFROM:-0400
TZOFFSETTO:-0500
TZNAME:EST
DTSTART:20261101T060000
END:STANDARD
END:VTIMEZONE
BEGIN:VEVENT
DTSTART;TZID=America/New_York:20250608T153000
DTEND;TZID=America/New_York:20250608T170000
DTSTAMP:20260419T140105
CREATED:20250520T144950Z
LAST-MODIFIED:20250530T125025Z
UID:11462-1749396600-1749402000@friendshipcirclenc.org
SUMMARY:Birthday Circle Car Wash Fun
DESCRIPTION:It’s time to kick-off summer and celebrate our summer birthdays with a car wash! Join us for a day of water games\, clean(ish) cars\, a birthday treat\, and lots and lots of fun in our last program of the school year. \nThis car wash day will include lots of soap and water\, so be prepared to get wet\, a little sudsy\, and a little competitive as we play classic field-day water relay games with a car wash themed twist. \nPlease remember to wear sunscreen and water/soap friendly clothes. \nParticipation in Friendship Circle programs is for registered Friends only.
URL:https://friendshipcirclenc.org/event/birthday-circle-car-wash-fun/
LOCATION:Selkin Family Friendship Circle Center\, 6619 Sardis Road\, Charlotte\, NC\, 28270\, United States
CATEGORIES:FC Friends,Teen Friends
ATTACH;FMTTYPE=image/png:https://friendshipcirclenc.org/wp-content/uploads/2025/05/Summer-Kickoff.png
ORGANIZER;CN="Sarah Howe":MAILTO:sarah@friendshipcirclenc.org
END:VEVENT
END:VCALENDAR