BEGIN:VCALENDAR
VERSION:2.0
PRODID:-//Friendship Circle of Charlotte - ECPv6.15.15//NONSGML v1.0//EN
CALSCALE:GREGORIAN
METHOD:PUBLISH
X-WR-CALNAME:Friendship Circle of Charlotte
X-ORIGINAL-URL:https://friendshipcirclenc.org
X-WR-CALDESC:Events for Friendship Circle of Charlotte
REFRESH-INTERVAL;VALUE=DURATION:PT1H
X-Robots-Tag:noindex
X-PUBLISHED-TTL:PT1H
BEGIN:VTIMEZONE
TZID:America/New_York
BEGIN:DAYLIGHT
TZOFFSETFROM:-0500
TZOFFSETTO:-0400
TZNAME:EDT
DTSTART:20230312T070000
END:DAYLIGHT
BEGIN:STANDARD
TZOFFSETFROM:-0400
TZOFFSETTO:-0500
TZNAME:EST
DTSTART:20231105T060000
END:STANDARD
BEGIN:DAYLIGHT
TZOFFSETFROM:-0500
TZOFFSETTO:-0400
TZNAME:EDT
DTSTART:20240310T070000
END:DAYLIGHT
BEGIN:STANDARD
TZOFFSETFROM:-0400
TZOFFSETTO:-0500
TZNAME:EST
DTSTART:20241103T060000
END:STANDARD
BEGIN:DAYLIGHT
TZOFFSETFROM:-0500
TZOFFSETTO:-0400
TZNAME:EDT
DTSTART:20250309T070000
END:DAYLIGHT
BEGIN:STANDARD
TZOFFSETFROM:-0400
TZOFFSETTO:-0500
TZNAME:EST
DTSTART:20251102T060000
END:STANDARD
END:VTIMEZONE
BEGIN:VEVENT
DTSTART;TZID=America/New_York:20241110T153000
DTEND;TZID=America/New_York:20241110T170000
DTSTAMP:20260420T042846
CREATED:20241106T045945Z
LAST-MODIFIED:20241107T153922Z
UID:11389-1731252600-1731258000@friendshipcirclenc.org
SUMMARY:Birthday Circle & Pajama Walk Practice
DESCRIPTION:Our annual Pajama Walk is coming up on November 17 and we’re getting into the spirit by coming together to practice the fun we’ll have with our Friends up on stage as part of the opening ceremony. Join us to celebrate our November birthdays and get comfortable being in front of an audience.  \nHere’s the plan: Friends will be introduced by our MC\, who will share a fun fact about them\, as they come up and stand with their friend\, and show off their fun pajamas! No runway experience required. \nEven if you’re not sure you want go on stage at the Pajama Walk\, we’d still love for you to come to Friendship Circle for this program\, you can be part of our audience!
URL:https://friendshipcirclenc.org/event/birthday-circle-pajama-walk-practice/
LOCATION:Selkin Family Friendship Circle Center\, 6619 Sardis Road\, Charlotte\, NC\, 28270\, United States
CATEGORIES:FC Friends,Teen Friends
ATTACH;FMTTYPE=image/jpeg:https://friendshipcirclenc.org/wp-content/uploads/2023/08/1022-Catwalk-Rehearsal.jpg
END:VEVENT
END:VCALENDAR