BEGIN:VCALENDAR
VERSION:2.0
PRODID:-//Friendship Circle of Charlotte - ECPv6.15.15//NONSGML v1.0//EN
CALSCALE:GREGORIAN
METHOD:PUBLISH
X-WR-CALNAME:Friendship Circle of Charlotte
X-ORIGINAL-URL:https://friendshipcirclenc.org
X-WR-CALDESC:Events for Friendship Circle of Charlotte
REFRESH-INTERVAL;VALUE=DURATION:PT1H
X-Robots-Tag:noindex
X-PUBLISHED-TTL:PT1H
BEGIN:VTIMEZONE
TZID:America/New_York
BEGIN:DAYLIGHT
TZOFFSETFROM:-0500
TZOFFSETTO:-0400
TZNAME:EDT
DTSTART:20240310T070000
END:DAYLIGHT
BEGIN:STANDARD
TZOFFSETFROM:-0400
TZOFFSETTO:-0500
TZNAME:EST
DTSTART:20241103T060000
END:STANDARD
BEGIN:DAYLIGHT
TZOFFSETFROM:-0500
TZOFFSETTO:-0400
TZNAME:EDT
DTSTART:20250309T070000
END:DAYLIGHT
BEGIN:STANDARD
TZOFFSETFROM:-0400
TZOFFSETTO:-0500
TZNAME:EST
DTSTART:20251102T060000
END:STANDARD
BEGIN:DAYLIGHT
TZOFFSETFROM:-0500
TZOFFSETTO:-0400
TZNAME:EDT
DTSTART:20260308T070000
END:DAYLIGHT
BEGIN:STANDARD
TZOFFSETFROM:-0400
TZOFFSETTO:-0500
TZNAME:EST
DTSTART:20261101T060000
END:STANDARD
END:VTIMEZONE
BEGIN:VEVENT
DTSTART;TZID=America/New_York:20250126T153000
DTEND;TZID=America/New_York:20250126T170000
DTSTAMP:20260422T054517
CREATED:20250121T165228Z
LAST-MODIFIED:20250122T205436Z
UID:11979-1737905400-1737910800@friendshipcirclenc.org
SUMMARY:Bowling Bash
DESCRIPTION:Join us at Sports Connection Ballantyne for an afternoon of bowling fun. All are welcome\, no prior bowling experience necessary. Bonus: best score of the day wins a prize! Important info: \n\nAll friends must wear their purple Friendship Circle shirt. Please let us know below if you need one.\nAlso\, please make sure your child is wearing SOCKS to wear with their bowling shoes and also knows their SHOE SIZE (you may tell it to a staff member at drop off if you’d prefer).\nPlease drop your children off directly at Sports Connection at 3:30 pm. Pickup will be promptly at 5:00. Please be on time.
URL:https://friendshipcirclenc.org/event/bowling-bash/
LOCATION:Sports Connection – Ballantyne\, 11611 Ardrey Kell Rd.\, Charlotte\, NC\, 28277\, United States
CATEGORIES:FC Friends,Teen Friends
ATTACH;FMTTYPE=image/png:https://friendshipcirclenc.org/wp-content/uploads/2025/01/Bowling-Bash.png
END:VEVENT
END:VCALENDAR