BEGIN:VCALENDAR
VERSION:2.0
PRODID:-//Friendship Circle of Charlotte - ECPv6.15.15//NONSGML v1.0//EN
CALSCALE:GREGORIAN
METHOD:PUBLISH
X-WR-CALNAME:Friendship Circle of Charlotte
X-ORIGINAL-URL:https://friendshipcirclenc.org
X-WR-CALDESC:Events for Friendship Circle of Charlotte
REFRESH-INTERVAL;VALUE=DURATION:PT1H
X-Robots-Tag:noindex
X-PUBLISHED-TTL:PT1H
BEGIN:VTIMEZONE
TZID:America/New_York
BEGIN:DAYLIGHT
TZOFFSETFROM:-0500
TZOFFSETTO:-0400
TZNAME:EDT
DTSTART:20230312T070000
END:DAYLIGHT
BEGIN:STANDARD
TZOFFSETFROM:-0400
TZOFFSETTO:-0500
TZNAME:EST
DTSTART:20231105T060000
END:STANDARD
BEGIN:DAYLIGHT
TZOFFSETFROM:-0500
TZOFFSETTO:-0400
TZNAME:EDT
DTSTART:20240310T070000
END:DAYLIGHT
BEGIN:STANDARD
TZOFFSETFROM:-0400
TZOFFSETTO:-0500
TZNAME:EST
DTSTART:20241103T060000
END:STANDARD
BEGIN:DAYLIGHT
TZOFFSETFROM:-0500
TZOFFSETTO:-0400
TZNAME:EDT
DTSTART:20250309T070000
END:DAYLIGHT
BEGIN:STANDARD
TZOFFSETFROM:-0400
TZOFFSETTO:-0500
TZNAME:EST
DTSTART:20251102T060000
END:STANDARD
END:VTIMEZONE
BEGIN:VEVENT
DTSTART;TZID=America/New_York:20240516T113000
DTEND;TZID=America/New_York:20240516T123000
DTSTAMP:20260420T035931
CREATED:20240514T140608Z
LAST-MODIFIED:20240514T140608Z
UID:11109-1715859000-1715862600@friendshipcirclenc.org
SUMMARY:BT: Braid and Take Challah @ The Barclay
DESCRIPTION:Join us at The Barclay at Southpark to braid challah to take home to bake.
URL:https://friendshipcirclenc.org/event/bt-braid-and-take-challah-the-barclay/
LOCATION:The Barclay at Southpark\, 4801 Barclay Downs Drive\, Charlotte\, United States
CATEGORIES:Community,Seniors,Teen
ATTACH;FMTTYPE=image/png:https://friendshipcirclenc.org/wp-content/uploads/2024/05/The-Barclay-Challah-Bake.png
ORGANIZER;CN="Lauren Stark":MAILTO:Lauren@friendshipcirclenc.org
END:VEVENT
END:VCALENDAR