BEGIN:VCALENDAR
VERSION:2.0
PRODID:-//Friendship Circle of Charlotte - ECPv6.15.15//NONSGML v1.0//EN
CALSCALE:GREGORIAN
METHOD:PUBLISH
X-WR-CALNAME:Friendship Circle of Charlotte
X-ORIGINAL-URL:https://friendshipcirclenc.org
X-WR-CALDESC:Events for Friendship Circle of Charlotte
REFRESH-INTERVAL;VALUE=DURATION:PT1H
X-Robots-Tag:noindex
X-PUBLISHED-TTL:PT1H
BEGIN:VTIMEZONE
TZID:America/New_York
BEGIN:DAYLIGHT
TZOFFSETFROM:-0500
TZOFFSETTO:-0400
TZNAME:EDT
DTSTART:20230312T070000
END:DAYLIGHT
BEGIN:STANDARD
TZOFFSETFROM:-0400
TZOFFSETTO:-0500
TZNAME:EST
DTSTART:20231105T060000
END:STANDARD
BEGIN:DAYLIGHT
TZOFFSETFROM:-0500
TZOFFSETTO:-0400
TZNAME:EDT
DTSTART:20240310T070000
END:DAYLIGHT
BEGIN:STANDARD
TZOFFSETFROM:-0400
TZOFFSETTO:-0500
TZNAME:EST
DTSTART:20241103T060000
END:STANDARD
BEGIN:DAYLIGHT
TZOFFSETFROM:-0500
TZOFFSETTO:-0400
TZNAME:EDT
DTSTART:20250309T070000
END:DAYLIGHT
BEGIN:STANDARD
TZOFFSETFROM:-0400
TZOFFSETTO:-0500
TZNAME:EST
DTSTART:20251102T060000
END:STANDARD
END:VTIMEZONE
BEGIN:VEVENT
DTSTART;TZID=America/New_York:20241215T153000
DTEND;TZID=America/New_York:20241215T170000
DTSTAMP:20260422T142953
CREATED:20241201T045745Z
LAST-MODIFIED:20241209T154533Z
UID:11405-1734276600-1734282000@friendshipcirclenc.org
SUMMARY:Chanukah Cookie Baking
DESCRIPTION:Let’s get ready for Chanukah with a Chanukah Cookie Bake while we celebrate our December Birthdays! We’ll learn about the shapes and symbols\, make and decorate some cookies\, and prep some for dessert at our Shabbat Chanukah Dinner. (Don’t worry\, there will be plenty to taste\, take home\, and save!)  \nParticipation in Friendship Circle programs is for registered Friends only.
URL:https://friendshipcirclenc.org/event/chanukah-cookie-baking/
LOCATION:Selkin Family Friendship Circle Center\, 6619 Sardis Road\, Charlotte\, NC\, 28270\, United States
CATEGORIES:FC Friends,Teen Friends
ATTACH;FMTTYPE=image/png:https://friendshipcirclenc.org/wp-content/uploads/2024/11/1215-Cooking-Circle.png
END:VEVENT
END:VCALENDAR