BEGIN:VCALENDAR
VERSION:2.0
PRODID:-//Friendship Circle of Charlotte - ECPv6.15.15//NONSGML v1.0//EN
CALSCALE:GREGORIAN
METHOD:PUBLISH
X-WR-CALNAME:Friendship Circle of Charlotte
X-ORIGINAL-URL:https://friendshipcirclenc.org
X-WR-CALDESC:Events for Friendship Circle of Charlotte
REFRESH-INTERVAL;VALUE=DURATION:PT1H
X-Robots-Tag:noindex
X-PUBLISHED-TTL:PT1H
BEGIN:VTIMEZONE
TZID:America/New_York
BEGIN:DAYLIGHT
TZOFFSETFROM:-0500
TZOFFSETTO:-0400
TZNAME:EDT
DTSTART:20240310T070000
END:DAYLIGHT
BEGIN:STANDARD
TZOFFSETFROM:-0400
TZOFFSETTO:-0500
TZNAME:EST
DTSTART:20241103T060000
END:STANDARD
BEGIN:DAYLIGHT
TZOFFSETFROM:-0500
TZOFFSETTO:-0400
TZNAME:EDT
DTSTART:20250309T070000
END:DAYLIGHT
BEGIN:STANDARD
TZOFFSETFROM:-0400
TZOFFSETTO:-0500
TZNAME:EST
DTSTART:20251102T060000
END:STANDARD
BEGIN:DAYLIGHT
TZOFFSETFROM:-0500
TZOFFSETTO:-0400
TZNAME:EDT
DTSTART:20260308T070000
END:DAYLIGHT
BEGIN:STANDARD
TZOFFSETFROM:-0400
TZOFFSETTO:-0500
TZNAME:EST
DTSTART:20261101T060000
END:STANDARD
END:VTIMEZONE
BEGIN:VEVENT
DTSTART;TZID=America/New_York:20250427T160000
DTEND;TZID=America/New_York:20250427T180000
DTSTAMP:20260420T054432
CREATED:20250327T212011Z
LAST-MODIFIED:20250425T013141Z
UID:11448-1745769600-1745776800@friendshipcirclenc.org
SUMMARY:Family Picnic
DESCRIPTION:It’s time for our annual Friendship Circle Family Picnic! Friendship Circle Friends and their families are all invited for an afternoon of fun\, food\, raffles\, games\, and recognition of our 2025 graduates. We hope you will join us in celebrating another amazing year of friendship! \nIf you are interested in helping plan and organize this picnic\, please contact sarah@friendshipcirclenc.org
URL:https://friendshipcirclenc.org/event/family-picnic-2025/
LOCATION:Selkin Family Friendship Circle Center\, 6619 Sardis Road\, Charlotte\, NC\, 28270\, United States
CATEGORIES:FC Family,FC Friends,P.S. YAC,Teen Friends
ATTACH;FMTTYPE=image/png:https://friendshipcirclenc.org/wp-content/uploads/2025/03/FamilyPicnic.png
ORGANIZER;CN="Sarah Howe":MAILTO:sarah@friendshipcirclenc.org
END:VEVENT
END:VCALENDAR