BEGIN:VCALENDAR
VERSION:2.0
PRODID:-//Friendship Circle of Charlotte - ECPv6.15.15//NONSGML v1.0//EN
CALSCALE:GREGORIAN
METHOD:PUBLISH
X-WR-CALNAME:Friendship Circle of Charlotte
X-ORIGINAL-URL:https://friendshipcirclenc.org
X-WR-CALDESC:Events for Friendship Circle of Charlotte
REFRESH-INTERVAL;VALUE=DURATION:PT1H
X-Robots-Tag:noindex
X-PUBLISHED-TTL:PT1H
BEGIN:VTIMEZONE
TZID:America/New_York
BEGIN:DAYLIGHT
TZOFFSETFROM:-0500
TZOFFSETTO:-0400
TZNAME:EDT
DTSTART:20220313T070000
END:DAYLIGHT
BEGIN:STANDARD
TZOFFSETFROM:-0400
TZOFFSETTO:-0500
TZNAME:EST
DTSTART:20221106T060000
END:STANDARD
BEGIN:DAYLIGHT
TZOFFSETFROM:-0500
TZOFFSETTO:-0400
TZNAME:EDT
DTSTART:20230312T070000
END:DAYLIGHT
BEGIN:STANDARD
TZOFFSETFROM:-0400
TZOFFSETTO:-0500
TZNAME:EST
DTSTART:20231105T060000
END:STANDARD
BEGIN:DAYLIGHT
TZOFFSETFROM:-0500
TZOFFSETTO:-0400
TZNAME:EDT
DTSTART:20240310T070000
END:DAYLIGHT
BEGIN:STANDARD
TZOFFSETFROM:-0400
TZOFFSETTO:-0500
TZNAME:EST
DTSTART:20241103T060000
END:STANDARD
END:VTIMEZONE
BEGIN:VEVENT
DTSTART;TZID=America/New_York:20230330T150000
DTEND;TZID=America/New_York:20230330T170000
DTSTAMP:20260421T164958
CREATED:20230306T230645Z
LAST-MODIFIED:20230306T230645Z
UID:9701-1680188400-1680195600@friendshipcirclenc.org
SUMMARY:Field Trip to Gensler Charlotte HQ
DESCRIPTION:Join us for an exciting field trip to the Gensler Architecture Office\, where we will explore the world of design and building through a lens of creativity and innovation. This event is specifically designed for Friendship Circle Friends ages 16 and up. \nDuring this event\, you will have the opportunity to meet with experienced architects and designers who will guide you through the exciting process of designing and building structures. You will learn about the many elements of design\, including the use of color\, texture\, and light to create inspiring and functional spaces. \nIn addition\, you will get an inside look at the day-to-day operations of an architecture office\, from brainstorming sessions to the use of cutting-edge technology to bring ideas to life. You will also have the opportunity to ask questions and get hands-on experience with design tools and techniques. \nWhether you are interested in pursuing a career in architecture or simply want to learn more about the world of design\, this field trip promises to be a fun and enriching experience for all. So join us for a day of creativity\, exploration\, and inspiration at the Gensler Architecture Office.
URL:https://friendshipcirclenc.org/event/field-trip-to-gensler-charlotte-hq/
LOCATION:Selkin Family Friendship Circle Center\, 6619 Sardis Road\, Charlotte\, NC\, 28270\, United States
CATEGORIES:FC Friends,Inclusive,P.S. YAC,Teen,Teen Friends
ATTACH;FMTTYPE=image/jpeg:https://friendshipcirclenc.org/wp-content/uploads/2023/03/Gensler.jpg
END:VEVENT
END:VCALENDAR