BEGIN:VCALENDAR
VERSION:2.0
PRODID:-//Friendship Circle of Charlotte - ECPv6.15.15//NONSGML v1.0//EN
CALSCALE:GREGORIAN
METHOD:PUBLISH
X-WR-CALNAME:Friendship Circle of Charlotte
X-ORIGINAL-URL:https://friendshipcirclenc.org
X-WR-CALDESC:Events for Friendship Circle of Charlotte
REFRESH-INTERVAL;VALUE=DURATION:PT1H
X-Robots-Tag:noindex
X-PUBLISHED-TTL:PT1H
BEGIN:VTIMEZONE
TZID:America/New_York
BEGIN:DAYLIGHT
TZOFFSETFROM:-0500
TZOFFSETTO:-0400
TZNAME:EDT
DTSTART:20230312T070000
END:DAYLIGHT
BEGIN:STANDARD
TZOFFSETFROM:-0400
TZOFFSETTO:-0500
TZNAME:EST
DTSTART:20231105T060000
END:STANDARD
BEGIN:DAYLIGHT
TZOFFSETFROM:-0500
TZOFFSETTO:-0400
TZNAME:EDT
DTSTART:20240310T070000
END:DAYLIGHT
BEGIN:STANDARD
TZOFFSETFROM:-0400
TZOFFSETTO:-0500
TZNAME:EST
DTSTART:20241103T060000
END:STANDARD
BEGIN:DAYLIGHT
TZOFFSETFROM:-0500
TZOFFSETTO:-0400
TZNAME:EDT
DTSTART:20250309T070000
END:DAYLIGHT
BEGIN:STANDARD
TZOFFSETFROM:-0400
TZOFFSETTO:-0500
TZNAME:EST
DTSTART:20251102T060000
END:STANDARD
END:VTIMEZONE
BEGIN:VEVENT
DTSTART;TZID=America/New_York:20240922T153000
DTEND;TZID=America/New_York:20240922T170000
DTSTAMP:20260422T155318
CREATED:20240806T181404Z
LAST-MODIFIED:20240911T160815Z
UID:11359-1727019000-1727024400@friendshipcirclenc.org
SUMMARY:Flag Football
DESCRIPTION:We’re kicking off the fall season with another inclusive flag football game!  Back by popular demand\, Coach Traw will facilitate flag football practice\, followed by a friendly game. Friends of all experiences levels and abilities are welcome. \nImportant Details:\n\nDropoff and Pickup at Mason Wallace Park\nPlease wear a hat\, sunscreen\, and anything else to be comfortable for an afternoon of fun in the sun. Water will be provided.\nIn the event of rain\, the program will take place at Friendship Circle (in the Social Hall of Chabad). We will send an update on Sunday morning if we move forward with the rain plan.\n\nMake sure to RSVP so you will have a jersey waiting for you!
URL:https://friendshipcirclenc.org/event/flagfootball/
LOCATION:Mason Wallace Park\, 7301 Monroe Rd\, Charlotte\, NC\, 28212
CATEGORIES:FC Friends,Teen Friends
ATTACH;FMTTYPE=image/png:https://friendshipcirclenc.org/wp-content/uploads/2024/08/925-Flag-Football-.png
END:VEVENT
END:VCALENDAR