BEGIN:VCALENDAR
VERSION:2.0
PRODID:-//Friendship Circle of Charlotte - ECPv6.15.15//NONSGML v1.0//EN
CALSCALE:GREGORIAN
METHOD:PUBLISH
X-WR-CALNAME:Friendship Circle of Charlotte
X-ORIGINAL-URL:https://friendshipcirclenc.org
X-WR-CALDESC:Events for Friendship Circle of Charlotte
REFRESH-INTERVAL;VALUE=DURATION:PT1H
X-Robots-Tag:noindex
X-PUBLISHED-TTL:PT1H
BEGIN:VTIMEZONE
TZID:America/New_York
BEGIN:DAYLIGHT
TZOFFSETFROM:-0500
TZOFFSETTO:-0400
TZNAME:EDT
DTSTART:20190310T070000
END:DAYLIGHT
BEGIN:STANDARD
TZOFFSETFROM:-0400
TZOFFSETTO:-0500
TZNAME:EST
DTSTART:20191103T060000
END:STANDARD
BEGIN:DAYLIGHT
TZOFFSETFROM:-0500
TZOFFSETTO:-0400
TZNAME:EDT
DTSTART:20200308T070000
END:DAYLIGHT
BEGIN:STANDARD
TZOFFSETFROM:-0400
TZOFFSETTO:-0500
TZNAME:EST
DTSTART:20201101T060000
END:STANDARD
BEGIN:DAYLIGHT
TZOFFSETFROM:-0500
TZOFFSETTO:-0400
TZNAME:EDT
DTSTART:20210314T070000
END:DAYLIGHT
BEGIN:STANDARD
TZOFFSETFROM:-0400
TZOFFSETTO:-0500
TZNAME:EST
DTSTART:20211107T060000
END:STANDARD
END:VTIMEZONE
BEGIN:VEVENT
DTSTART;TZID=America/New_York:20200820T173000
DTEND;TZID=America/New_York:20200820T183000
DTSTAMP:20260422T162256
CREATED:20230131T075356Z
LAST-MODIFIED:20230131T075356Z
UID:9380-1597944600-1597948200@friendshipcirclenc.org
SUMMARY:Friendship Loaves
DESCRIPTION:Join us for an online Challah Bake!Here’s what you’ll need: \nFlour\nSugar\nOil\nEggs\nYeast\nSalt\nOptional: Cinnamon/Sesame or Poppy Seeds/Minced Onion/Your favorite spice for topping\nMeasuring spoons\nMeasuring cups\nClear plastic/glass cup\nSmall Mixing Bowl\nLarger Mixing Bowl\nBaking Pans (loaf size -OR- cookie sheet -OR- 9×13 pan)
URL:https://friendshipcirclenc.org/event/friendship-loaves-2/
CATEGORIES:Community,FC Family,FC Friends,FC Parents
ATTACH;FMTTYPE=image/jpeg:https://friendshipcirclenc.org/wp-content/uploads/2023/01/friendshiploaves-QjZ4UR.tmp_.jpg
END:VEVENT
END:VCALENDAR