BEGIN:VCALENDAR
VERSION:2.0
PRODID:-//Friendship Circle of Charlotte - ECPv6.15.15//NONSGML v1.0//EN
CALSCALE:GREGORIAN
METHOD:PUBLISH
X-WR-CALNAME:Friendship Circle of Charlotte
X-ORIGINAL-URL:https://friendshipcirclenc.org
X-WR-CALDESC:Events for Friendship Circle of Charlotte
REFRESH-INTERVAL;VALUE=DURATION:PT1H
X-Robots-Tag:noindex
X-PUBLISHED-TTL:PT1H
BEGIN:VTIMEZONE
TZID:America/New_York
BEGIN:DAYLIGHT
TZOFFSETFROM:-0500
TZOFFSETTO:-0400
TZNAME:EDT
DTSTART:20220313T070000
END:DAYLIGHT
BEGIN:STANDARD
TZOFFSETFROM:-0400
TZOFFSETTO:-0500
TZNAME:EST
DTSTART:20221106T060000
END:STANDARD
BEGIN:DAYLIGHT
TZOFFSETFROM:-0500
TZOFFSETTO:-0400
TZNAME:EDT
DTSTART:20230312T070000
END:DAYLIGHT
BEGIN:STANDARD
TZOFFSETFROM:-0400
TZOFFSETTO:-0500
TZNAME:EST
DTSTART:20231105T060000
END:STANDARD
BEGIN:DAYLIGHT
TZOFFSETFROM:-0500
TZOFFSETTO:-0400
TZNAME:EDT
DTSTART:20240310T070000
END:DAYLIGHT
BEGIN:STANDARD
TZOFFSETFROM:-0400
TZOFFSETTO:-0500
TZNAME:EST
DTSTART:20241103T060000
END:STANDARD
END:VTIMEZONE
BEGIN:VEVENT
DTSTART;TZID=America/New_York:20230419T160000
DTEND;TZID=America/New_York:20230419T170000
DTSTAMP:20260421T132133
CREATED:20230403T173837Z
LAST-MODIFIED:20230405T172810Z
UID:9802-1681920000-1681923600@friendshipcirclenc.org
SUMMARY:Inclusive Art Club
DESCRIPTION:Thanks to the support of the Arts and Science Council we’re excited to be continuing our after-school/afternoon Inclusive Art Club with a second series. Come figure out what mushrooms\, bamboo\, bracelets\, and paper towel tube have in common! \nThis is a chance for art lovers to come learn different techniques through fun projects and meet new friends along the way. This inclusive club is great for all kids and teens who want to try new ways of expressing themselves through upcycling\, crafting\, painting\, collaging\, sculpting\, and other hands-on activities with lots of fun materials. \nReady to sign up? This club offers mini-series of 4 weekly sessions. Before joining\, make sure you are available for all 4 sessions\, we’d hate for you to miss out! \n\n\n\n\nPlease Note:\nSpace is limited\, to make sure everyone feels comfortable. Additional dates/times may be opened up to accommodate more friends.
URL:https://friendshipcirclenc.org/event/inclusive-art-club-series2-1/
LOCATION:Selkin Family Friendship Circle Center\, 6619 Sardis Road\, Charlotte\, NC\, 28270\, United States
CATEGORIES:FC Friends,Inclusive,Teen Friends
ATTACH;FMTTYPE=image/jpeg:https://friendshipcirclenc.org/wp-content/uploads/2023/02/Art-Club.jpg
END:VEVENT
END:VCALENDAR