BEGIN:VCALENDAR
VERSION:2.0
PRODID:-//Friendship Circle of Charlotte - ECPv6.15.15//NONSGML v1.0//EN
CALSCALE:GREGORIAN
METHOD:PUBLISH
X-WR-CALNAME:Friendship Circle of Charlotte
X-ORIGINAL-URL:https://friendshipcirclenc.org
X-WR-CALDESC:Events for Friendship Circle of Charlotte
REFRESH-INTERVAL;VALUE=DURATION:PT1H
X-Robots-Tag:noindex
X-PUBLISHED-TTL:PT1H
BEGIN:VTIMEZONE
TZID:America/New_York
BEGIN:DAYLIGHT
TZOFFSETFROM:-0500
TZOFFSETTO:-0400
TZNAME:EDT
DTSTART:20220313T070000
END:DAYLIGHT
BEGIN:STANDARD
TZOFFSETFROM:-0400
TZOFFSETTO:-0500
TZNAME:EST
DTSTART:20221106T060000
END:STANDARD
BEGIN:DAYLIGHT
TZOFFSETFROM:-0500
TZOFFSETTO:-0400
TZNAME:EDT
DTSTART:20230312T070000
END:DAYLIGHT
BEGIN:STANDARD
TZOFFSETFROM:-0400
TZOFFSETTO:-0500
TZNAME:EST
DTSTART:20231105T060000
END:STANDARD
BEGIN:DAYLIGHT
TZOFFSETFROM:-0500
TZOFFSETTO:-0400
TZNAME:EDT
DTSTART:20240310T070000
END:DAYLIGHT
BEGIN:STANDARD
TZOFFSETFROM:-0400
TZOFFSETTO:-0500
TZNAME:EST
DTSTART:20241103T060000
END:STANDARD
END:VTIMEZONE
BEGIN:VEVENT
DTSTART;TZID=America/New_York:20230910T133000
DTEND;TZID=America/New_York:20230910T143000
DTSTAMP:20260422T101448
CREATED:20230908T164223Z
LAST-MODIFIED:20230913T160320Z
UID:10194-1694352600-1694356200@friendshipcirclenc.org
SUMMARY:Your Neighbor Celebrates: Jewish High Holidays
DESCRIPTION:Rabbi Shlomo Cohen will explain the upcoming Rosh Hashana holiday to the senior community at Merrywood on Park. Join us to learn about the holiday\, eat apples and honey and hear the shofar.
URL:https://friendshipcirclenc.org/event/jewish-high-holidays/
LOCATION:Merrywood on Park\, 3600 Park Road\, Charlotte\, NC\, 28209\, United States
CATEGORIES:Seniors,Teen
ATTACH;FMTTYPE=image/jpeg:https://friendshipcirclenc.org/wp-content/uploads/2023/09/RoshHashana.jpg
END:VEVENT
END:VCALENDAR