BEGIN:VCALENDAR
VERSION:2.0
PRODID:-//Friendship Circle of Charlotte - ECPv6.15.15//NONSGML v1.0//EN
CALSCALE:GREGORIAN
METHOD:PUBLISH
X-WR-CALNAME:Friendship Circle of Charlotte
X-ORIGINAL-URL:https://friendshipcirclenc.org
X-WR-CALDESC:Events for Friendship Circle of Charlotte
REFRESH-INTERVAL;VALUE=DURATION:PT1H
X-Robots-Tag:noindex
X-PUBLISHED-TTL:PT1H
BEGIN:VTIMEZONE
TZID:America/New_York
BEGIN:DAYLIGHT
TZOFFSETFROM:-0500
TZOFFSETTO:-0400
TZNAME:EDT
DTSTART:20190310T070000
END:DAYLIGHT
BEGIN:STANDARD
TZOFFSETFROM:-0400
TZOFFSETTO:-0500
TZNAME:EST
DTSTART:20191103T060000
END:STANDARD
BEGIN:DAYLIGHT
TZOFFSETFROM:-0500
TZOFFSETTO:-0400
TZNAME:EDT
DTSTART:20200308T070000
END:DAYLIGHT
BEGIN:STANDARD
TZOFFSETFROM:-0400
TZOFFSETTO:-0500
TZNAME:EST
DTSTART:20201101T060000
END:STANDARD
BEGIN:DAYLIGHT
TZOFFSETFROM:-0500
TZOFFSETTO:-0400
TZNAME:EDT
DTSTART:20210314T070000
END:DAYLIGHT
BEGIN:STANDARD
TZOFFSETFROM:-0400
TZOFFSETTO:-0500
TZNAME:EST
DTSTART:20211107T060000
END:STANDARD
END:VTIMEZONE
BEGIN:VEVENT
DTSTART;TZID=America/New_York:20200915T153000
DTEND;TZID=America/New_York:20200915T163000
DTSTAMP:20260422T144602
CREATED:20230131T075158Z
LAST-MODIFIED:20230131T075158Z
UID:9316-1600183800-1600187400@friendshipcirclenc.org
SUMMARY:Let’s Bake!
DESCRIPTION:Join Ms. Sue for some pre-Rosh Hashana baking. Let’s make Honey Cake!Recipe:\n1 c. & 2 T. Flour\n1 tsp. Baking Powder\n¼ tsp. Baking Soda\n¼ tsp. Salt\n1/3 c. Oil\n1/3 c. Honey\n½ c. Sugar\n2½ T. Brown Sugar\n1 large Egg\n½ tsp. Vanilla\n1/3 c. Brewed Coffee\n2½ T. Orange Juice\nInstructions: \nPreheat oven to 350°F and generously grease loaf pan.\nIn a large mixing bowl\, combine flour\, baking powder\, baking soda\, and salt.\nAdd oil.\nMeasure 1/3 cup of honey and save about 1½ Tablespoons for drizzling over the batter\nAdd sugars\, egg\, vanilla\, coffee\, and orange juice.\nMix well until all ingredients are combined and no lumps remain.\nPour the batter into the prepared pan.\nDrizzle the 1½ Tablespoon of honey over the batter.\nBake in the preheated oven until the cake is set all the way through and feels springy to the touch\, about 30 minutes. A tester inserted into the center should come out clean.\nLet cool 15 minutes before removing from the pan. Slide a knife around the edges to help loosen the cake\, if necessary.
URL:https://friendshipcirclenc.org/event/lets-bake-2/
CATEGORIES:Community,FC Family,FC Friends,FC Parents
ATTACH;FMTTYPE=image/jpeg:https://friendshipcirclenc.org/wp-content/uploads/2023/01/Baking-TPx03s.tmp_.jpg
END:VEVENT
END:VCALENDAR