BEGIN:VCALENDAR
VERSION:2.0
PRODID:-//Friendship Circle of Charlotte - ECPv6.15.15//NONSGML v1.0//EN
CALSCALE:GREGORIAN
METHOD:PUBLISH
X-WR-CALNAME:Friendship Circle of Charlotte
X-ORIGINAL-URL:https://friendshipcirclenc.org
X-WR-CALDESC:Events for Friendship Circle of Charlotte
REFRESH-INTERVAL;VALUE=DURATION:PT1H
X-Robots-Tag:noindex
X-PUBLISHED-TTL:PT1H
BEGIN:VTIMEZONE
TZID:America/New_York
BEGIN:DAYLIGHT
TZOFFSETFROM:-0500
TZOFFSETTO:-0400
TZNAME:EDT
DTSTART:20230312T070000
END:DAYLIGHT
BEGIN:STANDARD
TZOFFSETFROM:-0400
TZOFFSETTO:-0500
TZNAME:EST
DTSTART:20231105T060000
END:STANDARD
BEGIN:DAYLIGHT
TZOFFSETFROM:-0500
TZOFFSETTO:-0400
TZNAME:EDT
DTSTART:20240310T070000
END:DAYLIGHT
BEGIN:STANDARD
TZOFFSETFROM:-0400
TZOFFSETTO:-0500
TZNAME:EST
DTSTART:20241103T060000
END:STANDARD
BEGIN:DAYLIGHT
TZOFFSETFROM:-0500
TZOFFSETTO:-0400
TZNAME:EDT
DTSTART:20250309T070000
END:DAYLIGHT
BEGIN:STANDARD
TZOFFSETFROM:-0400
TZOFFSETTO:-0500
TZNAME:EST
DTSTART:20251102T060000
END:STANDARD
END:VTIMEZONE
BEGIN:VEVENT
DTSTART;TZID=America/New_York:20241006T153000
DTEND;TZID=America/New_York:20241006T170000
DTSTAMP:20260422T130719
CREATED:20241002T022620Z
LAST-MODIFIED:20241002T024803Z
UID:11788-1728228600-1728234000@friendshipcirclenc.org
SUMMARY:Let's Help Out
DESCRIPTION:Being a great friend means thinking of others and what makes them happy when they’re feeling sad. Join us this Sunday to have lots of fun with our friends while we work together to pack fun care packages for others in North Carolina who may be feeling sad because they don’t have the foods and toys they’re used to. \nIf you can\, please bring a few non-perishable foods\, drinks\, water\, or other important supplies. We’ll also be adding in some new stuffed animals to help our North Carolina neighbors. \nParticipation in Friendship Circle programs is for registered Friends only.
URL:https://friendshipcirclenc.org/event/lets-help-out/
LOCATION:Selkin Family Friendship Circle Center\, 6619 Sardis Road\, Charlotte\, NC\, 28270\, United States
CATEGORIES:FC Friends,Teen Friends
ATTACH;FMTTYPE=image/png:https://friendshipcirclenc.org/wp-content/uploads/2024/10/FoodDrive.png
END:VEVENT
END:VCALENDAR