BEGIN:VCALENDAR
VERSION:2.0
PRODID:-//Friendship Circle of Charlotte - ECPv6.15.15//NONSGML v1.0//EN
CALSCALE:GREGORIAN
METHOD:PUBLISH
X-WR-CALNAME:Friendship Circle of Charlotte
X-ORIGINAL-URL:https://friendshipcirclenc.org
X-WR-CALDESC:Events for Friendship Circle of Charlotte
REFRESH-INTERVAL;VALUE=DURATION:PT1H
X-Robots-Tag:noindex
X-PUBLISHED-TTL:PT1H
BEGIN:VTIMEZONE
TZID:America/New_York
BEGIN:DAYLIGHT
TZOFFSETFROM:-0500
TZOFFSETTO:-0400
TZNAME:EDT
DTSTART:20240310T070000
END:DAYLIGHT
BEGIN:STANDARD
TZOFFSETFROM:-0400
TZOFFSETTO:-0500
TZNAME:EST
DTSTART:20241103T060000
END:STANDARD
BEGIN:DAYLIGHT
TZOFFSETFROM:-0500
TZOFFSETTO:-0400
TZNAME:EDT
DTSTART:20250309T070000
END:DAYLIGHT
BEGIN:STANDARD
TZOFFSETFROM:-0400
TZOFFSETTO:-0500
TZNAME:EST
DTSTART:20251102T060000
END:STANDARD
BEGIN:DAYLIGHT
TZOFFSETFROM:-0500
TZOFFSETTO:-0400
TZNAME:EDT
DTSTART:20260308T070000
END:DAYLIGHT
BEGIN:STANDARD
TZOFFSETFROM:-0400
TZOFFSETTO:-0500
TZNAME:EST
DTSTART:20261101T060000
END:STANDARD
END:VTIMEZONE
BEGIN:VEVENT
DTSTART;TZID=America/New_York:20250316T153000
DTEND;TZID=America/New_York:20250316T170000
DTSTAMP:20260422T042331
CREATED:20250305T210934Z
LAST-MODIFIED:20250306T210003Z
UID:11436-1742139000-1742144400@friendshipcirclenc.org
SUMMARY:Music Circle
DESCRIPTION:Looking for a way to get creative? Playing music and listening to the beat is a great way to relax\, connect with friends\, move your body\, and have fun. Get ready to play some music and move to the rhythms at Music Circle! \nPlease Note: Participation in Friendship Circle programs is for registered friends only.
URL:https://friendshipcirclenc.org/event/music-circle-2/
LOCATION:Selkin Family Friendship Circle Center\, 6619 Sardis Road\, Charlotte\, NC\, 28270\, United States
CATEGORIES:FC Friends,Teen Friends
ATTACH;FMTTYPE=image/png:https://friendshipcirclenc.org/wp-content/uploads/2023/12/211-Music-Circle.png
END:VEVENT
END:VCALENDAR