BEGIN:VCALENDAR
VERSION:2.0
PRODID:-//Friendship Circle of Charlotte - ECPv6.15.15//NONSGML v1.0//EN
CALSCALE:GREGORIAN
METHOD:PUBLISH
X-WR-CALNAME:Friendship Circle of Charlotte
X-ORIGINAL-URL:https://friendshipcirclenc.org
X-WR-CALDESC:Events for Friendship Circle of Charlotte
REFRESH-INTERVAL;VALUE=DURATION:PT1H
X-Robots-Tag:noindex
X-PUBLISHED-TTL:PT1H
BEGIN:VTIMEZONE
TZID:America/New_York
BEGIN:DAYLIGHT
TZOFFSETFROM:-0500
TZOFFSETTO:-0400
TZNAME:EDT
DTSTART:20220313T070000
END:DAYLIGHT
BEGIN:STANDARD
TZOFFSETFROM:-0400
TZOFFSETTO:-0500
TZNAME:EST
DTSTART:20221106T060000
END:STANDARD
BEGIN:DAYLIGHT
TZOFFSETFROM:-0500
TZOFFSETTO:-0400
TZNAME:EDT
DTSTART:20230312T070000
END:DAYLIGHT
BEGIN:STANDARD
TZOFFSETFROM:-0400
TZOFFSETTO:-0500
TZNAME:EST
DTSTART:20231105T060000
END:STANDARD
BEGIN:DAYLIGHT
TZOFFSETFROM:-0500
TZOFFSETTO:-0400
TZNAME:EDT
DTSTART:20240310T070000
END:DAYLIGHT
BEGIN:STANDARD
TZOFFSETFROM:-0400
TZOFFSETTO:-0500
TZNAME:EST
DTSTART:20241103T060000
END:STANDARD
END:VTIMEZONE
BEGIN:VEVENT
DTSTART;TZID=America/New_York:20230326T153000
DTEND;TZID=America/New_York:20230326T170000
DTSTAMP:20260421T181951
CREATED:20230228T192514Z
LAST-MODIFIED:20230228T192514Z
UID:9630-1679844600-1679850000@friendshipcirclenc.org
SUMMARY:Paper Crafts
DESCRIPTION:Come join your friends and bring your creativity! We’ll be exploring all the things we can make out of paper. Think of bracelets and airplanes and lots more! \nWe can’t wait to see you there! \nPlease Note: Participation in Friendship Circle programs is for registered friends only. RSVP is required before Thursday\, 3/23
URL:https://friendshipcirclenc.org/event/paper-crafts/
LOCATION:Chabad of Charlotte\, 6619 Sardis Road\, Charlotte\, NC\, 28270\, United States
CATEGORIES:FC Friends,Teen Friends
ATTACH;FMTTYPE=image/jpeg:https://friendshipcirclenc.org/wp-content/uploads/2023/02/Paper-Crafts.jpg
END:VEVENT
END:VCALENDAR