BEGIN:VCALENDAR
VERSION:2.0
PRODID:-//Friendship Circle of Charlotte - ECPv6.15.15//NONSGML v1.0//EN
CALSCALE:GREGORIAN
METHOD:PUBLISH
X-WR-CALNAME:Friendship Circle of Charlotte
X-ORIGINAL-URL:https://friendshipcirclenc.org
X-WR-CALDESC:Events for Friendship Circle of Charlotte
REFRESH-INTERVAL;VALUE=DURATION:PT1H
X-Robots-Tag:noindex
X-PUBLISHED-TTL:PT1H
BEGIN:VTIMEZONE
TZID:America/New_York
BEGIN:DAYLIGHT
TZOFFSETFROM:-0500
TZOFFSETTO:-0400
TZNAME:EDT
DTSTART:20220313T070000
END:DAYLIGHT
BEGIN:STANDARD
TZOFFSETFROM:-0400
TZOFFSETTO:-0500
TZNAME:EST
DTSTART:20221106T060000
END:STANDARD
BEGIN:DAYLIGHT
TZOFFSETFROM:-0500
TZOFFSETTO:-0400
TZNAME:EDT
DTSTART:20230312T070000
END:DAYLIGHT
BEGIN:STANDARD
TZOFFSETFROM:-0400
TZOFFSETTO:-0500
TZNAME:EST
DTSTART:20231105T060000
END:STANDARD
BEGIN:DAYLIGHT
TZOFFSETFROM:-0500
TZOFFSETTO:-0400
TZNAME:EDT
DTSTART:20240310T070000
END:DAYLIGHT
BEGIN:STANDARD
TZOFFSETFROM:-0400
TZOFFSETTO:-0500
TZNAME:EST
DTSTART:20241103T060000
END:STANDARD
END:VTIMEZONE
BEGIN:VEVENT
DTSTART;TZID=America/New_York:20230226T153000
DTEND;TZID=America/New_York:20230226T163000
DTSTAMP:20260421T033725
CREATED:20230131T074035Z
LAST-MODIFIED:20230131T074815Z
UID:9149-1677425400-1677429000@friendshipcirclenc.org
SUMMARY:Parents’ Meet Up
DESCRIPTION:Join Ms. Sue for a Parents’ Meet Up at Friendship Circle during our afternoon program. \nPlease Note: Participation in Friendship Circle programs is for registered friends only.
URL:https://friendshipcirclenc.org/event/parents-meet-up/
LOCATION:Selkin Family Friendship Circle Center\, 6619 Sardis Road\, Charlotte\, NC\, 28270\, United States
CATEGORIES:FC Family,FC Parents
ATTACH;FMTTYPE=image/png:https://friendshipcirclenc.org/wp-content/uploads/2022/11/Featured-Event-Image-12.png
END:VEVENT
END:VCALENDAR