BEGIN:VCALENDAR
VERSION:2.0
PRODID:-//Friendship Circle of Charlotte - ECPv6.15.15//NONSGML v1.0//EN
CALSCALE:GREGORIAN
METHOD:PUBLISH
X-WR-CALNAME:Friendship Circle of Charlotte
X-ORIGINAL-URL:https://friendshipcirclenc.org
X-WR-CALDESC:Events for Friendship Circle of Charlotte
REFRESH-INTERVAL;VALUE=DURATION:PT1H
X-Robots-Tag:noindex
X-PUBLISHED-TTL:PT1H
BEGIN:VTIMEZONE
TZID:America/New_York
BEGIN:DAYLIGHT
TZOFFSETFROM:-0500
TZOFFSETTO:-0400
TZNAME:EDT
DTSTART:20220313T070000
END:DAYLIGHT
BEGIN:STANDARD
TZOFFSETFROM:-0400
TZOFFSETTO:-0500
TZNAME:EST
DTSTART:20221106T060000
END:STANDARD
BEGIN:DAYLIGHT
TZOFFSETFROM:-0500
TZOFFSETTO:-0400
TZNAME:EDT
DTSTART:20230312T070000
END:DAYLIGHT
BEGIN:STANDARD
TZOFFSETFROM:-0400
TZOFFSETTO:-0500
TZNAME:EST
DTSTART:20231105T060000
END:STANDARD
BEGIN:DAYLIGHT
TZOFFSETFROM:-0500
TZOFFSETTO:-0400
TZNAME:EDT
DTSTART:20240310T070000
END:DAYLIGHT
BEGIN:STANDARD
TZOFFSETFROM:-0400
TZOFFSETTO:-0500
TZNAME:EST
DTSTART:20241103T060000
END:STANDARD
END:VTIMEZONE
BEGIN:VEVENT
DTSTART;TZID=America/New_York:20230305T153000
DTEND;TZID=America/New_York:20230305T170000
DTSTAMP:20260421T001714
CREATED:20230228T154727Z
LAST-MODIFIED:20230302T020759Z
UID:9600-1678030200-1678035600@friendshipcirclenc.org
SUMMARY:Purim Party
DESCRIPTION:This week we’re getting ready to celebrate the Jewish Holiday of Purim! \nJoin in the fun and come bake Hamantashen\, make a Gragger\, and learn about the 4 mitzvot of Purim with friends! Plus we’ll be enjoying some Fun Zone playtime! \nWe can’t wait to see you! \nPlease Note: Participation in Friendship Circle programs is for registered friends only. RSVP is required before Friday\, 3/3
URL:https://friendshipcirclenc.org/event/purim-party/
LOCATION:Selkin Family Friendship Circle Center\, 6619 Sardis Road\, Charlotte\, NC\, 28270\, United States
CATEGORIES:FC Friends,P.S. YAC,Teen,Teen Friends
ATTACH;FMTTYPE=image/jpeg:https://friendshipcirclenc.org/wp-content/uploads/2023/02/35-Purim-Baking-.jpg
END:VEVENT
END:VCALENDAR