BEGIN:VCALENDAR
VERSION:2.0
PRODID:-//Friendship Circle of Charlotte - ECPv6.15.15//NONSGML v1.0//EN
CALSCALE:GREGORIAN
METHOD:PUBLISH
X-WR-CALNAME:Friendship Circle of Charlotte
X-ORIGINAL-URL:https://friendshipcirclenc.org
X-WR-CALDESC:Events for Friendship Circle of Charlotte
REFRESH-INTERVAL;VALUE=DURATION:PT1H
X-Robots-Tag:noindex
X-PUBLISHED-TTL:PT1H
BEGIN:VTIMEZONE
TZID:America/New_York
BEGIN:DAYLIGHT
TZOFFSETFROM:-0500
TZOFFSETTO:-0400
TZNAME:EDT
DTSTART:20190310T070000
END:DAYLIGHT
BEGIN:STANDARD
TZOFFSETFROM:-0400
TZOFFSETTO:-0500
TZNAME:EST
DTSTART:20191103T060000
END:STANDARD
BEGIN:DAYLIGHT
TZOFFSETFROM:-0500
TZOFFSETTO:-0400
TZNAME:EDT
DTSTART:20200308T070000
END:DAYLIGHT
BEGIN:STANDARD
TZOFFSETFROM:-0400
TZOFFSETTO:-0500
TZNAME:EST
DTSTART:20201101T060000
END:STANDARD
BEGIN:DAYLIGHT
TZOFFSETFROM:-0500
TZOFFSETTO:-0400
TZNAME:EDT
DTSTART:20210314T070000
END:DAYLIGHT
BEGIN:STANDARD
TZOFFSETFROM:-0400
TZOFFSETTO:-0500
TZNAME:EST
DTSTART:20211107T060000
END:STANDARD
END:VTIMEZONE
BEGIN:VEVENT
DTSTART;TZID=America/New_York:20200611T190000
DTEND;TZID=America/New_York:20200611T200000
DTSTAMP:20260424T010010
CREATED:20230131T075127Z
LAST-MODIFIED:20230131T075127Z
UID:9296-1591902000-1591905600@friendshipcirclenc.org
SUMMARY:Shabbat Party Live
DESCRIPTION:Getting excited for the amazing worldwide Friendship Circle Global Shabbat Party – Thursday\, June 11\, 7:00PMJoin Howie Mandel\, Mayim Bialik\, Paula Abdul\, Elon Gold\, Scottie Pippen\, Omri Caspi\, Ayelet Zurer\, Yaakov Shwekey\, Kodi Lee\, The Lost Voice Guy and many more!\nWatch live @ www.GlobalShabbatParty.com
URL:https://friendshipcirclenc.org/event/shabbat-party-live/
ATTACH;FMTTYPE=image/jpeg:https://friendshipcirclenc.org/wp-content/uploads/2023/01/shabbatpartylive-vhU4uZ.tmp_.jpg
END:VEVENT
END:VCALENDAR