BEGIN:VCALENDAR
VERSION:2.0
PRODID:-//Friendship Circle of Charlotte - ECPv6.15.15//NONSGML v1.0//EN
CALSCALE:GREGORIAN
METHOD:PUBLISH
X-WR-CALNAME:Friendship Circle of Charlotte
X-ORIGINAL-URL:https://friendshipcirclenc.org
X-WR-CALDESC:Events for Friendship Circle of Charlotte
REFRESH-INTERVAL;VALUE=DURATION:PT1H
X-Robots-Tag:noindex
X-PUBLISHED-TTL:PT1H
BEGIN:VTIMEZONE
TZID:America/New_York
BEGIN:DAYLIGHT
TZOFFSETFROM:-0500
TZOFFSETTO:-0400
TZNAME:EDT
DTSTART:20190310T070000
END:DAYLIGHT
BEGIN:STANDARD
TZOFFSETFROM:-0400
TZOFFSETTO:-0500
TZNAME:EST
DTSTART:20191103T060000
END:STANDARD
BEGIN:DAYLIGHT
TZOFFSETFROM:-0500
TZOFFSETTO:-0400
TZNAME:EDT
DTSTART:20200308T070000
END:DAYLIGHT
BEGIN:STANDARD
TZOFFSETFROM:-0400
TZOFFSETTO:-0500
TZNAME:EST
DTSTART:20201101T060000
END:STANDARD
BEGIN:DAYLIGHT
TZOFFSETFROM:-0500
TZOFFSETTO:-0400
TZNAME:EDT
DTSTART:20210314T070000
END:DAYLIGHT
BEGIN:STANDARD
TZOFFSETFROM:-0400
TZOFFSETTO:-0500
TZNAME:EST
DTSTART:20211107T060000
END:STANDARD
END:VTIMEZONE
BEGIN:VEVENT
DTSTART;TZID=America/New_York:20200419T170000
DTEND;TZID=America/New_York:20200419T180000
DTSTAMP:20260422T234258
CREATED:20230131T075212Z
LAST-MODIFIED:20230131T075212Z
UID:9325-1587315600-1587319200@friendshipcirclenc.org
SUMMARY:UMatter UBake for Teen Friends
DESCRIPTION:Join us (virtually of course :)) this Sunday\, 4-19\, at 5pm for a UMatter: UBake program with Charlie Gorelick. We’re making chocolate chip cookies!It’s not just about the baking\, we’ll have meaningful and inspirational conversations as well as tons of fun baking tips!\nIngredients: \n2 1/4 c. Flour\n1 tsp. Course Salt\n1/2 tsp. Baking Soda\n1 c. /2 sticks Unsalted Butter/Margarine\n1 c. Brown Sugar\n1/2 c. Sugar\n2 Large Eggs\n2 tsps Vanilla\n3 c. Chocolate Chips
URL:https://friendshipcirclenc.org/event/umatter-ubake-for-teen-friends/
CATEGORIES:Community,FC Friends
ATTACH;FMTTYPE=image/png:https://friendshipcirclenc.org/wp-content/uploads/2023/01/umatterubake-k5Wk97.tmp_.png
END:VEVENT
END:VCALENDAR