BEGIN:VCALENDAR
VERSION:2.0
PRODID:-//Friendship Circle of Charlotte - ECPv6.15.15//NONSGML v1.0//EN
CALSCALE:GREGORIAN
METHOD:PUBLISH
X-WR-CALNAME:Friendship Circle of Charlotte
X-ORIGINAL-URL:https://friendshipcirclenc.org
X-WR-CALDESC:Events for Friendship Circle of Charlotte
REFRESH-INTERVAL;VALUE=DURATION:PT1H
X-Robots-Tag:noindex
X-PUBLISHED-TTL:PT1H
BEGIN:VTIMEZONE
TZID:America/New_York
BEGIN:DAYLIGHT
TZOFFSETFROM:-0500
TZOFFSETTO:-0400
TZNAME:EDT
DTSTART:20190310T070000
END:DAYLIGHT
BEGIN:STANDARD
TZOFFSETFROM:-0400
TZOFFSETTO:-0500
TZNAME:EST
DTSTART:20191103T060000
END:STANDARD
BEGIN:DAYLIGHT
TZOFFSETFROM:-0500
TZOFFSETTO:-0400
TZNAME:EDT
DTSTART:20200308T070000
END:DAYLIGHT
BEGIN:STANDARD
TZOFFSETFROM:-0400
TZOFFSETTO:-0500
TZNAME:EST
DTSTART:20201101T060000
END:STANDARD
BEGIN:DAYLIGHT
TZOFFSETFROM:-0500
TZOFFSETTO:-0400
TZNAME:EDT
DTSTART:20210314T070000
END:DAYLIGHT
BEGIN:STANDARD
TZOFFSETFROM:-0400
TZOFFSETTO:-0500
TZNAME:EST
DTSTART:20211107T060000
END:STANDARD
END:VTIMEZONE
BEGIN:VEVENT
DTSTART;TZID=America/New_York:20200521T200000
DTEND;TZID=America/New_York:20200521T210000
DTSTAMP:20260424T005908
CREATED:20230131T075142Z
LAST-MODIFIED:20230131T075142Z
UID:9303-1590091200-1590094800@friendshipcirclenc.org
SUMMARY:UMatter UReflect
DESCRIPTION:Join us (virtually of course :)) this Thursday 5/21 at 8pm for UMatter’s UReflect programHere’s the ZOOM Link to Join.\nHere’s what’s happening: \nModerator: Talya Portnoy\nOpening Remarks: Joshua Freedman\nVideo Presentation “1 Thing I Wish U Knew”: produced by Ben Green\nFacing Challenges Head On: Lily Shinn Tateo & Brooklynne Tateo\nRandom Facts Trivia Fun\nUMatter Giveaway\nClosing Remarks: Ben Green \nMake sure you’re signed up for UMessage for weekly trivia\, inspiration\, and giveaways!\nJust text the word ‘Umatter‘ to 833-222-2619.\nWhat is UMatter? \nUMatter is an initiative developed by Friendship Circle\, an organization that provides support to those who experience social isolation\, with a focus on individuals with special needs. UMatter helps teenagers take a step back from daily stresses and refocus on life’s positivity. Our goal is to build a support network and eliminate the stigma surrounding mental health in our community. We believe that everyone is created with a G-dly purpose and has something to contribute to the world. It’s up to each of us to know\, and show\, that YOU Matter!\nUMatter is a project of Friendship Circle and an initiative powered by the Jewish Federation’s Impact & Innovation Fund.
URL:https://friendshipcirclenc.org/event/umatter-ureflect/
CATEGORIES:Teen Friends
ATTACH;FMTTYPE=image/jpeg:https://friendshipcirclenc.org/wp-content/uploads/2023/01/UMatter-UReflect-UMeCuQ.tmp_.jpg
END:VEVENT
END:VCALENDAR