BEGIN:VCALENDAR
VERSION:2.0
PRODID:-//Friendship Circle of Charlotte - ECPv6.15.15//NONSGML v1.0//EN
CALSCALE:GREGORIAN
METHOD:PUBLISH
X-WR-CALNAME:Friendship Circle of Charlotte
X-ORIGINAL-URL:https://friendshipcirclenc.org
X-WR-CALDESC:Events for Friendship Circle of Charlotte
REFRESH-INTERVAL;VALUE=DURATION:PT1H
X-Robots-Tag:noindex
X-PUBLISHED-TTL:PT1H
BEGIN:VTIMEZONE
TZID:America/New_York
BEGIN:DAYLIGHT
TZOFFSETFROM:-0500
TZOFFSETTO:-0400
TZNAME:EDT
DTSTART:20250309T070000
END:DAYLIGHT
BEGIN:STANDARD
TZOFFSETFROM:-0400
TZOFFSETTO:-0500
TZNAME:EST
DTSTART:20251102T060000
END:STANDARD
BEGIN:DAYLIGHT
TZOFFSETFROM:-0500
TZOFFSETTO:-0400
TZNAME:EDT
DTSTART:20260308T070000
END:DAYLIGHT
BEGIN:STANDARD
TZOFFSETFROM:-0400
TZOFFSETTO:-0500
TZNAME:EST
DTSTART:20261101T060000
END:STANDARD
BEGIN:DAYLIGHT
TZOFFSETFROM:-0500
TZOFFSETTO:-0400
TZNAME:EDT
DTSTART:20270314T070000
END:DAYLIGHT
BEGIN:STANDARD
TZOFFSETFROM:-0400
TZOFFSETTO:-0500
TZNAME:EST
DTSTART:20271107T060000
END:STANDARD
END:VTIMEZONE
BEGIN:VEVENT
DTSTART;TZID=America/New_York:20260218T173000
DTEND;TZID=America/New_York:20260218T190000
DTSTAMP:20260420T191732
CREATED:20260125T174220Z
LAST-MODIFIED:20260210T165857Z
UID:13183-1771435800-1771441200@friendshipcirclenc.org
SUMMARY:YAC: Art Night with Ms. Dana and Ms. Lisa
DESCRIPTION:Inviting all P.S. Young Adult Club Friends to get together with the ZABS After Hourz group and welcome back our friends Ms. Lisa and Ms. Dana for an evening of pottery making! Let’s try something new with our friends and make beautiful vases\, cups\, or bowls. \nAllergen Friendly burger dinner will be served. \nImportant Reminders: Registration closes 3 days before each event. P.S. YAC events are designed for our Friends 18+ to experience a sense of independence as they get together with peers and enjoy each other’s friendship. Friends are not paired with a Teen Friend for these programs. \n 
URL:https://friendshipcirclenc.org/event/yac-art-night-with-ms-dana-and-ms-lisa/
LOCATION:Selkin Family Friendship Circle Center\, 6619 Sardis Road\, Charlotte\, NC\, 28270\, United States
CATEGORIES:P.S. YAC
ATTACH;FMTTYPE=image/png:https://friendshipcirclenc.org/wp-content/uploads/2025/06/YAC-723.png
ORGANIZER;CN="Sarah Howe":MAILTO:sarah@friendshipcirclenc.org
END:VEVENT
END:VCALENDAR