BEGIN:VCALENDAR
VERSION:2.0
PRODID:-//Friendship Circle of Charlotte - ECPv6.15.15//NONSGML v1.0//EN
CALSCALE:GREGORIAN
METHOD:PUBLISH
X-WR-CALNAME:Friendship Circle of Charlotte
X-ORIGINAL-URL:https://friendshipcirclenc.org
X-WR-CALDESC:Events for Friendship Circle of Charlotte
REFRESH-INTERVAL;VALUE=DURATION:PT1H
X-Robots-Tag:noindex
X-PUBLISHED-TTL:PT1H
BEGIN:VTIMEZONE
TZID:America/New_York
BEGIN:DAYLIGHT
TZOFFSETFROM:-0500
TZOFFSETTO:-0400
TZNAME:EDT
DTSTART:20230312T070000
END:DAYLIGHT
BEGIN:STANDARD
TZOFFSETFROM:-0400
TZOFFSETTO:-0500
TZNAME:EST
DTSTART:20231105T060000
END:STANDARD
BEGIN:DAYLIGHT
TZOFFSETFROM:-0500
TZOFFSETTO:-0400
TZNAME:EDT
DTSTART:20240310T070000
END:DAYLIGHT
BEGIN:STANDARD
TZOFFSETFROM:-0400
TZOFFSETTO:-0500
TZNAME:EST
DTSTART:20241103T060000
END:STANDARD
BEGIN:DAYLIGHT
TZOFFSETFROM:-0500
TZOFFSETTO:-0400
TZNAME:EDT
DTSTART:20250309T070000
END:DAYLIGHT
BEGIN:STANDARD
TZOFFSETFROM:-0400
TZOFFSETTO:-0500
TZNAME:EST
DTSTART:20251102T060000
END:STANDARD
END:VTIMEZONE
BEGIN:VEVENT
DTSTART;TZID=America/New_York:20240909T173000
DTEND;TZID=America/New_York:20240909T190000
DTSTAMP:20260422T201612
CREATED:20240727T152535Z
LAST-MODIFIED:20240823T221738Z
UID:11528-1725903000-1725908400@friendshipcirclenc.org
SUMMARY:YAC: Bowling Night!
DESCRIPTION:For our September Philip Sperling Young Adult Circle event we’re going Bowling! Meet us at Spare Time in Pineville\, for a fun evening of bowling with the ZABS After Hourz group. \nImportant Details: \n\nAll attendees must wear their ZABS Place or Friendship Circle shirt. Please let us know if you need one.\nAlso\, please make sure to wear socks.\nPlan to Drop Off at Spare Time Bowling at 5:30pm and pickup promptly at 7pm.\n\nDinner will be included\, with gluten\, dairy\, and nut-free options available. Please RSVP by Thursday 9/5 so we can plan accordingly. \nP.S. YAC events are designed for our Friends 18+ to experience a sense of independence as they get together with peers and enjoy each other’s friendship. Friends are not paired with a Teen Friend for these programs. \n 
URL:https://friendshipcirclenc.org/event/yac-bowling/
LOCATION:Spare Time Bowling Pineville\, 9600 Pineville-Matthews Road\, Pineville\, NC\, 28134
CATEGORIES:P.S. YAC
ATTACH;FMTTYPE=image/png:https://friendshipcirclenc.org/wp-content/uploads/2023/01/YAC-Bowling.png
END:VEVENT
END:VCALENDAR