BEGIN:VCALENDAR
VERSION:2.0
PRODID:-//Friendship Circle of Charlotte - ECPv6.15.15//NONSGML v1.0//EN
CALSCALE:GREGORIAN
METHOD:PUBLISH
X-WR-CALNAME:Friendship Circle of Charlotte
X-ORIGINAL-URL:https://friendshipcirclenc.org
X-WR-CALDESC:Events for Friendship Circle of Charlotte
REFRESH-INTERVAL;VALUE=DURATION:PT1H
X-Robots-Tag:noindex
X-PUBLISHED-TTL:PT1H
BEGIN:VTIMEZONE
TZID:America/New_York
BEGIN:DAYLIGHT
TZOFFSETFROM:-0500
TZOFFSETTO:-0400
TZNAME:EDT
DTSTART:20230312T070000
END:DAYLIGHT
BEGIN:STANDARD
TZOFFSETFROM:-0400
TZOFFSETTO:-0500
TZNAME:EST
DTSTART:20231105T060000
END:STANDARD
BEGIN:DAYLIGHT
TZOFFSETFROM:-0500
TZOFFSETTO:-0400
TZNAME:EDT
DTSTART:20240310T070000
END:DAYLIGHT
BEGIN:STANDARD
TZOFFSETFROM:-0400
TZOFFSETTO:-0500
TZNAME:EST
DTSTART:20241103T060000
END:STANDARD
BEGIN:DAYLIGHT
TZOFFSETFROM:-0500
TZOFFSETTO:-0400
TZNAME:EDT
DTSTART:20250309T070000
END:DAYLIGHT
BEGIN:STANDARD
TZOFFSETFROM:-0400
TZOFFSETTO:-0500
TZNAME:EST
DTSTART:20251102T060000
END:STANDARD
END:VTIMEZONE
BEGIN:VEVENT
DTSTART;TZID=America/New_York:20240805T173000
DTEND;TZID=America/New_York:20240805T190000
DTSTAMP:20260420T042739
CREATED:20240715T202544Z
LAST-MODIFIED:20240730T012535Z
UID:11332-1722879000-1722884400@friendshipcirclenc.org
SUMMARY:YAC: Game Night
DESCRIPTION:We’re inviting co-workers and friends from ZABS Place and Friendship Circle’s P.S. YAC to join us for a fun August ZABS After Hourz. This month\, we will gather at Friendship Circle for a board game night! Enjoy great conversation with old and new friends while engaging in a little friendly competition. We will also share a meal together and celebrate our friends who are heading off to college. \nZABS After Hourz events are a chance for current and past ZABS Talent to experience a sense of independence as they get together after work and enjoy each other’s friendship. These gatherings are not intended for Parent or Guardian participation. \nAttendees are encouraged to wear a ZABS Place\, Pajama Walk -OR- Friendship Circle shirt.
URL:https://friendshipcirclenc.org/event/yac-game-night/
LOCATION:Selkin Family Friendship Circle Center\, 6619 Sardis Road\, Charlotte\, NC\, 28270\, United States
CATEGORIES:P.S. YAC
ATTACH;FMTTYPE=image/png:https://friendshipcirclenc.org/wp-content/uploads/2024/07/85-ZAH-1.png
END:VEVENT
END:VCALENDAR