BEGIN:VCALENDAR
VERSION:2.0
PRODID:-//Friendship Circle of Charlotte - ECPv6.15.15//NONSGML v1.0//EN
CALSCALE:GREGORIAN
METHOD:PUBLISH
X-WR-CALNAME:Friendship Circle of Charlotte
X-ORIGINAL-URL:https://friendshipcirclenc.org
X-WR-CALDESC:Events for Friendship Circle of Charlotte
REFRESH-INTERVAL;VALUE=DURATION:PT1H
X-Robots-Tag:noindex
X-PUBLISHED-TTL:PT1H
BEGIN:VTIMEZONE
TZID:America/New_York
BEGIN:DAYLIGHT
TZOFFSETFROM:-0500
TZOFFSETTO:-0400
TZNAME:EDT
DTSTART:20240310T070000
END:DAYLIGHT
BEGIN:STANDARD
TZOFFSETFROM:-0400
TZOFFSETTO:-0500
TZNAME:EST
DTSTART:20241103T060000
END:STANDARD
BEGIN:DAYLIGHT
TZOFFSETFROM:-0500
TZOFFSETTO:-0400
TZNAME:EDT
DTSTART:20250309T070000
END:DAYLIGHT
BEGIN:STANDARD
TZOFFSETFROM:-0400
TZOFFSETTO:-0500
TZNAME:EST
DTSTART:20251102T060000
END:STANDARD
BEGIN:DAYLIGHT
TZOFFSETFROM:-0500
TZOFFSETTO:-0400
TZNAME:EDT
DTSTART:20260308T070000
END:DAYLIGHT
BEGIN:STANDARD
TZOFFSETFROM:-0400
TZOFFSETTO:-0500
TZNAME:EST
DTSTART:20261101T060000
END:STANDARD
END:VTIMEZONE
BEGIN:VEVENT
DTSTART;TZID=America/New_York:20251201T173000
DTEND;TZID=America/New_York:20251201T190000
DTSTAMP:20260421T152345
CREATED:20251123T231002Z
LAST-MODIFIED:20251123T231002Z
UID:13139-1764610200-1764615600@friendshipcirclenc.org
SUMMARY:YAC: Ice Skating
DESCRIPTION:Inviting all P.S. Young Adult Club Friends to get together with the ZABS After Hourz group for a winter kick-off! We’ll meet at The Bowl at Ballantyne (15119 Bowl St\, Charlotte\, NC 28277) for an exciting ice skating adventure! Bring warm clothes and thick socks and we’ll supply some ice skating help and warm vibes. \nAllergen Friendly sandwich dinner will be served. \nPLEASE NOTE: Pick up and drop off for this event will be AT The Bowl at Ballantyne – 15119 Bowl St\, Charlotte\, NC\, 28277. There will be no transportation provided for this event. \nImportant Reminders: Registration closes 3 days before each event. P.S. YAC events are designed for our Friends 18+ to experience a sense of independence as they get together with peers and enjoy each other’s friendship. Friends are not paired with a Teen Friend for these programs.
URL:https://friendshipcirclenc.org/event/yac-ice-skating/
LOCATION:The Bowl at Ballantyne\, 15119 Bowl St\, Charlotte\, 28277\, United States
CATEGORIES:P.S. YAC
ATTACH;FMTTYPE=image/png:https://friendshipcirclenc.org/wp-content/uploads/2025/08/Website-Featured-Images-23-25-6-2.png
ORGANIZER;CN="Sarah Howe":MAILTO:sarah@friendshipcirclenc.org
END:VEVENT
END:VCALENDAR