BEGIN:VCALENDAR
VERSION:2.0
PRODID:-//Friendship Circle of Charlotte - ECPv6.15.15//NONSGML v1.0//EN
CALSCALE:GREGORIAN
METHOD:PUBLISH
X-WR-CALNAME:Friendship Circle of Charlotte
X-ORIGINAL-URL:https://friendshipcirclenc.org
X-WR-CALDESC:Events for Friendship Circle of Charlotte
REFRESH-INTERVAL;VALUE=DURATION:PT1H
X-Robots-Tag:noindex
X-PUBLISHED-TTL:PT1H
BEGIN:VTIMEZONE
TZID:America/New_York
BEGIN:DAYLIGHT
TZOFFSETFROM:-0500
TZOFFSETTO:-0400
TZNAME:EDT
DTSTART:20230312T070000
END:DAYLIGHT
BEGIN:STANDARD
TZOFFSETFROM:-0400
TZOFFSETTO:-0500
TZNAME:EST
DTSTART:20231105T060000
END:STANDARD
BEGIN:DAYLIGHT
TZOFFSETFROM:-0500
TZOFFSETTO:-0400
TZNAME:EDT
DTSTART:20240310T070000
END:DAYLIGHT
BEGIN:STANDARD
TZOFFSETFROM:-0400
TZOFFSETTO:-0500
TZNAME:EST
DTSTART:20241103T060000
END:STANDARD
BEGIN:DAYLIGHT
TZOFFSETFROM:-0500
TZOFFSETTO:-0400
TZNAME:EDT
DTSTART:20250309T070000
END:DAYLIGHT
BEGIN:STANDARD
TZOFFSETFROM:-0400
TZOFFSETTO:-0500
TZNAME:EST
DTSTART:20251102T060000
END:STANDARD
END:VTIMEZONE
BEGIN:VEVENT
DTSTART;TZID=America/New_York:20240710T180000
DTEND;TZID=America/New_York:20240710T200000
DTSTAMP:20260422T101340
CREATED:20240621T013205Z
LAST-MODIFIED:20240621T020320Z
UID:11226-1720634400-1720641600@friendshipcirclenc.org
SUMMARY:YAC: Inclusive Rugby
DESCRIPTION:We’re excited to partner with the Charlotte Cardinals Rugby Club for our July Philip Sperling Young Adult Circle event! We will meet at the OrthoCarolina Sportsplex in Pineville to join the Cardinals for one of their summer rugby sessions\, during which they will lead fun rugby drills and games\, and teach us all about this exciting sport. The ZABS After Hourz group will join us and friends will play alongside peers on the Cardinals team. It will be a fun-filled evening of bonding with friends and making new ones! \nImportant Details:\n\nNo rugby experience is required!\nWater will be provided during activities.\nA picnic dinner will be provided. (Gluten\, Dairy\, and Nut-Free options are available – please list allergies).\nAttendees are encouraged to wear a Friendship Circle\, Pajama Walk\, or ZABS Place shirt\, and wear clothes that are comfortable to move in.\n\nP.S. YAC events are designed for our Friends 18+ to experience a sense of independence as they get together with peers and enjoy each other’s friendship. Friends are not paired with a Teen Friend for these programs.
URL:https://friendshipcirclenc.org/event/yac-inclusive-rugby/
LOCATION:OrthoCarolina Sportsplex\, 13333 Dorman Road\, Pineville\, NC\, 28134\, United States
CATEGORIES:P.S. YAC
ATTACH;FMTTYPE=image/png:https://friendshipcirclenc.org/wp-content/uploads/2024/06/710-Rugby.png
END:VEVENT
END:VCALENDAR