BEGIN:VCALENDAR
VERSION:2.0
PRODID:-//Friendship Circle of Charlotte - ECPv6.15.15//NONSGML v1.0//EN
CALSCALE:GREGORIAN
METHOD:PUBLISH
X-WR-CALNAME:Friendship Circle of Charlotte
X-ORIGINAL-URL:https://friendshipcirclenc.org
X-WR-CALDESC:Events for Friendship Circle of Charlotte
REFRESH-INTERVAL;VALUE=DURATION:PT1H
X-Robots-Tag:noindex
X-PUBLISHED-TTL:PT1H
BEGIN:VTIMEZONE
TZID:America/New_York
BEGIN:DAYLIGHT
TZOFFSETFROM:-0500
TZOFFSETTO:-0400
TZNAME:EDT
DTSTART:20230312T070000
END:DAYLIGHT
BEGIN:STANDARD
TZOFFSETFROM:-0400
TZOFFSETTO:-0500
TZNAME:EST
DTSTART:20231105T060000
END:STANDARD
BEGIN:DAYLIGHT
TZOFFSETFROM:-0500
TZOFFSETTO:-0400
TZNAME:EDT
DTSTART:20240310T070000
END:DAYLIGHT
BEGIN:STANDARD
TZOFFSETFROM:-0400
TZOFFSETTO:-0500
TZNAME:EST
DTSTART:20241103T060000
END:STANDARD
BEGIN:DAYLIGHT
TZOFFSETFROM:-0500
TZOFFSETTO:-0400
TZNAME:EDT
DTSTART:20250309T070000
END:DAYLIGHT
BEGIN:STANDARD
TZOFFSETFROM:-0400
TZOFFSETTO:-0500
TZNAME:EST
DTSTART:20251102T060000
END:STANDARD
BEGIN:DAYLIGHT
TZOFFSETFROM:-0500
TZOFFSETTO:-0400
TZNAME:EDT
DTSTART:20260308T070000
END:DAYLIGHT
BEGIN:STANDARD
TZOFFSETFROM:-0400
TZOFFSETTO:-0500
TZNAME:EST
DTSTART:20261101T060000
END:STANDARD
BEGIN:DAYLIGHT
TZOFFSETFROM:-0500
TZOFFSETTO:-0400
TZNAME:EDT
DTSTART:20270314T070000
END:DAYLIGHT
BEGIN:STANDARD
TZOFFSETFROM:-0400
TZOFFSETTO:-0500
TZNAME:EST
DTSTART:20271107T060000
END:STANDARD
END:VTIMEZONE
BEGIN:VEVENT
DTSTART;TZID=America/New_York:20240916T183000
DTEND;TZID=America/New_York:20240916T193000
DTSTAMP:20260425T095435
CREATED:20230131T074108Z
LAST-MODIFIED:20240823T221059Z
UID:10000542-1726511400-1726515000@friendshipcirclenc.org
SUMMARY:FC Junior Teen Friend
DESCRIPTION:
URL:https://friendshipcirclenc.org/event/fc-junior-teen-friend/2024-09-16/
LOCATION:Selkin Family Friendship Circle Center\, 6619 Sardis Road\, Charlotte\, NC\, 28270\, United States
CATEGORIES:Community,Teen Friends
ATTACH;FMTTYPE=image/png:https://friendshipcirclenc.org/wp-content/uploads/2023/01/JTF.png
END:VEVENT
BEGIN:VEVENT
DTSTART;TZID=America/New_York:20240923T183000
DTEND;TZID=America/New_York:20240923T193000
DTSTAMP:20260425T095435
CREATED:20230131T074108Z
LAST-MODIFIED:20240823T221059Z
UID:10000543-1727116200-1727119800@friendshipcirclenc.org
SUMMARY:FC Junior Teen Friend
DESCRIPTION:
URL:https://friendshipcirclenc.org/event/fc-junior-teen-friend/2024-09-23/
LOCATION:Selkin Family Friendship Circle Center\, 6619 Sardis Road\, Charlotte\, NC\, 28270\, United States
CATEGORIES:Community,Teen Friends
ATTACH;FMTTYPE=image/png:https://friendshipcirclenc.org/wp-content/uploads/2023/01/JTF.png
END:VEVENT
BEGIN:VEVENT
DTSTART;TZID=America/New_York:20240930T183000
DTEND;TZID=America/New_York:20240930T193000
DTSTAMP:20260425T095435
CREATED:20230131T074108Z
LAST-MODIFIED:20240823T221059Z
UID:10000544-1727721000-1727724600@friendshipcirclenc.org
SUMMARY:FC Junior Teen Friend
DESCRIPTION:
URL:https://friendshipcirclenc.org/event/fc-junior-teen-friend/2024-09-30/
LOCATION:Selkin Family Friendship Circle Center\, 6619 Sardis Road\, Charlotte\, NC\, 28270\, United States
CATEGORIES:Community,Teen Friends
ATTACH;FMTTYPE=image/png:https://friendshipcirclenc.org/wp-content/uploads/2023/01/JTF.png
END:VEVENT
BEGIN:VEVENT
DTSTART;TZID=America/New_York:20250805T190000
DTEND;TZID=America/New_York:20250805T203000
DTSTAMP:20260425T095435
CREATED:20250723T052607Z
LAST-MODIFIED:20250804T170402Z
UID:10000920-1754420400-1754425800@friendshipcirclenc.org
SUMMARY:Keep the Connection
DESCRIPTION:Keep the Connection is a workshop for parents of teens\, designed to deepen your understanding of adolescent brain development and provide practical\, experiential tools to strengthen communication and connection through the teenage years. \nThis engaging night will offer meaningful insights\, real-life strategies\, and a chance to connect with yourself and fellow parents on a shared journey. \nLed by Caroline Thompson\, an intern at Sun Counseling and Wellness\, under the supervision of Juliet Kuehnle\, MS\, NCC\, LCMHC-S. Caroline is in the final year of her Masters in Counseling Program at Gordon-Conwell. A native Charlottean\, she returned to begin her graduate program after graduating from Wofford College with her B.S. in Psychology. Caroline works with clients of all ages\, with a special interest in working with kids and teens.
URL:https://friendshipcirclenc.org/event/keep-the-connection/
LOCATION:Chabad of Charlotte\, 6619 Sardis Road\, Charlotte\, NC\, 28270\, United States
CATEGORIES:Community,FC Parents,Teen Friends,UMatter
ATTACH;FMTTYPE=image/png:https://friendshipcirclenc.org/wp-content/uploads/2025/07/Website-Featured-Images-23-25.png
ORGANIZER;CN="Mendel Cohen":MAILTO:mendel@friendshipcirclenc.org
END:VEVENT
BEGIN:VEVENT
DTSTART;TZID=America/New_York:20251110T170000
DTEND;TZID=America/New_York:20251110T190000
DTSTAMP:20260425T095435
CREATED:20251026T191331Z
LAST-MODIFIED:20251026T191340Z
UID:10000995-1762794000-1762801200@friendshipcirclenc.org
SUMMARY:Friendship Circle Fall Open House 1
DESCRIPTION:We’re excited to welcome the community to experience our beautiful Inclusive Fun Zone! \nTeachers\, Administrators\, Program Directors\, Home School Groups… come stop by and see for yourselves what we do and how Friendship Circle can partner with your school or organization. Experience the excitement of the Fun Zone\, the peace of the Dream Room\, and the fun of getting to create some art with a preview of our guided activities. \n 
URL:https://friendshipcirclenc.org/event/friendship-circle-fall-open-house-1/
LOCATION:Selkin Family Friendship Circle Center\, 6619 Sardis Road\, Charlotte\, NC\, 28270\, United States
CATEGORIES:Community
ATTACH;FMTTYPE=image/png:https://friendshipcirclenc.org/wp-content/uploads/2025/10/Website-Featured-Images-23-25-10.png
END:VEVENT
BEGIN:VEVENT
DTSTART;TZID=America/New_York:20251113T110000
DTEND;TZID=America/New_York:20251113T130000
DTSTAMP:20260425T095435
CREATED:20251026T191637Z
LAST-MODIFIED:20251026T191705Z
UID:10000996-1763031600-1763038800@friendshipcirclenc.org
SUMMARY:Friendship Circle Fall Open House 2
DESCRIPTION:We’re excited to welcome the community to experience our beautiful Inclusive Fun Zone! \nTeachers\, Administrators\, Program Directors\, Home School Groups… come stop by and see for yourselves what we do and how Friendship Circle can partner with your school or organization. Experience the excitement of the Fun Zone\, the peace of the Dream Room\, and the fun of getting to create some art with a preview of our guided activities.
URL:https://friendshipcirclenc.org/event/friendship-circle-fall-open-house-2/
LOCATION:Selkin Family Friendship Circle Center\, 6619 Sardis Road\, Charlotte\, NC\, 28270\, United States
CATEGORIES:Community
ATTACH;FMTTYPE=image/png:https://friendshipcirclenc.org/wp-content/uploads/2025/10/Website-Featured-Images-23-25-10.png
END:VEVENT
BEGIN:VEVENT
DTSTART;TZID=America/New_York:20251207T120000
DTEND;TZID=America/New_York:20251207T160000
DTSTAMP:20260425T095435
CREATED:20251123T230849Z
LAST-MODIFIED:20251123T230849Z
UID:10000948-1765108800-1765123200@friendshipcirclenc.org
SUMMARY:Pajama Walk!
DESCRIPTION:It’s here! Join us at 12pm at Friendship Circle for our much-anticipated Pajama Walk! If you haven’t signed up yet\, go to www.PajamaWalk.com to make your page today. \n 
URL:https://friendshipcirclenc.org/event/pajama-walk-3/
LOCATION:Selkin Family Friendship Circle Center\, 6619 Sardis Road\, Charlotte\, NC\, 28270\, United States
CATEGORIES:Community,FC Family,FC Friends,FC Parents,Inclusive,P.S. YAC,Seniors,Teen,Teen Friends
ATTACH;FMTTYPE=image/png:https://friendshipcirclenc.org/wp-content/uploads/2019/10/Pajama-Walk-2025-2.png
END:VEVENT
BEGIN:VEVENT
DTSTART;TZID=America/New_York:20251214T163000
DTEND;TZID=America/New_York:20251214T193000
DTSTAMP:20260425T095435
CREATED:20251123T232001Z
LAST-MODIFIED:20251123T232001Z
UID:10000955-1765729800-1765740600@friendshipcirclenc.org
SUMMARY:No FC
DESCRIPTION:No Friendship Circle Today\, but we invite you to come out to Chabad of Charlotte’s Light Up the Night: The Grand Chanukah Festival at Symphony Park! This free event will have a Grand Menorah Lighting\, Live Music & Entertainment\, Delicious Eats\, Family Fun\, and so much more! Click here for more information
URL:https://friendshipcirclenc.org/event/no-fc/
LOCATION:Symphony Park\, 4400 Sharon Rd\, Charlotte\, 28211\, United States
CATEGORIES:Community
ATTACH;FMTTYPE=image/png:https://friendshipcirclenc.org/wp-content/uploads/2025/11/Website-Featured-Images-23-25-9.png
END:VEVENT
BEGIN:VEVENT
DTSTART;TZID=America/New_York:20260518T173000
DTEND;TZID=America/New_York:20260518T193000
DTSTAMP:20260425T095435
CREATED:20260416T184639Z
LAST-MODIFIED:20260416T184643Z
UID:10001024-1779125400-1779132600@friendshipcirclenc.org
SUMMARY:Celebrate Friendship 2026
DESCRIPTION:Join the Friendship Circle of Charlotte for our premier end-of-year inclusive community event at the Chabad Center Social Hall on Sardis Road. As a leading organization for disability inclusion in Charlotte\, NC\, we are proud to host this special evening dedicated to fostering genuine friendships between typically-developing teens and children\, teens\, and young adults with special needs. \nThis year\, the Friendship Circle of Charlotte has been more than just a series of Sunday afternoons; it has been a journey. From the quiet moments of connection in our Beco-Sensory Room to the high-energy laughter over Giant Jenga and baking projects\, we have built a “Friendship Path” that leads straight to a more inclusive Charlotte. \nOn May 18th\, we aren’t just hosting a dinner. We are gathering to honor the deep\, life-changing bonds formed this year and to salute our Teen Graduates—the young leaders who have spent their high school years proving that friendship is the ultimate bridge-builder. We invite you to sit at our table\, share a meal\, and help us celebrate the beautiful circle we’ve built together.
URL:https://friendshipcirclenc.org/event/celebrate-friendship-2026/
LOCATION:Selkin Family Friendship Circle Center\, 6619 Sardis Road\, Charlotte\, NC\, 28270\, United States
CATEGORIES:Community,FC Family,FC Friends,FC Parents,Inclusive,P.S. YAC,Teen Friends
ATTACH;FMTTYPE=image/png:https://friendshipcirclenc.org/wp-content/uploads/2026/04/ChatGPT-Image-Apr-15-2026-10_05_47-AM.png
END:VEVENT
BEGIN:VEVENT
DTSTART;TZID=America/New_York:20260727T090000
DTEND;TZID=America/New_York:20260727T130000
DTSTAMP:20260425T095435
CREATED:20260324T210903Z
LAST-MODIFIED:20260330T171834Z
UID:10001013-1785142800-1785157200@friendshipcirclenc.org
SUMMARY:Camp Friendship
DESCRIPTION:Hello campers\, and welcome to Camp Friendship! \nThis summer\, join Ms. Sarah\, Ms. Sue\, and other Friendship Circle friends for a week of friendship\, fun\, and all things summer! \nThis day camp will focus on a different set of famous friends every day (think Spongebob and Patrick\, Harry\, Ron\, and Hermione\, or Elphaba and Glinda)\, and will include daily art\, games\, and fun surprises along the way. Come beat the heat and summer boredom at Friendship Circle! \nAll ages and abilities welcome.
URL:https://friendshipcirclenc.org/event/camp-friendship-3/
LOCATION:Selkin Family Friendship Circle Center\, 6619 Sardis Road\, Charlotte\, NC\, 28270\, United States
CATEGORIES:Community,Inclusive
ATTACH;FMTTYPE=image/png:https://friendshipcirclenc.org/wp-content/uploads/2026/03/Website-Featured-Images-23-25-1.png
ORGANIZER;CN="Sarah Howe":MAILTO:sarah@friendshipcirclenc.org
END:VEVENT
BEGIN:VEVENT
DTSTART;TZID=America/New_York:20260728T090000
DTEND;TZID=America/New_York:20260728T130000
DTSTAMP:20260425T095436
CREATED:20260324T201727Z
LAST-MODIFIED:20260330T173225Z
UID:10001014-1785229200-1785243600@friendshipcirclenc.org
SUMMARY:Camp Friendship
DESCRIPTION:Hello campers\, and welcome to Camp Friendship! \nThis summer\, join Ms. Sarah\, Ms. Sue\, and other Friendship Circle friends for a week of friendship\, fun\, and all things summer! \nThis day camp will focus on a different set of famous friends every day (think Spongebob and Patrick\, Harry\, Ron\, and Hermione\, or Elphaba and Glinda)\, and will include daily art\, games\, and fun surprises along the way. Come beat the heat and summer boredom at Friendship Circle! \nAll ages and ability levels welcome.
URL:https://friendshipcirclenc.org/event/camp-friendship-2/2026-07-28/
LOCATION:Selkin Family Friendship Circle Center\, 6619 Sardis Road\, Charlotte\, NC\, 28270\, United States
CATEGORIES:Community,Inclusive
ATTACH;FMTTYPE=image/png:https://friendshipcirclenc.org/wp-content/uploads/2026/03/Website-Featured-Images-23-25-1.png
ORGANIZER;CN="Sarah Howe":MAILTO:sarah@friendshipcirclenc.org
END:VEVENT
BEGIN:VEVENT
DTSTART;TZID=America/New_York:20260729T090000
DTEND;TZID=America/New_York:20260729T130000
DTSTAMP:20260425T095436
CREATED:20260324T201727Z
LAST-MODIFIED:20260330T173225Z
UID:10001015-1785315600-1785330000@friendshipcirclenc.org
SUMMARY:Camp Friendship
DESCRIPTION:Hello campers\, and welcome to Camp Friendship! \nThis summer\, join Ms. Sarah\, Ms. Sue\, and other Friendship Circle friends for a week of friendship\, fun\, and all things summer! \nThis day camp will focus on a different set of famous friends every day (think Spongebob and Patrick\, Harry\, Ron\, and Hermione\, or Elphaba and Glinda)\, and will include daily art\, games\, and fun surprises along the way. Come beat the heat and summer boredom at Friendship Circle! \nAll ages and ability levels welcome.
URL:https://friendshipcirclenc.org/event/camp-friendship-2/2026-07-29/
LOCATION:Selkin Family Friendship Circle Center\, 6619 Sardis Road\, Charlotte\, NC\, 28270\, United States
CATEGORIES:Community,Inclusive
ATTACH;FMTTYPE=image/png:https://friendshipcirclenc.org/wp-content/uploads/2026/03/Website-Featured-Images-23-25-1.png
ORGANIZER;CN="Sarah Howe":MAILTO:sarah@friendshipcirclenc.org
END:VEVENT
BEGIN:VEVENT
DTSTART;TZID=America/New_York:20260730T090000
DTEND;TZID=America/New_York:20260730T130000
DTSTAMP:20260425T095436
CREATED:20260324T201727Z
LAST-MODIFIED:20260330T173225Z
UID:10001016-1785402000-1785416400@friendshipcirclenc.org
SUMMARY:Camp Friendship
DESCRIPTION:Hello campers\, and welcome to Camp Friendship! \nThis summer\, join Ms. Sarah\, Ms. Sue\, and other Friendship Circle friends for a week of friendship\, fun\, and all things summer! \nThis day camp will focus on a different set of famous friends every day (think Spongebob and Patrick\, Harry\, Ron\, and Hermione\, or Elphaba and Glinda)\, and will include daily art\, games\, and fun surprises along the way. Come beat the heat and summer boredom at Friendship Circle! \nAll ages and ability levels welcome.
URL:https://friendshipcirclenc.org/event/camp-friendship-2/2026-07-30/
LOCATION:Selkin Family Friendship Circle Center\, 6619 Sardis Road\, Charlotte\, NC\, 28270\, United States
CATEGORIES:Community,Inclusive
ATTACH;FMTTYPE=image/png:https://friendshipcirclenc.org/wp-content/uploads/2026/03/Website-Featured-Images-23-25-1.png
ORGANIZER;CN="Sarah Howe":MAILTO:sarah@friendshipcirclenc.org
END:VEVENT
BEGIN:VEVENT
DTSTART;TZID=America/New_York:20260731T090000
DTEND;TZID=America/New_York:20260731T130000
DTSTAMP:20260425T095436
CREATED:20260324T201727Z
LAST-MODIFIED:20260330T173225Z
UID:10001017-1785488400-1785502800@friendshipcirclenc.org
SUMMARY:Camp Friendship
DESCRIPTION:Hello campers\, and welcome to Camp Friendship! \nThis summer\, join Ms. Sarah\, Ms. Sue\, and other Friendship Circle friends for a week of friendship\, fun\, and all things summer! \nThis day camp will focus on a different set of famous friends every day (think Spongebob and Patrick\, Harry\, Ron\, and Hermione\, or Elphaba and Glinda)\, and will include daily art\, games\, and fun surprises along the way. Come beat the heat and summer boredom at Friendship Circle! \nAll ages and ability levels welcome.
URL:https://friendshipcirclenc.org/event/camp-friendship-2/2026-07-31/
LOCATION:Selkin Family Friendship Circle Center\, 6619 Sardis Road\, Charlotte\, NC\, 28270\, United States
CATEGORIES:Community,Inclusive
ATTACH;FMTTYPE=image/png:https://friendshipcirclenc.org/wp-content/uploads/2026/03/Website-Featured-Images-23-25-1.png
ORGANIZER;CN="Sarah Howe":MAILTO:sarah@friendshipcirclenc.org
END:VEVENT
END:VCALENDAR