BEGIN:VCALENDAR
VERSION:2.0
PRODID:-//Friendship Circle of Charlotte - ECPv6.15.15//NONSGML v1.0//EN
CALSCALE:GREGORIAN
METHOD:PUBLISH
X-ORIGINAL-URL:https://friendshipcirclenc.org
X-WR-CALDESC:Events for Friendship Circle of Charlotte
REFRESH-INTERVAL;VALUE=DURATION:PT1H
X-Robots-Tag:noindex
X-PUBLISHED-TTL:PT1H
BEGIN:VTIMEZONE
TZID:America/New_York
BEGIN:DAYLIGHT
TZOFFSETFROM:-0500
TZOFFSETTO:-0400
TZNAME:EDT
DTSTART:20190310T070000
END:DAYLIGHT
BEGIN:STANDARD
TZOFFSETFROM:-0400
TZOFFSETTO:-0500
TZNAME:EST
DTSTART:20191103T060000
END:STANDARD
BEGIN:DAYLIGHT
TZOFFSETFROM:-0500
TZOFFSETTO:-0400
TZNAME:EDT
DTSTART:20200308T070000
END:DAYLIGHT
BEGIN:STANDARD
TZOFFSETFROM:-0400
TZOFFSETTO:-0500
TZNAME:EST
DTSTART:20201101T060000
END:STANDARD
BEGIN:DAYLIGHT
TZOFFSETFROM:-0500
TZOFFSETTO:-0400
TZNAME:EDT
DTSTART:20210314T070000
END:DAYLIGHT
BEGIN:STANDARD
TZOFFSETFROM:-0400
TZOFFSETTO:-0500
TZNAME:EST
DTSTART:20211107T060000
END:STANDARD
BEGIN:DAYLIGHT
TZOFFSETFROM:-0500
TZOFFSETTO:-0400
TZNAME:EDT
DTSTART:20220313T070000
END:DAYLIGHT
BEGIN:STANDARD
TZOFFSETFROM:-0400
TZOFFSETTO:-0500
TZNAME:EST
DTSTART:20221106T060000
END:STANDARD
BEGIN:DAYLIGHT
TZOFFSETFROM:-0500
TZOFFSETTO:-0400
TZNAME:EDT
DTSTART:20230312T070000
END:DAYLIGHT
BEGIN:STANDARD
TZOFFSETFROM:-0400
TZOFFSETTO:-0500
TZNAME:EST
DTSTART:20231105T060000
END:STANDARD
BEGIN:DAYLIGHT
TZOFFSETFROM:-0500
TZOFFSETTO:-0400
TZNAME:EDT
DTSTART:20240310T070000
END:DAYLIGHT
BEGIN:STANDARD
TZOFFSETFROM:-0400
TZOFFSETTO:-0500
TZNAME:EST
DTSTART:20241103T060000
END:STANDARD
END:VTIMEZONE
BEGIN:VEVENT
DTSTART;TZID=America/New_York:20231112T120000
DTEND;TZID=America/New_York:20231112T160000
DTSTAMP:20260423T165045
CREATED:20230822T180557Z
LAST-MODIFIED:20231027T021248Z
UID:10000249-1699790400-1699804800@friendshipcirclenc.org
SUMMARY:Pajama Walk
DESCRIPTION:Experience one of the most exciting walks in Charlotte! The Pajama Walk by Friendship Circle & ZABS Place! \nJoin us at McAlpine Creek Park for the 6th annual Pajama Walk presented by Lowe’s Companies Inc. Able Business Resource Group. \nThe Pajama Walk raises awareness and funds for Friendship Circle & ZABS Place to support genuine inclusive friendships\, job training\, employment\, and placement for individuals with special needs abilities. \nWondering Why Pajamas? Well\, pajamas are comfortable\, and no one worries about whether they match or what others might say. That’s exactly the kind of community we’re working on building. We want everyone to feel comfortable being themselves and not worrying about whether they “match” everyone else. \nOf course\, we also dream in pajamas and we’re all about making dreams come true for children\, teens\, and adults of ALL abilities. Join us and  #MakeDreamsComeTrue!
URL:https://friendshipcirclenc.org/event/pajama-walk-2023/
LOCATION:McAlpine Creek Park\, 8711 Monroe Rd\, Charlotte\, NC\, 28212\, United States
CATEGORIES:Community,FC Family,FC Friends,FC Parents,Inclusive,P.S. YAC,Teen,Teen Friends
ATTACH;FMTTYPE=image/png:https://friendshipcirclenc.org/wp-content/uploads/2023/08/Pajama-Walk-Save-The-Date-2023-Facebook-Event-Cover-min.png
END:VEVENT
BEGIN:VEVENT
DTSTART;TZID=America/New_York:20230108T170000
DTEND;TZID=America/New_York:20230108T170000
DTSTAMP:20260423T165045
CREATED:20230131T074324Z
LAST-MODIFIED:20230131T074324Z
UID:10000052-1673197200-1673197200@friendshipcirclenc.org
SUMMARY:Inclusive Fun Zone Grand Opening
DESCRIPTION:Join us for a Ribbon Cutting and Grand Opening ceremony for the first Inclusive Fun Zone in the Charlotte area!Don’t miss this exclusive opportunity to see Friendship Circle’s inclusive and adventurous space\, home to a Music & Movement Studio\, Art & Creativity Spot\, Multi-Sensory Dream Room\, Indoor Sensory-Friendly Park\, “Please Touch” Hallway\, Parent Lounge\, and Teen Leadership Hub.\nDetails \nRibbon Cutting will be held outdoors so please dress accordingly\nProgram begins at 5pm followed by small group tours and buffet dinner (inside) with entertainment\nParking available at Charlotte Prep – 212 Boyce Rd. 28211 \n \nClick here for more information about our Fun Zone and available dedication opportunities.\nView our Fun Zone Registry.
URL:https://friendshipcirclenc.org/event/inclusive-fun-zone-grand-opening/
LOCATION:NC
CATEGORIES:Community,FC Family,FC Friends,FC Parents,P.S. YAC,Teen Friends
ATTACH;FMTTYPE=image/png:https://friendshipcirclenc.org/wp-content/uploads/2023/01/InclusiveFunZoneInvite-web.png
END:VEVENT
BEGIN:VEVENT
DTSTART;TZID=America/New_York:20221113T123000
DTEND;TZID=America/New_York:20221113T160000
DTSTAMP:20260423T165045
CREATED:20230131T074123Z
LAST-MODIFIED:20230131T074123Z
UID:10000101-1668342600-1668355200@friendshipcirclenc.org
SUMMARY:Pajama Walk
DESCRIPTION:The Pajama Walk is a community walk to raise awareness and funds for Friendship Circle & ZABS Place – two local non-profits offering social opportunities and training & employment for individuals with special needs and talents. Join us in #MakingDreamsComeTrue!Sign up at PajamaWalk.com
URL:https://friendshipcirclenc.org/event/pajama-walk/
LOCATION:NC
CATEGORIES:Community,FC Family,FC Friends,FC Parents,P.S. YAC,Teen Friends
ATTACH;FMTTYPE=image/png:https://friendshipcirclenc.org/wp-content/uploads/2022/09/Pajama-Walk-2022-Website-Event-429-×-179-px.png
END:VEVENT
BEGIN:VEVENT
DTSTART;TZID=America/New_York:20220918T150000
DTEND;TZID=America/New_York:20220918T170000
DTSTAMP:20260423T165045
CREATED:20230131T074325Z
LAST-MODIFIED:20230131T074325Z
UID:10000066-1663513200-1663520400@friendshipcirclenc.org
SUMMARY:Car Wash Fundraiser and Ice Cream Party
DESCRIPTION:Our fantastic Friendship Circle Car Wash is back and this time it’s a FUNdraiser for our new FUN Zone!The car wash will be run by our Friends and we’ll have an awesome time practicing skills\, having fun\, and benefiting our new Inclusive Fun Zone while doing it. We encourage Special Friends of all ages to participate.\nAnd after all the work is done… we’ll have an ice cream party!!!\nWant to get your car washed?\nSign up for an appointment\, before they’re all gone. Spots are limited.\n 
URL:https://friendshipcirclenc.org/event/car-wash-fundraiser-and-ice-cream-party/
LOCATION:NC
CATEGORIES:Community,FC Family,FC Friends,FC Parents,P.S. YAC,Teen Friends
ATTACH;FMTTYPE=image/jpeg:https://friendshipcirclenc.org/wp-content/uploads/2022/06/Featured-Event-Image-25.jpg
END:VEVENT
BEGIN:VEVENT
DTSTART;TZID=America/New_York:20211129T173000
DTEND;TZID=America/New_York:20211129T180000
DTSTAMP:20260423T165045
CREATED:20230131T074600Z
LAST-MODIFIED:20230131T074600Z
UID:10000001-1638207000-1638208800@friendshipcirclenc.org
SUMMARY:Art Menorah Celebration @ Queens University
DESCRIPTION:Join us once again as we make our mark at the Charlotte Art Menorah at Queens University.\nJoin all FC Friends and their families to gather outside  and witness the Friendship Flame painted on the beautiful art Menorah designed in tribute to Justice Ruth Bader Ginsburg. Then we’ll light a candle Menorah onsite. \nThis event is part of a national initiative to highlight Jewish Street Art. Learn more about it here.
URL:https://friendshipcirclenc.org/event/art-menorah-celebration-queens-university/
LOCATION:NC
CATEGORIES:Community,FC Family,FC Friends,FC Parents,Teen Friends
ATTACH;FMTTYPE=image/jpeg:https://friendshipcirclenc.org/wp-content/uploads/2023/01/ArtMenorah-QLZcTV.tmp_.jpg
END:VEVENT
BEGIN:VEVENT
DTSTART;TZID=America/New_York:20211128T170000
DTEND;TZID=America/New_York:20211128T190000
DTSTAMP:20260423T165045
CREATED:20230131T074559Z
LAST-MODIFIED:20230131T074559Z
UID:10000007-1638118800-1638126000@friendshipcirclenc.org
SUMMARY:8th Day Concert
DESCRIPTION:HIGHLIGHTSConcert with 8th day\nMenorah lighting\nKosher deli (pre-order)\nADMISSION / TICKETS (Pre-sale ends 11/22)\nGeneral admission\npre-sale $18 / standard $25 (+ FREE entry for Kids 5 and under )\nFamily package\npre-sale $54 / standard $75\nVIP (premium seat) – $118 sales ends 11/22/21\nSPONSORSHIP (Individual and corporate)\nAll levels of sponsorship include:\nSpecial mention at event and dinner\nVIP seats\nSponsor Levels\n$360 – 2 VIP Seats\n$500 – 3 VIP Seats\n$1\,000 – 4 VIP Seats + Medium banner of sponsor name/logo at event\n$1\,800 – 6 VIP Seats  + Medium banner of sponsor name/logo at event\n$5\,000 – 10 VIP seats + Large banner of sponsor name/logo at event
URL:https://friendshipcirclenc.org/event/8th-day-concert/
LOCATION:NC
CATEGORIES:Community,FC Family,FC Friends,FC Parents,Teen Friends
ATTACH;FMTTYPE=image/jpeg:https://friendshipcirclenc.org/wp-content/uploads/2023/01/8thday-Tn9ks3.tmp_.jpg
END:VEVENT
BEGIN:VEVENT
DTSTART;TZID=America/New_York:20211121T153000
DTEND;TZID=America/New_York:20211121T163000
DTSTAMP:20260423T165045
CREATED:20230131T074601Z
LAST-MODIFIED:20230131T074601Z
UID:10000008-1637508600-1637512200@friendshipcirclenc.org
SUMMARY:Paint Ur Piece
DESCRIPTION:Join us to create a masterpiece of self-expression…This is a program for Friendship Circle Friends and Teen Friends. RSVP required.\nThis program will be in-person and outside and will follow all distancing guidelines.
URL:https://friendshipcirclenc.org/event/paint-ur-piece/
LOCATION:NC
CATEGORIES:Community,FC Friends,Teen Friends
ATTACH;FMTTYPE=image/jpeg:https://friendshipcirclenc.org/wp-content/uploads/2023/01/Featured-Event-Image-6-E2N1LU.tmp_.jpg
END:VEVENT
BEGIN:VEVENT
DTSTART;TZID=America/New_York:20211114T123000
DTEND;TZID=America/New_York:20211114T153000
DTSTAMP:20260423T165045
CREATED:20230131T074727Z
LAST-MODIFIED:20230131T074727Z
UID:10000112-1636893000-1636903800@friendshipcirclenc.org
SUMMARY:Pajama Walk
DESCRIPTION:The Pajama Walk is a community walk to raise awareness and funds for Friendship Circle & ZABS Place – two local non-profits offering social opportunities and training & employment for individuals with special needs and talents. Join us in #MakingDreamsComeTrue!Sign up at PajamaWalk.com
URL:https://friendshipcirclenc.org/event/pajama-walk-2/
LOCATION:NC
CATEGORIES:Community,FC Family,FC Friends,FC Parents,Teen Friends
ATTACH;FMTTYPE=image/jpeg:https://friendshipcirclenc.org/wp-content/uploads/2023/01/PajamaWalkSTD-LSJEAw.tmp_.jpg
END:VEVENT
BEGIN:VEVENT
DTSTART;TZID=America/New_York:20210926T153000
DTEND;TZID=America/New_York:20210926T163000
DTSTAMP:20260423T165045
CREATED:20230131T074708Z
LAST-MODIFIED:20230131T074708Z
UID:10000108-1632670200-1632673800@friendshipcirclenc.org
SUMMARY:Sukkarowinds Outdoor Carnival
DESCRIPTION:Join Us For a Family-Style Sukkot Celebration!Get ready to compete in a life-sized board game loaded with holiday challenges and lots of fun! Enjoy a Lulav & Etrog Bungee Run\, Edible Sukkah Craft\, Lulav Ringtoss\, Snacks in the Sukkah\, and a Kosher Hotdog Dinner-to-Go.\nDate: Sunday\, September 26th at 3:30PM\nImportant Safety Requirements:\n– Masks are required for all participants.\n– Physical-Distancing guidelines will be implemented.
URL:https://friendshipcirclenc.org/event/sukkarowinds-outdoor-carnival/
LOCATION:NC
CATEGORIES:Community,FC Family,FC Friends,Teen Friends
ATTACH;FMTTYPE=image/png:https://friendshipcirclenc.org/wp-content/uploads/2023/01/SukkahLand-2-e1632365904285-gsSBrN.tmp_.png
END:VEVENT
BEGIN:VEVENT
DTSTART;TZID=America/New_York:20210506T190000
DTEND;TZID=America/New_York:20210506T190000
DTSTAMP:20260423T165045
CREATED:20230131T075427Z
LAST-MODIFIED:20230131T075427Z
UID:10000134-1620327600-1620327600@friendshipcirclenc.org
SUMMARY:One More Thing I Wish You Knew
DESCRIPTION:Join us for an inspiring and informative virtual evening focused on resilience in our community and learn how you can make a difference for yourself and others.\nEveryone has a story. Now it’s time to listen.\nTwo courageous individuals will share their story of perseverance. \nFeatured Speakers: \nJaime Kosofsky\, Founding partners of the North Carolina based law firm of Brady & Kosofsky.\nJamel Merriman\, Local Artist and ZABS Place Talent \n \nWhen: Thursday\, May 6th at 7:00PM\nWhere: Virtual: Joining link will be emailed to participants after registration.\nA joint program of Jewish Family Services\, UMatter\, and Friendship Circle\nThis event is made possible thanks to the support of the Jewish Federation of Greater Charlotte.
URL:https://friendshipcirclenc.org/event/one-more-thing-i-wish-you-knew/
LOCATION:NC
CATEGORIES:Community,FC Family,FC Friends,FC Parents,Teen Friends
ATTACH;FMTTYPE=image/jpeg:https://friendshipcirclenc.org/wp-content/uploads/2023/01/1morething-E8DgXb.tmp_.jpg
END:VEVENT
BEGIN:VEVENT
DTSTART;TZID=America/New_York:20210124T153000
DTEND;TZID=America/New_York:20210124T163000
DTSTAMP:20260423T165045
CREATED:20230131T075157Z
LAST-MODIFIED:20230131T075157Z
UID:10000037-1611502200-1611505800@friendshipcirclenc.org
SUMMARY:Art
DESCRIPTION:Join us to create a masterpiece of self-expression… RSVP required.\nThis program will be in-person and outside and will follow all distancing guidelines. Masks required.
URL:https://friendshipcirclenc.org/event/art-2/
LOCATION:NC
CATEGORIES:Community,FC Friends,Teen Friends
ATTACH;FMTTYPE=image/jpeg:https://friendshipcirclenc.org/wp-content/uploads/2023/01/Featured-Event-Image-6-E2N1LU.tmp_.jpg
END:VEVENT
BEGIN:VEVENT
DTSTART;TZID=America/New_York:20201213T170000
DTEND;TZID=America/New_York:20201213T180000
DTSTAMP:20260423T165045
CREATED:20230131T075026Z
LAST-MODIFIED:20230131T075026Z
UID:10000118-1607878800-1607882400@friendshipcirclenc.org
SUMMARY:Scissor Lift Menorah Lighting
DESCRIPTION:
URL:https://friendshipcirclenc.org/event/scissor-lift-menorah-lighting/
LOCATION:NC
CATEGORIES:Community,FC Family,FC Friends,FC Parents,Teen Friends
ATTACH;FMTTYPE=image/jpeg:https://friendshipcirclenc.org/wp-content/uploads/2023/01/Featured-Event-Image-2-Ksvuz8.tmp_.jpg
END:VEVENT
BEGIN:VEVENT
DTSTART;TZID=America/New_York:20201213T153000
DTEND;TZID=America/New_York:20201213T170000
DTSTAMP:20260423T165045
CREATED:20230131T075026Z
LAST-MODIFIED:20230131T075026Z
UID:10000117-1607873400-1607878800@friendshipcirclenc.org
SUMMARY:Menorah Parade
DESCRIPTION:
URL:https://friendshipcirclenc.org/event/menorah-parade/
LOCATION:NC
CATEGORIES:Community,FC Family,FC Friends,FC Parents,Teen Friends
ATTACH;FMTTYPE=image/jpeg:https://friendshipcirclenc.org/wp-content/uploads/2023/01/Featured-Event-Image-3-mK35cf.tmp_.jpg
END:VEVENT
BEGIN:VEVENT
DTSTART;TZID=America/New_York:20201118T160000
DTEND;TZID=America/New_York:20201118T163000
DTSTAMP:20260423T165045
CREATED:20230131T075041Z
LAST-MODIFIED:20230131T075041Z
UID:10000123-1605715200-1605717000@friendshipcirclenc.org
SUMMARY:Let’s Cook!
DESCRIPTION:Join Jr. Teen Friend Sara to make some No-Bake Cheesecake.Ingredients:\nGraham Crackers\nCream Cheese\nButter\nRich’s Whip – OR – Heavy Whipping Cream & Sugar
URL:https://friendshipcirclenc.org/event/lets-cook/
LOCATION:NC
CATEGORIES:Community,FC Family,FC Friends,FC Parents
ATTACH;FMTTYPE=image/png:https://friendshipcirclenc.org/wp-content/uploads/2023/01/Lets-cook-8wE1iw.tmp_.png
END:VEVENT
BEGIN:VEVENT
DTSTART;TZID=America/New_York:20201006T160000
DTEND;TZID=America/New_York:20201006T180000
DTSTAMP:20260423T165045
CREATED:20230131T075042Z
LAST-MODIFIED:20230131T075042Z
UID:10000025-1602000000-1602007200@friendshipcirclenc.org
SUMMARY:SukkahLand Carnival
DESCRIPTION:
URL:https://friendshipcirclenc.org/event/sukkahland-carnival/
LOCATION:NC
CATEGORIES:Community,FC Family,FC Friends,Teen Friends
ATTACH;FMTTYPE=image/jpeg:https://friendshipcirclenc.org/wp-content/uploads/2023/01/SukkahLand-Email-Header-1-DRLjti.tmp_.jpg
END:VEVENT
BEGIN:VEVENT
DTSTART;TZID=America/New_York:20200915T170000
DTEND;TZID=America/New_York:20200915T173000
DTSTAMP:20260423T165045
CREATED:20230131T075227Z
LAST-MODIFIED:20230131T075227Z
UID:10000142-1600189200-1600191000@friendshipcirclenc.org
SUMMARY:Music & Movement
DESCRIPTION:Join Risa Cohen\, for 30 minutes of music and movement! This music class is geared toward kids. Brought to you by Friendship Circle of Toledo
URL:https://friendshipcirclenc.org/event/music-movement/
LOCATION:NC
CATEGORIES:Community,FC Family,FC Friends
ATTACH;FMTTYPE=image/jpeg:https://friendshipcirclenc.org/wp-content/uploads/2023/01/Music-and-Dance-Studio-1030x773-e1586144954629-8p9yTR.tmp_.jpg
END:VEVENT
BEGIN:VEVENT
DTSTART;TZID=America/New_York:20200915T153000
DTEND;TZID=America/New_York:20200915T163000
DTSTAMP:20260423T165045
CREATED:20230131T075158Z
LAST-MODIFIED:20230131T075158Z
UID:10000039-1600183800-1600187400@friendshipcirclenc.org
SUMMARY:Let’s Bake!
DESCRIPTION:Join Ms. Sue for some pre-Rosh Hashana baking. Let’s make Honey Cake!Recipe:\n1 c. & 2 T. Flour\n1 tsp. Baking Powder\n¼ tsp. Baking Soda\n¼ tsp. Salt\n1/3 c. Oil\n1/3 c. Honey\n½ c. Sugar\n2½ T. Brown Sugar\n1 large Egg\n½ tsp. Vanilla\n1/3 c. Brewed Coffee\n2½ T. Orange Juice\nInstructions: \nPreheat oven to 350°F and generously grease loaf pan.\nIn a large mixing bowl\, combine flour\, baking powder\, baking soda\, and salt.\nAdd oil.\nMeasure 1/3 cup of honey and save about 1½ Tablespoons for drizzling over the batter\nAdd sugars\, egg\, vanilla\, coffee\, and orange juice.\nMix well until all ingredients are combined and no lumps remain.\nPour the batter into the prepared pan.\nDrizzle the 1½ Tablespoon of honey over the batter.\nBake in the preheated oven until the cake is set all the way through and feels springy to the touch\, about 30 minutes. A tester inserted into the center should come out clean.\nLet cool 15 minutes before removing from the pan. Slide a knife around the edges to help loosen the cake\, if necessary.
URL:https://friendshipcirclenc.org/event/lets-bake-2/
LOCATION:NC
CATEGORIES:Community,FC Family,FC Friends,FC Parents
ATTACH;FMTTYPE=image/jpeg:https://friendshipcirclenc.org/wp-content/uploads/2023/01/Baking-TPx03s.tmp_.jpg
END:VEVENT
BEGIN:VEVENT
DTSTART;TZID=America/New_York:20200908T190000
DTEND;TZID=America/New_York:20200908T200000
DTSTAMP:20260423T165045
CREATED:20230131T075056Z
LAST-MODIFIED:20230131T075056Z
UID:10000022-1599591600-1599595200@friendshipcirclenc.org
SUMMARY:SAY friendsHIp Frienday Kickoff
DESCRIPTION:This Tuesday\, September 8\, Friendship Circle of Charlotte will join FC chapters all around the world to launch our “SAY FRIENDSHIP!” fundraising campaign with a star-studded livestream hosted by Michael Strahan and featuring other stars including Jamie Foxx\, Kodi Lee\, and others. Join us and be ready to be inspired to make friendship a priority in your life and give our special friendships the Fun Zone they deserve!Thanks to a group of generous matchers\, every dollar donated in that time-frame will be doubled. All funds raised during this campaign will support the construction of the inclusive Fun Zone in the future Selkin Family Friendship Circle Center. Take a peek at the layout and plans and see our progress: FriendshipCircleNC.org/NewCenter.
URL:https://friendshipcirclenc.org/event/say-friendship-frienday-kickoff/
LOCATION:NC
CATEGORIES:Community,FC Family,FC Friends,FC Parents,Teen Friends
ATTACH;FMTTYPE=image/jpeg:https://friendshipcirclenc.org/wp-content/uploads/2023/01/Say-Friendship-event-thumbnail-1-FEv956.tmp_.jpg
END:VEVENT
BEGIN:VEVENT
DTSTART;TZID=America/New_York:20200908T120000
DTEND;TZID=America/New_York:20200911T120000
DTSTAMP:20260423T165045
CREATED:20230131T075056Z
LAST-MODIFIED:20230131T075056Z
UID:10000021-1599566400-1599825600@friendshipcirclenc.org
SUMMARY:SAY friendsHIp Fundraising Campaign
DESCRIPTION:For 11 years\, Friendship Circle of Charlotte has provided children with special needs with the friendship\, inclusion\, and emotional support that they deserve. By introducing our Special Friends to typically-developing Teen Friends we are building some of the most genuine friendships in our community and creating a beautiful network of authentic inclusion.On September 8th\, we will kickoff our 72-hr. campaign to raise $150\,000 together. Thanks to a group of generous matchers\, every dollar donated in that time-frame will be doubled. All funds raised during this campaign will support the construction of the inclusive Fun Zone in the future Selkin Family Friendship Circle Center. Take a peek at the layout and plans and see our progress: FriendshipCircleNC.org/NewCenter\nWe’d love to have you get on board and share it with your friends and family so get ready to SAY FRIENDSHIP! and be inspired to give our special friendships the Fun Zone they deserve!
URL:https://friendshipcirclenc.org/event/say-friendship-fundraising-campaign/
LOCATION:NC
CATEGORIES:Community,FC Family,FC Friends,FC Parents,Teen Friends
ATTACH;FMTTYPE=image/jpeg:https://friendshipcirclenc.org/wp-content/uploads/2023/01/Say-Friendship-event-thumbnail-s4DE3n.tmp_.jpg
END:VEVENT
BEGIN:VEVENT
DTSTART;TZID=America/New_York:20200906T160000
DTEND;TZID=America/New_York:20200906T180000
DTSTAMP:20260423T165045
CREATED:20230131T075111Z
LAST-MODIFIED:20230131T075111Z
UID:10000027-1599408000-1599415200@friendshipcirclenc.org
SUMMARY:Drive-Thru Carnival
DESCRIPTION:Don’t be stuck at home this Labor Day Weekend\, join us for an exciting Drive-By CARnival with lots of fun for the whole family!Here’s a peek at what’s happening:\nDrive-By Carnival Games ~ play from your car                             Dunk Bucket\nMagic & Balloon Show                                                                      Tie-Dye\nShofar Making                                                                                    Prizes\nFood for sale\nSo now that you’re excited\, here are some important details. \nTiming: Carnival will be divided into four 30-minute shifts. \nShift 1: 4:00 – 4:30pm                   Shift 3: 5:00 – 5:30pm\nShift 2: 4:30 – 5:00pm                   Shift 4: 5:30 -6:00pm \nPlease make sure you’re choosing the correct time slot. Limited tickets available for each shift so don’t wait to RSVP! \nCost: $5/player (Hot Dog Dinner-to-go will be available for purchase) \nHealth Precautions:  \nMasks are required to play games from outside the car. Carnival games will be playable from inside the car as well\, just more challenging.\nOnsite restrooms will be unavailable. \n \n 
URL:https://friendshipcirclenc.org/event/drive-thru-carnival/
LOCATION:NC
CATEGORIES:Community,FC Family
ATTACH;FMTTYPE=image/png:https://friendshipcirclenc.org/wp-content/uploads/2023/01/FC-CARnival-1-yDlkNm.tmp_.png
END:VEVENT
BEGIN:VEVENT
DTSTART;TZID=America/New_York:20200820T173000
DTEND;TZID=America/New_York:20200820T183000
DTSTAMP:20260423T165045
CREATED:20230131T075356Z
LAST-MODIFIED:20230131T075356Z
UID:10000159-1597944600-1597948200@friendshipcirclenc.org
SUMMARY:Friendship Loaves
DESCRIPTION:Join us for an online Challah Bake!Here’s what you’ll need: \nFlour\nSugar\nOil\nEggs\nYeast\nSalt\nOptional: Cinnamon/Sesame or Poppy Seeds/Minced Onion/Your favorite spice for topping\nMeasuring spoons\nMeasuring cups\nClear plastic/glass cup\nSmall Mixing Bowl\nLarger Mixing Bowl\nBaking Pans (loaf size -OR- cookie sheet -OR- 9×13 pan)
URL:https://friendshipcirclenc.org/event/friendship-loaves-2/
LOCATION:NC
CATEGORIES:Community,FC Family,FC Friends,FC Parents
ATTACH;FMTTYPE=image/jpeg:https://friendshipcirclenc.org/wp-content/uploads/2023/01/friendshiploaves-QjZ4UR.tmp_.jpg
END:VEVENT
BEGIN:VEVENT
DTSTART;TZID=America/New_York:20200716T140000
DTEND;TZID=America/New_York:20200716T150000
DTSTAMP:20260423T165045
CREATED:20230131T075127Z
LAST-MODIFIED:20230131T075127Z
UID:10000128-1594908000-1594911600@friendshipcirclenc.org
SUMMARY:Radio Fun
DESCRIPTION:Join the radio hosts from Spectrum 23.9 as they teach us how to run our own radio show. Learn how a radio station works and about what equipment is used. Listen to a practice show to learn how to prep for your radio show.
URL:https://friendshipcirclenc.org/event/radio-fun/
LOCATION:NC
CATEGORIES:Community,FC Family,FC Friends
ATTACH;FMTTYPE=image/jpeg:https://friendshipcirclenc.org/wp-content/uploads/2023/01/radio-SLvy56.tmp_.jpg
END:VEVENT
BEGIN:VEVENT
DTSTART;TZID=America/New_York:20200708T050000
DTEND;TZID=America/New_York:20200708T060000
DTSTAMP:20260423T165045
CREATED:20230131T075141Z
LAST-MODIFIED:20230131T075141Z
UID:10000132-1594184400-1594188000@friendshipcirclenc.org
SUMMARY:Yoga
DESCRIPTION:Get ready to unwind with Ms. Amy from FC S. Diego who will lead us through a calming yoga session.
URL:https://friendshipcirclenc.org/event/yoga-2/
LOCATION:NC
CATEGORIES:Community,FC Family,FC Friends
ATTACH;FMTTYPE=image/jpeg:https://friendshipcirclenc.org/wp-content/uploads/2023/01/Yoga-qR1kFs.tmp_.jpg
END:VEVENT
BEGIN:VEVENT
DTSTART;TZID=America/New_York:20200707T170000
DTEND;TZID=America/New_York:20200707T180000
DTSTAMP:20260423T165045
CREATED:20230131T075143Z
LAST-MODIFIED:20230131T075143Z
UID:10000034-1594141200-1594144800@friendshipcirclenc.org
SUMMARY:Zumba
DESCRIPTION:Put on your dancing shoes! Join Raquel for 30 minutes of interactive zumba and fun brought to you by Friendship Circle of S. Diego.
URL:https://friendshipcirclenc.org/event/zumba/
LOCATION:NC
CATEGORIES:Community,FC Family,FC Friends
ATTACH;FMTTYPE=image/jpeg:https://friendshipcirclenc.org/wp-content/uploads/2023/01/Zumba-iVauEX.tmp_.jpg
END:VEVENT
BEGIN:VEVENT
DTSTART;TZID=America/New_York:20200628T153000
DTEND;TZID=America/New_York:20200628T163000
DTSTAMP:20260423T165045
CREATED:20230131T075210Z
LAST-MODIFIED:20230131T075210Z
UID:10000031-1593358200-1593361800@friendshipcirclenc.org
SUMMARY:Art with Ms. Amy
DESCRIPTION:Join Ms. Amy to create rock art.Here’s what you’ll need: \nRocks or Marbles (one for each person in your family)\nAcrylic or Washable paints\nPaper\nCardboard box (big enough to fit the paper)
URL:https://friendshipcirclenc.org/event/art-with-ms-amy/
LOCATION:NC
CATEGORIES:Community,FC Family,FC Friends
ATTACH;FMTTYPE=image/jpeg:https://friendshipcirclenc.org/wp-content/uploads/2023/01/ArtMsAmy-ZQDIVk.tmp_.jpg
END:VEVENT
BEGIN:VEVENT
DTSTART;TZID=America/New_York:20200622T110000
DTEND;TZID=America/New_York:20200622T113000
DTSTAMP:20260423T165045
CREATED:20230131T075225Z
LAST-MODIFIED:20230131T075225Z
UID:10000139-1592823600-1592825400@friendshipcirclenc.org
SUMMARY:Dino Show
DESCRIPTION:Join our friend and Dino Specialist Christopher Jr. for some dinosaur tales and fun facts.
URL:https://friendshipcirclenc.org/event/dino-show/
LOCATION:NC
CATEGORIES:Community,FC Family,FC Friends
ATTACH;FMTTYPE=image/jpeg:https://friendshipcirclenc.org/wp-content/uploads/2023/01/dinos-rlUz46.tmp_.jpg
END:VEVENT
BEGIN:VEVENT
DTSTART;TZID=America/New_York:20200611T130000
DTEND;TZID=America/New_York:20200611T133000
DTSTAMP:20260423T165045
CREATED:20230131T075257Z
LAST-MODIFIED:20230131T075257Z
UID:10000042-1591880400-1591882200@friendshipcirclenc.org
SUMMARY:Scavenger Hunt with Ms. Sue
DESCRIPTION:
URL:https://friendshipcirclenc.org/event/scavenger-hunt-with-ms-sue/
LOCATION:NC
CATEGORIES:Community,FC Family,FC Friends
ATTACH;FMTTYPE=image/jpeg:https://friendshipcirclenc.org/wp-content/uploads/2023/01/scavengerhunt-IIJttT.tmp_.jpg
END:VEVENT
BEGIN:VEVENT
DTSTART;TZID=America/New_York:20200611T100000
DTEND;TZID=America/New_York:20200611T110000
DTSTAMP:20260423T165045
CREATED:20230131T075327Z
LAST-MODIFIED:20230131T075327Z
UID:10000150-1591869600-1591873200@friendshipcirclenc.org
SUMMARY:Let’s Make Strawberry Ice Cream
DESCRIPTION:Here’s what you’ll need:\n1 lb. frozen strawberries\, thawed at room temperature for 10 minutes\n14 oz. can sweetened condensed milk\n1 tsp. vanilla extract\nPinch salt\n2 cups heavy cream\, cold
URL:https://friendshipcirclenc.org/event/lets-make-strawberry-ice-cream/
LOCATION:NC
CATEGORIES:Community,FC Family,FC Friends
END:VEVENT
BEGIN:VEVENT
DTSTART;TZID=America/New_York:20200610T100000
DTEND;TZID=America/New_York:20200610T110000
DTSTAMP:20260423T165045
CREATED:20230131T075128Z
LAST-MODIFIED:20230131T075128Z
UID:10000130-1591783200-1591786800@friendshipcirclenc.org
SUMMARY:Let’s Bake!
DESCRIPTION:Join FC Pittsburgh to make some treats.Here’s what you’ll need:\nRecipe #1 \nFiber One Cereal (or any crunchy cereal)\nChocolate chips (meltable chocolate)\nPeanut Butter (or other nut butter/sun butter)\nMixing bowls\nMixing spoon\nMicrowave \nRecipe #2 \n¾ cup Peanut butter (or other nut butter/sun butter)\n1¾ cup Raw Oats\n⅓ cup Honey\n⅓ cup Chocolate chips\nMixing bowls\nMixing spoon
URL:https://friendshipcirclenc.org/event/lets-bake/
LOCATION:NC
CATEGORIES:Community,FC Family,FC Friends,FC Parents
ATTACH;FMTTYPE=image/jpeg:https://friendshipcirclenc.org/wp-content/uploads/2023/01/cereal-bars_tn-PjdgNQ.tmp_.jpg
END:VEVENT
BEGIN:VEVENT
DTSTART;TZID=America/New_York:20200527T130000
DTEND;TZID=America/New_York:20200527T133000
DTSTAMP:20260423T165045
CREATED:20230131T075256Z
LAST-MODIFIED:20230131T075256Z
UID:10000055-1590584400-1590586200@friendshipcirclenc.org
SUMMARY:Game Time
DESCRIPTION:Have fun and play some trivia with FC Pittsburgh. Here is what you’ll need: \nJoin this Zoom event\nVisit kahoot.it website (it might be easier to use a second device – either a computer or phone- for playing the Kahoot game)
URL:https://friendshipcirclenc.org/event/game-time/
LOCATION:NC
CATEGORIES:Community,FC Family,FC Friends
ATTACH;FMTTYPE=image/jpeg:https://friendshipcirclenc.org/wp-content/uploads/2023/01/kahoot-K1r64N.tmp_.jpg
END:VEVENT
END:VCALENDAR