BEGIN:VCALENDAR
VERSION:2.0
PRODID:-//Friendship Circle of Charlotte - ECPv6.15.15//NONSGML v1.0//EN
CALSCALE:GREGORIAN
METHOD:PUBLISH
X-WR-CALNAME:Friendship Circle of Charlotte
X-ORIGINAL-URL:https://friendshipcirclenc.org
X-WR-CALDESC:Events for Friendship Circle of Charlotte
REFRESH-INTERVAL;VALUE=DURATION:PT1H
X-Robots-Tag:noindex
X-PUBLISHED-TTL:PT1H
BEGIN:VTIMEZONE
TZID:America/New_York
BEGIN:DAYLIGHT
TZOFFSETFROM:-0500
TZOFFSETTO:-0400
TZNAME:EDT
DTSTART:20230312T070000
END:DAYLIGHT
BEGIN:STANDARD
TZOFFSETFROM:-0400
TZOFFSETTO:-0500
TZNAME:EST
DTSTART:20231105T060000
END:STANDARD
BEGIN:DAYLIGHT
TZOFFSETFROM:-0500
TZOFFSETTO:-0400
TZNAME:EDT
DTSTART:20240310T070000
END:DAYLIGHT
BEGIN:STANDARD
TZOFFSETFROM:-0400
TZOFFSETTO:-0500
TZNAME:EST
DTSTART:20241103T060000
END:STANDARD
BEGIN:DAYLIGHT
TZOFFSETFROM:-0500
TZOFFSETTO:-0400
TZNAME:EDT
DTSTART:20250309T070000
END:DAYLIGHT
BEGIN:STANDARD
TZOFFSETFROM:-0400
TZOFFSETTO:-0500
TZNAME:EST
DTSTART:20251102T060000
END:STANDARD
BEGIN:DAYLIGHT
TZOFFSETFROM:-0500
TZOFFSETTO:-0400
TZNAME:EDT
DTSTART:20260308T070000
END:DAYLIGHT
BEGIN:STANDARD
TZOFFSETFROM:-0400
TZOFFSETTO:-0500
TZNAME:EST
DTSTART:20261101T060000
END:STANDARD
END:VTIMEZONE
BEGIN:VEVENT
DTSTART;TZID=America/New_York:20250309T153000
DTEND;TZID=America/New_York:20250309T170000
DTSTAMP:20260422T032923
CREATED:20250228T014010Z
LAST-MODIFIED:20250922T144845Z
UID:10000572-1741534200-1741539600@friendshipcirclenc.org
SUMMARY:Purim Party with Seniors
DESCRIPTION:We’re taking a bus from Friendship Circle and heading to Windsor Run Senior Living Community for an inter-generational Purim Party with the “Shalom Club”. Come dressed up in your favorite costume and get ready to play games and celebrate together! This opportunity is in partnership with our Better Together senior program run by Ms. Lauren Stark. \nThere will be transportation to and from Windsor Run. The bus will leave Friendship Circle promptly at 3:35pm and will return at 5:00pm. \nPlease Note: Participation in Friendship Circle programs is for registered friends only.
URL:https://friendshipcirclenc.org/event/purim-party-with-seniors-2/
LOCATION:Selkin Family Friendship Circle Center\, 6619 Sardis Road\, Charlotte\, NC\, 28270\, United States
CATEGORIES:FC Friends,Seniors,Teen Friends
ATTACH;FMTTYPE=image/png:https://friendshipcirclenc.org/wp-content/uploads/2024/02/324-Purim.png
END:VEVENT
BEGIN:VEVENT
DTSTART;TZID=America/New_York:20250309T140000
DTEND;TZID=America/New_York:20250309T150000
DTSTAMP:20260422T032923
CREATED:20240731T210321Z
LAST-MODIFIED:20240731T210321Z
UID:10000510-1741528800-1741532400@friendshipcirclenc.org
SUMMARY:Purim at Windsor Run
DESCRIPTION:Celebrate Purim at Windsor Run.
URL:https://friendshipcirclenc.org/event/purim-at-windsor-run/
LOCATION:Windsor Run\, 2030 Windsor Run Lane\, Matthews\, North Carolina\, 28105
CATEGORIES:Seniors,Teen
ATTACH;FMTTYPE=image/png:https://friendshipcirclenc.org/wp-content/uploads/2023/10/Purim-Party-Sunday-Program.png
ORGANIZER;CN="Lauren Stark":MAILTO:Lauren@friendshipcirclenc.org
END:VEVENT
BEGIN:VEVENT
DTSTART;TZID=America/New_York:20250306T184500
DTEND;TZID=America/New_York:20250306T200000
DTSTAMP:20260422T032923
CREATED:20250219T203848Z
LAST-MODIFIED:20250303T210708Z
UID:10000570-1741286700-1741291200@friendshipcirclenc.org
SUMMARY:Uexpress
DESCRIPTION:Unlock your creativity. Express your truth. Connect with others. \nUexpress is a unique art night designed for teens to explore self-expression in a safe\, supportive\, and judgment-free space. Whether you paint\, draw\, or create in your own way\, this event is all about using art to freely express yourself. No pressure\, no perfection—just a chance to create\, unwind\, and be surrounded by a community that values authenticity. Light refreshments will be served. \nReserve your spot:
URL:https://friendshipcirclenc.org/event/uexpress/
LOCATION:Selkin Family Friendship Circle Center\, 6619 Sardis Road\, Charlotte\, NC\, 28270\, United States
CATEGORIES:UMatter
ATTACH;FMTTYPE=image/png:https://friendshipcirclenc.org/wp-content/uploads/2025/02/Uexpress-36-1.png
ORGANIZER;CN="Mendel Cohen":MAILTO:mendel@friendshipcirclenc.org
END:VEVENT
BEGIN:VEVENT
DTSTART;TZID=America/New_York:20250303T173000
DTEND;TZID=America/New_York:20250303T190000
DTSTAMP:20260422T032923
CREATED:20250225T050046Z
LAST-MODIFIED:20250225T060007Z
UID:10000454-1741023000-1741028400@friendshipcirclenc.org
SUMMARY:YAC: Helping Out
DESCRIPTION:Inviting all P.S. Young Adult Circle friends to get together with the ZABS After Hourz group to have fun and meet new friends\, while we help out and give back. We’re meeting at Friendship Circle for Dinner and Volunteering. We’ll have several project options to choose from so you can find something you enjoy.\n\nAllergy Friendly Dinner will be served. \nP.S. YAC events are designed for our Friends 18+ to experience a sense of independence as they get together with peers and enjoy each other’s friendship. Friends are not paired with a Teen Friend for these programs.
URL:https://friendshipcirclenc.org/event/yac-helping-out/
LOCATION:Selkin Family Friendship Circle Center\, 6619 Sardis Road\, Charlotte\, NC\, 28270\, United States
CATEGORIES:FC Friends,Teen Friends
ATTACH;FMTTYPE=image/png:https://friendshipcirclenc.org/wp-content/uploads/2024/07/YAC-Helping-Out.png
END:VEVENT
BEGIN:VEVENT
DTSTART;TZID=America/New_York:20250302T153000
DTEND;TZID=America/New_York:20250302T170000
DTSTAMP:20260422T032923
CREATED:20250225T043455Z
LAST-MODIFIED:20250305T182847Z
UID:10000456-1740929400-1740934800@friendshipcirclenc.org
SUMMARY:Friendship Bracelets
DESCRIPTION:We can’t think of a better craft to make with a friend than a Friendship Bracelet! It’s the perfect thing to make and share with a friend (or many friends). Friendship Bracelets can match\, or be unique\, and there’s no right or wrong way to do it. Come join us and we’ll learn some great ways to have fun and make bracelets to share with our friends using yarn\, embroidery floss\, or beads. \nParticipation in Friendship Circle programs is for registered friends only.
URL:https://friendshipcirclenc.org/event/friendship-bracelets/
LOCATION:Selkin Family Friendship Circle Center\, 6619 Sardis Road\, Charlotte\, NC\, 28270\, United States
CATEGORIES:FC Friends,Teen Friends
ATTACH;FMTTYPE=image/png:https://friendshipcirclenc.org/wp-content/uploads/2025/02/Website-Featured-Images-23-25.png
END:VEVENT
BEGIN:VEVENT
DTSTART;TZID=America/New_York:20250223T153000
DTEND;TZID=America/New_York:20250223T170000
DTSTAMP:20260422T032923
CREATED:20250211T220048Z
LAST-MODIFIED:20250305T183813Z
UID:10000452-1740324600-1740330000@friendshipcirclenc.org
SUMMARY:Birthday Circle
DESCRIPTION:We’re actively celebrating our February Birthdays this month! Come join Ms. Synthia for some interactive yoga and Sensei Agust to learn some super-friendly Martial Arts Katas. Of course we’ll also have some yummy Birthdays treats. \nParticipation in this Friendship Circle program is for registered friends only.
URL:https://friendshipcirclenc.org/event/feb-birthday-circle/
LOCATION:Chabad of Charlotte\, 6619 Sardis Road\, Charlotte\, NC\, 28270\, United States
CATEGORIES:FC Friends,Teen Friends
ATTACH;FMTTYPE=image/png:https://friendshipcirclenc.org/wp-content/uploads/2024/07/223.png
END:VEVENT
BEGIN:VEVENT
DTSTART;VALUE=DATE:20250216
DTEND;VALUE=DATE:20250217
DTSTAMP:20260422T032923
CREATED:20241128T200356Z
LAST-MODIFIED:20250212T012315Z
UID:10000556-1739664000-1739750399@friendshipcirclenc.org
SUMMARY:President's Weekend - No FC
DESCRIPTION:
URL:https://friendshipcirclenc.org/event/presidents-weekend-no-fc/
LOCATION:Selkin Family Friendship Circle Center\, 6619 Sardis Road\, Charlotte\, NC\, 28270\, United States
CATEGORIES:FC Family,FC Friends,FC Parents
ATTACH;FMTTYPE=image/png:https://friendshipcirclenc.org/wp-content/uploads/2024/11/Website-Featured-Images-23-24-5.png
END:VEVENT
BEGIN:VEVENT
DTSTART;TZID=America/New_York:20250209T153000
DTEND;TZID=America/New_York:20250209T170000
DTSTAMP:20260422T032923
CREATED:20250204T035927Z
LAST-MODIFIED:20250204T035931Z
UID:10000568-1739115000-1739120400@friendshipcirclenc.org
SUMMARY:Game Day Fun
DESCRIPTION:Today’s the BIG DAY and no matter which team you’re cheering for\, we’re gonna have lots of Superbowl Themed fun! Warmup Obstacle Courses\, Jersey races\, Touchdown Dances\, and our own Commercials – we’re gameday ready! Don’t miss out! \nPlease Note: Participation in Friendship Circle programs is for registered friends only.
URL:https://friendshipcirclenc.org/event/game-day-fun/
LOCATION:Chabad of Charlotte\, 6619 Sardis Road\, Charlotte\, NC\, 28270\, United States
CATEGORIES:FC Friends,Teen Friends
ATTACH;FMTTYPE=image/png:https://friendshipcirclenc.org/wp-content/uploads/2025/02/Website-Featured-Images-23-24-4.png
END:VEVENT
BEGIN:VEVENT
DTSTART;TZID=America/New_York:20250209T140000
DTEND;TZID=America/New_York:20250209T150000
DTSTAMP:20260422T032923
CREATED:20240731T210115Z
LAST-MODIFIED:20240731T210115Z
UID:10000507-1739109600-1739113200@friendshipcirclenc.org
SUMMARY:Tu B'Shevat at Windsor Run
DESCRIPTION:Celebrate Tu B’Shevat at Windsor Run.
URL:https://friendshipcirclenc.org/event/tubishevat-at-windsor-run/
LOCATION:Windsor Run\, 2030 Windsor Run Lane\, Matthews\, North Carolina\, 28105
CATEGORIES:Seniors,Teen
ATTACH;FMTTYPE=image/png:https://friendshipcirclenc.org/wp-content/uploads/2024/07/BT-Sunday-at-Windsor-Run.png
ORGANIZER;CN="Lauren Stark":MAILTO:Lauren@friendshipcirclenc.org
END:VEVENT
BEGIN:VEVENT
DTSTART;TZID=America/New_York:20250203T173000
DTEND;TZID=America/New_York:20250203T190000
DTSTAMP:20260422T032923
CREATED:20250129T014745Z
LAST-MODIFIED:20250129T014748Z
UID:10000567-1738603800-1738609200@friendshipcirclenc.org
SUMMARY:YAC: Dinner Out
DESCRIPTION:Inviting all P.S. Young Adult Circle friends to join us for dinner with ZABS After Hourz at HaPina Eatery. Eating out with Friends is fun (and it’s an important life skill!) We’ll get to order from the menu\, place our order\, play some quiet table games\, eat of course\, and learn to tip! Please review HaPina’s Menu for allergy friendly options. \nP.S. YAC events are designed for our Friends 18+ to experience a sense of independence as they get together with peers and enjoy each other’s friendship. Friends are not paired with a Teen Friend for these programs. \nPlease Note: Participation in Friendship Circle programs is for registered friends only.
URL:https://friendshipcirclenc.org/event/yac-dinner-out/
LOCATION:HaPina Eatery\, 6619 Sardis Rd.\, Charlotte\, 28270\, United States
CATEGORIES:P.S. YAC
ATTACH;FMTTYPE=image/png:https://friendshipcirclenc.org/wp-content/uploads/2025/01/YAC-23.png
END:VEVENT
BEGIN:VEVENT
DTSTART;TZID=America/New_York:20250202T153000
DTEND;TZID=America/New_York:20250202T170000
DTSTAMP:20260422T032923
CREATED:20250126T033400Z
LAST-MODIFIED:20250822T155354Z
UID:10000447-1738510200-1738515600@friendshipcirclenc.org
SUMMARY:Time For Art
DESCRIPTION:Art is a fun way to share our feelings and strengthen our friendships! Join us for some creative expression that has so many options to make it perfect for every age and ability. \nPlease Note: Participation in Friendship Circle programs is for registered friends only.
URL:https://friendshipcirclenc.org/event/time-for-art/
LOCATION:Chabad of Charlotte\, 6619 Sardis Road\, Charlotte\, NC\, 28270\, United States
CATEGORIES:FC Friends,Teen Friends
ATTACH;FMTTYPE=image/png:https://friendshipcirclenc.org/wp-content/uploads/2025/01/22-Art.png
END:VEVENT
BEGIN:VEVENT
DTSTART;TZID=America/New_York:20250126T153000
DTEND;TZID=America/New_York:20250126T170000
DTSTAMP:20260422T032923
CREATED:20250121T165228Z
LAST-MODIFIED:20250122T205436Z
UID:10000566-1737905400-1737910800@friendshipcirclenc.org
SUMMARY:Bowling Bash
DESCRIPTION:Join us at Sports Connection Ballantyne for an afternoon of bowling fun. All are welcome\, no prior bowling experience necessary. Bonus: best score of the day wins a prize! Important info: \n\nAll friends must wear their purple Friendship Circle shirt. Please let us know below if you need one.\nAlso\, please make sure your child is wearing SOCKS to wear with their bowling shoes and also knows their SHOE SIZE (you may tell it to a staff member at drop off if you’d prefer).\nPlease drop your children off directly at Sports Connection at 3:30 pm. Pickup will be promptly at 5:00. Please be on time.
URL:https://friendshipcirclenc.org/event/bowling-bash/
LOCATION:Sports Connection – Ballantyne\, 11611 Ardrey Kell Rd.\, Charlotte\, NC\, 28277\, United States
CATEGORIES:FC Friends,Teen Friends
ATTACH;FMTTYPE=image/png:https://friendshipcirclenc.org/wp-content/uploads/2025/01/Bowling-Bash.png
END:VEVENT
BEGIN:VEVENT
DTSTART;TZID=America/New_York:20250119T153000
DTEND;TZID=America/New_York:20250119T170000
DTSTAMP:20260422T032923
CREATED:20250113T034755Z
LAST-MODIFIED:20250113T034759Z
UID:10000565-1737300600-1737306000@friendshipcirclenc.org
SUMMARY:Birthday Circle
DESCRIPTION:Come celebrate our Friends with January birthdays! We’re looking forward to a fantabulous Birthday Circle with lots of games and fun\, and birthday treats of course. \nPlease Note: Participation in Friendship Circle programs is for registered friends only.
URL:https://friendshipcirclenc.org/event/birthday-circle-125/
LOCATION:Chabad of Charlotte\, 6619 Sardis Road\, Charlotte\, NC\, 28270\, United States
CATEGORIES:FC Friends,Teen Friends
ATTACH;FMTTYPE=image/png:https://friendshipcirclenc.org/wp-content/uploads/2023/12/225-Birthday-Circle-1.png
END:VEVENT
BEGIN:VEVENT
DTSTART;TZID=America/New_York:20250112T153000
DTEND;TZID=America/New_York:20250112T170000
DTSTAMP:20260422T032923
CREATED:20250105T225008Z
LAST-MODIFIED:20250105T230244Z
UID:10000445-1736695800-1736701200@friendshipcirclenc.org
SUMMARY:Magic Barry
DESCRIPTION:We’re so excited to be starting off 2025 with a big focus on the MAGIC of Friendship! Come meet Magic Barry who will share some of his magic AND teach us a couple cool tricks too. Plus we’ll have a chance to create our very own “Friendship Balloons”. Don’t miss it! For Friends who are sensitive to noise and have their own noise cancelling/muffling headphones we ask that you send them because balloons do sometimes pop when being shaped.\n\nPlease Note: Participation in Friendship Circle programs is for registered friends only.
URL:https://friendshipcirclenc.org/event/magic-barry/
LOCATION:Selkin Family Friendship Circle Center\, 6619 Sardis Road\, Charlotte\, NC\, 28270\, United States
CATEGORIES:FC Friends,Teen Friends
ATTACH;FMTTYPE=image/png:https://friendshipcirclenc.org/wp-content/uploads/2025/01/112.png
END:VEVENT
BEGIN:VEVENT
DTSTART;TZID=America/New_York:20250112T140000
DTEND;TZID=America/New_York:20250112T150000
DTSTAMP:20260422T032923
CREATED:20240731T205911Z
LAST-MODIFIED:20240731T205911Z
UID:10000506-1736690400-1736694000@friendshipcirclenc.org
SUMMARY:Jewish Trivia at Windsor Run
DESCRIPTION:Let’s have some fun with Jewish Trivia at Windsor Run.
URL:https://friendshipcirclenc.org/event/jewish-trivia-at-windsor-run/
LOCATION:Windsor Run\, 2030 Windsor Run Lane\, Matthews\, North Carolina\, 28105
CATEGORIES:Seniors,Teen
ATTACH;FMTTYPE=image/png:https://friendshipcirclenc.org/wp-content/uploads/2024/07/BT-Sunday-at-Windsor-Run.png
ORGANIZER;CN="Lauren Stark":MAILTO:Lauren@friendshipcirclenc.org
END:VEVENT
BEGIN:VEVENT
DTSTART;TZID=America/New_York:20250111T193000
DTEND;TZID=America/New_York:20250111T210000
DTSTAMP:20260422T032923
CREATED:20250102T184335Z
LAST-MODIFIED:20250112T001337Z
UID:10000564-1736623800-1736629200@friendshipcirclenc.org
SUMMARY:Teen Friends Havdalah and Chill
DESCRIPTION:Calling ALL Friendship Circle Teen Friends! \nLet’s gather around the fire pit and light up the night with our own unique light while learning\, experiencing and sharing the magic of Friendship Circle’s life lessons.
URL:https://friendshipcirclenc.org/event/teen-friends-havdalah-and-chill/
LOCATION:Selkin Family Friendship Circle Center\, 6619 Sardis Road\, Charlotte\, NC\, 28270\, United States
CATEGORIES:Teen Friends
ATTACH;FMTTYPE=image/png:https://friendshipcirclenc.org/wp-content/uploads/2025/01/Teen-Event-111.png
END:VEVENT
BEGIN:VEVENT
DTSTART;TZID=America/New_York:20250106T173000
DTEND;TZID=America/New_York:20250106T190000
DTSTAMP:20260422T032923
CREATED:20241201T045001Z
LAST-MODIFIED:20241201T045049Z
UID:10000558-1736184600-1736190000@friendshipcirclenc.org
SUMMARY:YAC: Gifting Party
DESCRIPTION:Inviting all P.S. Young Adult Circle friends to come celebrate 2025 at a joint Gifting Party with the ZABS After Hourz group. The Holidays are over but we’re squeezing in one last party! Join us and bring a non-food gift item wrapped up (should cost less than $5). We’ll be playing some fun games and everyone will go home with a gift!Allergy Friendly Dinner will be served. \nP.S. YAC events are designed for our Friends 18+ to experience a sense of independence as they get together with peers and enjoy each other’s friendship. Friends are not paired with a Teen Friend for these programs. \nPlease Note: Participation in Friendship Circle programs is for registered friends only.
URL:https://friendshipcirclenc.org/event/yac-jan25/
LOCATION:Selkin Family Friendship Circle Center\, 6619 Sardis Road\, Charlotte\, NC\, 28270\, United States
CATEGORIES:P.S. YAC
ATTACH;FMTTYPE=image/png:https://friendshipcirclenc.org/wp-content/uploads/2024/11/Website-Featured-Images-23-24-1.png
END:VEVENT
BEGIN:VEVENT
DTSTART;VALUE=DATE:20250105
DTEND;VALUE=DATE:20250106
DTSTAMP:20260422T032923
CREATED:20241201T051036Z
LAST-MODIFIED:20241201T051040Z
UID:10000562-1736035200-1736121599@friendshipcirclenc.org
SUMMARY:No FC - Winter Break
DESCRIPTION:There will be no programming on December 22\, December 29\, and January 5th. See you in 2025!
URL:https://friendshipcirclenc.org/event/no-fc-winter-break/2025-01-05/
LOCATION:North Carolina
ATTACH;FMTTYPE=image/png:https://friendshipcirclenc.org/wp-content/uploads/2023/10/Website-Featured-Images-2023.png
END:VEVENT
BEGIN:VEVENT
DTSTART;TZID=America/New_York:20241229T140000
DTEND;TZID=America/New_York:20241229T150000
DTSTAMP:20260422T032923
CREATED:20240731T205259Z
LAST-MODIFIED:20240731T205259Z
UID:10000504-1735480800-1735484400@friendshipcirclenc.org
SUMMARY:Celebrate Chanukah at Windsor Run
DESCRIPTION:Celebrate Chanukah at Windsor Run.
URL:https://friendshipcirclenc.org/event/chanukah-at-windsor-run/
LOCATION:Windsor Run\, 2030 Windsor Run Lane\, Matthews\, North Carolina\, 28105
CATEGORIES:Seniors,Teen
ATTACH;FMTTYPE=image/png:https://friendshipcirclenc.org/wp-content/uploads/2023/09/Chanukah-2-.png
ORGANIZER;CN="Lauren Stark":MAILTO:Lauren@friendshipcirclenc.org
END:VEVENT
BEGIN:VEVENT
DTSTART;VALUE=DATE:20241229
DTEND;VALUE=DATE:20241230
DTSTAMP:20260422T032923
CREATED:20241201T051036Z
LAST-MODIFIED:20241201T051040Z
UID:10000561-1735430400-1735516799@friendshipcirclenc.org
SUMMARY:No FC - Winter Break
DESCRIPTION:There will be no programming on December 22\, December 29\, and January 5th. See you in 2025!
URL:https://friendshipcirclenc.org/event/no-fc-winter-break/2024-12-29/
LOCATION:North Carolina
ATTACH;FMTTYPE=image/png:https://friendshipcirclenc.org/wp-content/uploads/2023/10/Website-Featured-Images-2023.png
END:VEVENT
BEGIN:VEVENT
DTSTART;TZID=America/New_York:20241227T163000
DTEND;TZID=America/New_York:20241227T183000
DTSTAMP:20260422T032923
CREATED:20241201T050523Z
LAST-MODIFIED:20241201T050634Z
UID:10000555-1735317000-1735324200@friendshipcirclenc.org
SUMMARY:Chanukah Shabbat Dinner
DESCRIPTION:We’re excited to bring the extended Friendship Circle Family together – Special Friends\, Teen Friends\, and their Families – for a Traditional Shabbat Dinner with the added light of Chanukah! We’ll light the Menorah and then the Shabbat Candles\, make the Kiddush\, and enjoy delicious Shabbat and Chanukah foods. \nPlease Note: Participation in Friendship Circle programs is for registered friends only.
URL:https://friendshipcirclenc.org/event/chanukah-shabbat-dinner/
LOCATION:Chabad of Charlotte\, 6619 Sardis Road\, Charlotte\, NC\, 28270\, United States
CATEGORIES:FC Family,FC Friends,FC Parents,Teen Friends
ATTACH;FMTTYPE=image/png:https://friendshipcirclenc.org/wp-content/uploads/2024/11/1227-Chanukah-Party.png
END:VEVENT
BEGIN:VEVENT
DTSTART;VALUE=DATE:20241222
DTEND;VALUE=DATE:20241223
DTSTAMP:20260422T032923
CREATED:20241201T051036Z
LAST-MODIFIED:20241201T051040Z
UID:10000560-1734825600-1734911999@friendshipcirclenc.org
SUMMARY:No FC - Winter Break
DESCRIPTION:There will be no programming on December 22\, December 29\, and January 5th. See you in 2025!
URL:https://friendshipcirclenc.org/event/no-fc-winter-break/2024-12-22/
LOCATION:North Carolina
ATTACH;FMTTYPE=image/png:https://friendshipcirclenc.org/wp-content/uploads/2023/10/Website-Featured-Images-2023.png
END:VEVENT
BEGIN:VEVENT
DTSTART;TZID=America/New_York:20241219T190000
DTEND;TZID=America/New_York:20241219T203000
DTSTAMP:20260422T032923
CREATED:20241204T031942Z
LAST-MODIFIED:20241204T032043Z
UID:10000563-1734634800-1734640200@friendshipcirclenc.org
SUMMARY:Moms Night Out
DESCRIPTION:Inviting all Friendship Circle Moms to come join us for a relaxing and fun evening. Enjoy some drinks (wine and others) and light snacks and prepare for the laughs and competition of a white elephant gift exchange. \nPlease bring a small wrapped gift $5 or less.
URL:https://friendshipcirclenc.org/event/moms-night-out-24/
LOCATION:North Carolina
ATTACH;FMTTYPE=image/png:https://friendshipcirclenc.org/wp-content/uploads/2024/12/1219-Parents.png
END:VEVENT
BEGIN:VEVENT
DTSTART;TZID=America/New_York:20241215T153000
DTEND;TZID=America/New_York:20241215T170000
DTSTAMP:20260422T032923
CREATED:20241201T045745Z
LAST-MODIFIED:20241209T154533Z
UID:10000442-1734276600-1734282000@friendshipcirclenc.org
SUMMARY:Chanukah Cookie Baking
DESCRIPTION:Let’s get ready for Chanukah with a Chanukah Cookie Bake while we celebrate our December Birthdays! We’ll learn about the shapes and symbols\, make and decorate some cookies\, and prep some for dessert at our Shabbat Chanukah Dinner. (Don’t worry\, there will be plenty to taste\, take home\, and save!)  \nParticipation in Friendship Circle programs is for registered Friends only.
URL:https://friendshipcirclenc.org/event/chanukah-cookie-baking/
LOCATION:Selkin Family Friendship Circle Center\, 6619 Sardis Road\, Charlotte\, NC\, 28270\, United States
CATEGORIES:FC Friends,Teen Friends
ATTACH;FMTTYPE=image/png:https://friendshipcirclenc.org/wp-content/uploads/2024/11/1215-Cooking-Circle.png
END:VEVENT
BEGIN:VEVENT
DTSTART;TZID=America/New_York:20241209T173000
DTEND;TZID=America/New_York:20241209T190000
DTSTAMP:20260422T032923
CREATED:20241201T034933Z
LAST-MODIFIED:20241201T041844Z
UID:10000557-1733765400-1733770800@friendshipcirclenc.org
SUMMARY:YAC: Bingo Night
DESCRIPTION:For our December Philip Sperling Young Adult Circle event we’re having a joint Bingo Night with the ZABS After Hourz group. Come enjoy a fun game with prizes and a special twist. For extra fun we’ll be making our own mini-waffles for dinner and topping them with our favorites.Gluten & Dairy Free options will be available. \nP.S. YAC events are designed for our Friends 18+ to experience a sense of independence as they get together with peers and enjoy each other’s friendship. Friends are not paired with a Teen Friend for these programs. \nPlease Note: Participation in Friendship Circle programs is for registered friends only.
URL:https://friendshipcirclenc.org/event/yac-bingo-night24/
LOCATION:Selkin Family Friendship Circle Center\, 6619 Sardis Road\, Charlotte\, NC\, 28270\, United States
CATEGORIES:P.S. YAC
ATTACH;FMTTYPE=image/png:https://friendshipcirclenc.org/wp-content/uploads/2024/03/ZAH-Facebook-events-1.png
END:VEVENT
BEGIN:VEVENT
DTSTART;TZID=America/New_York:20241208T153000
DTEND;TZID=America/New_York:20241208T170000
DTSTAMP:20260422T032923
CREATED:20241202T032142Z
LAST-MODIFIED:20241202T032243Z
UID:10000440-1733671800-1733677200@friendshipcirclenc.org
SUMMARY:Yoga Fun
DESCRIPTION:There’s lots of excitement during the holidays and that’s why we’re looking forward to Ms. Synthia showing us some fun and calming ways to enjoy this special time of year. Join us for some enjoyable yoga that’s interesting for everyone! \nPlease Note: Participation in Friendship Circle programs is for registered friends only.
URL:https://friendshipcirclenc.org/event/yoga-fun/
LOCATION:Selkin Family Friendship Circle Center\, 6619 Sardis Road\, Charlotte\, NC\, 28270\, United States
CATEGORIES:FC Friends,Teen Friends
ATTACH;FMTTYPE=image/png:https://friendshipcirclenc.org/wp-content/uploads/2024/07/128-Yoga.png
END:VEVENT
BEGIN:VEVENT
DTSTART;VALUE=DATE:20241201
DTEND;VALUE=DATE:20241202
DTSTAMP:20260422T032923
CREATED:20241119T235815Z
LAST-MODIFIED:20241119T235815Z
UID:10000554-1733011200-1733097599@friendshipcirclenc.org
SUMMARY:No FC - Thanksgiving Weekend
DESCRIPTION:We hope you and your families have a lovely Thanksgiving holiday! \n– Friendship Circle Team
URL:https://friendshipcirclenc.org/event/no-fc-thanksgiving-weekend-2/
LOCATION:Selkin Family Friendship Circle Center\, 6619 Sardis Road\, Charlotte\, NC\, 28270\, United States
CATEGORIES:FC Family,FC Friends,Teen Friends
ATTACH;FMTTYPE=image/png:https://friendshipcirclenc.org/wp-content/uploads/2024/11/1127Thanksgiving-NO-FC.png
END:VEVENT
BEGIN:VEVENT
DTSTART;TZID=America/New_York:20241124T153000
DTEND;TZID=America/New_York:20241124T170000
DTSTAMP:20260422T032923
CREATED:20241119T235241Z
LAST-MODIFIED:20241119T235244Z
UID:10000553-1732462200-1732467600@friendshipcirclenc.org
SUMMARY:Fun in the Zone
DESCRIPTION:Come join us to hang out! That’s it! We’re getting together at Friendship Circle to enjoy all our favorite things about our Fun Zone. Don’t miss out on the fun and the chance to choose your own adventure! \nPlease Note: Participation in Friendship Circle programs is for registered friends only.
URL:https://friendshipcirclenc.org/event/fun-in-the-zone/
LOCATION:Selkin Family Friendship Circle Center\, 6619 Sardis Road\, Charlotte\, NC\, 28270\, United States
CATEGORIES:FC Friends,Teen Friends
ATTACH;FMTTYPE=image/png:https://friendshipcirclenc.org/wp-content/uploads/2024/11/1124-Free-Play.png
END:VEVENT
BEGIN:VEVENT
DTSTART;TZID=America/New_York:20241117T100000
DTEND;TZID=America/New_York:20241117T110000
DTSTAMP:20260422T032923
CREATED:20231016T153417Z
LAST-MODIFIED:20240731T203510Z
UID:10000277-1731837600-1731841200@friendshipcirclenc.org
SUMMARY:Israeli Dancing at Windsor Run
DESCRIPTION:Watch Israeli folk dancers with the Shalom Club at Windsor Run. You may even get to join in the fun! November 17\, 10:00 – 11:00am.
URL:https://friendshipcirclenc.org/event/sunday-program-at-windsor-run-4/
LOCATION:Windsor Run\, 2030 Windsor Run Lane\, Matthews\, North Carolina\, 28105
CATEGORIES:Seniors,Teen
ATTACH;FMTTYPE=image/png:https://friendshipcirclenc.org/wp-content/uploads/2023/10/IsraeliDance-Windsor-Run-1.png
ORGANIZER;CN="Lauren Stark":MAILTO:Lauren@friendshipcirclenc.org
END:VEVENT
BEGIN:VEVENT
DTSTART;TZID=America/New_York:20241110T153000
DTEND;TZID=America/New_York:20241110T170000
DTSTAMP:20260422T032923
CREATED:20241106T045945Z
LAST-MODIFIED:20241107T153922Z
UID:10000435-1731252600-1731258000@friendshipcirclenc.org
SUMMARY:Birthday Circle & Pajama Walk Practice
DESCRIPTION:Our annual Pajama Walk is coming up on November 17 and we’re getting into the spirit by coming together to practice the fun we’ll have with our Friends up on stage as part of the opening ceremony. Join us to celebrate our November birthdays and get comfortable being in front of an audience.  \nHere’s the plan: Friends will be introduced by our MC\, who will share a fun fact about them\, as they come up and stand with their friend\, and show off their fun pajamas! No runway experience required. \nEven if you’re not sure you want go on stage at the Pajama Walk\, we’d still love for you to come to Friendship Circle for this program\, you can be part of our audience!
URL:https://friendshipcirclenc.org/event/birthday-circle-pajama-walk-practice/
LOCATION:Selkin Family Friendship Circle Center\, 6619 Sardis Road\, Charlotte\, NC\, 28270\, United States
CATEGORIES:FC Friends,Teen Friends
ATTACH;FMTTYPE=image/jpeg:https://friendshipcirclenc.org/wp-content/uploads/2023/08/1022-Catwalk-Rehearsal.jpg
END:VEVENT
END:VCALENDAR