BEGIN:VCALENDAR
VERSION:2.0
PRODID:-//Friendship Circle of Charlotte - ECPv6.15.15//NONSGML v1.0//EN
CALSCALE:GREGORIAN
METHOD:PUBLISH
X-ORIGINAL-URL:https://friendshipcirclenc.org
X-WR-CALDESC:Events for Friendship Circle of Charlotte
REFRESH-INTERVAL;VALUE=DURATION:PT1H
X-Robots-Tag:noindex
X-PUBLISHED-TTL:PT1H
BEGIN:VTIMEZONE
TZID:America/New_York
BEGIN:DAYLIGHT
TZOFFSETFROM:-0500
TZOFFSETTO:-0400
TZNAME:EDT
DTSTART:20220313T070000
END:DAYLIGHT
BEGIN:STANDARD
TZOFFSETFROM:-0400
TZOFFSETTO:-0500
TZNAME:EST
DTSTART:20221106T060000
END:STANDARD
BEGIN:DAYLIGHT
TZOFFSETFROM:-0500
TZOFFSETTO:-0400
TZNAME:EDT
DTSTART:20230312T070000
END:DAYLIGHT
BEGIN:STANDARD
TZOFFSETFROM:-0400
TZOFFSETTO:-0500
TZNAME:EST
DTSTART:20231105T060000
END:STANDARD
BEGIN:DAYLIGHT
TZOFFSETFROM:-0500
TZOFFSETTO:-0400
TZNAME:EDT
DTSTART:20240310T070000
END:DAYLIGHT
BEGIN:STANDARD
TZOFFSETFROM:-0400
TZOFFSETTO:-0500
TZNAME:EST
DTSTART:20241103T060000
END:STANDARD
BEGIN:DAYLIGHT
TZOFFSETFROM:-0500
TZOFFSETTO:-0400
TZNAME:EDT
DTSTART:20250309T070000
END:DAYLIGHT
BEGIN:STANDARD
TZOFFSETFROM:-0400
TZOFFSETTO:-0500
TZNAME:EST
DTSTART:20251102T060000
END:STANDARD
END:VTIMEZONE
BEGIN:VEVENT
DTSTART;TZID=America/New_York:20240121T150000
DTEND;TZID=America/New_York:20240121T163000
DTSTAMP:20260423T010457
CREATED:20231218T180110Z
LAST-MODIFIED:20240112T060015Z
UID:10000295-1705849200-1705854600@friendshipcirclenc.org
SUMMARY:Birthday Circle: Pottery Painting
DESCRIPTION:Join us at Dish it Out to celebrate the first Birthday Circle of 2024! We’ll be painting pottery\, enjoying birthday treats\, and having lots of FRIENDly fun! Come with your creativity turned warmed up and please don’t wear anything you wouldn’t want to get paint on. Creativity can get messy. \nPlease Note: The timing of this program is 3-4:30pm and dropoff and pickup will be at Dish It Out. \nParticipation in Friendship Circle programs is for registered friends only.
URL:https://friendshipcirclenc.org/event/birthday-circle-pottery/
LOCATION:Dish It Out\, 7828 Rea Rd-C\, 28277
CATEGORIES:FC Friends,Teen Friends
ATTACH;FMTTYPE=image/png:https://friendshipcirclenc.org/wp-content/uploads/2023/12/121-Birthday-Circle.png
END:VEVENT
BEGIN:VEVENT
DTSTART;TZID=America/New_York:20240121T133000
DTEND;TZID=America/New_York:20240121T143000
DTSTAMP:20260423T010457
CREATED:20231016T153809Z
LAST-MODIFIED:20231127T023107Z
UID:10000278-1705843800-1705847400@friendshipcirclenc.org
SUMMARY:Sunday Program at Merrywood on Park
DESCRIPTION:Senior program at Merrywood on Park: Drum Circle.
URL:https://friendshipcirclenc.org/event/sunday-program-at-merrywood-on-park/
LOCATION:Merrywood on Park\, 3600 Park Road\, Charlotte\, NC\, 28209\, United States
CATEGORIES:Seniors,Teen
ATTACH;FMTTYPE=image/png:https://friendshipcirclenc.org/wp-content/uploads/2023/10/Drum-Circle-Sunday-Program.png
ORGANIZER;CN="Lauren Stark":MAILTO:Lauren@friendshipcirclenc.org
END:VEVENT
BEGIN:VEVENT
DTSTART;TZID=America/New_York:20240118T180000
DTEND;TZID=America/New_York:20240118T193000
DTSTAMP:20260423T010457
CREATED:20231231T015323Z
LAST-MODIFIED:20231231T015435Z
UID:10000305-1705600800-1705606200@friendshipcirclenc.org
SUMMARY:Walk In My Shoes
DESCRIPTION:Inviting ALL Teen Friends to join us for an incredible sensory experience to help understand our Special Friends and come up with fun ways to support them in having fun at Friendship Circle. \nLight dinner will be served so bring your appetite! \nThis is a must attend event for all Teen Friends. If you have a schedule conflict please let us know.
URL:https://friendshipcirclenc.org/event/teen-friend-workshop24/
LOCATION:Selkin Family Friendship Circle Center\, 6619 Sardis Road\, Charlotte\, NC\, 28270\, United States
CATEGORIES:Teen,Teen Friends
ATTACH;FMTTYPE=image/png:https://friendshipcirclenc.org/wp-content/uploads/2023/12/118-Teen-Workshop.png
END:VEVENT
BEGIN:VEVENT
DTSTART;TZID=America/New_York:20240118T140000
DTEND;TZID=America/New_York:20240118T150000
DTSTAMP:20260423T010457
CREATED:20230926T153100Z
LAST-MODIFIED:20231027T171419Z
UID:10000261-1705586400-1705590000@friendshipcirclenc.org
SUMMARY:CJDS Senior Visit
DESCRIPTION:CJDS middle school student visit with senior buddies.
URL:https://friendshipcirclenc.org/event/cjds-senior-visit-6/
LOCATION:The Barclay at Southpark\, 4801 Barclay Downs Drive\, Charlotte\, United States
CATEGORIES:Seniors,Teen
ATTACH;FMTTYPE=image/png:https://friendshipcirclenc.org/wp-content/uploads/2023/09/BT-CJDS1.png
ORGANIZER;CN="Lauren Stark":MAILTO:Lauren@friendshipcirclenc.org
END:VEVENT
BEGIN:VEVENT
DTSTART;TZID=America/New_York:20240114T153000
DTEND;TZID=America/New_York:20240114T163000
DTSTAMP:20260423T010457
CREATED:20231218T175851Z
LAST-MODIFIED:20231227T051451Z
UID:10000294-1705246200-1705249800@friendshipcirclenc.org
SUMMARY:Yoga & Mindfulness
DESCRIPTION:Join us for a fun and relaxing yoga. Ms. Synthia will teach us tips and tricks to help us “turn on the calm” when we’re feeling a bit too excited. Come spend quality time with Friends over this Holiday Weekend (MLK). \nPlease Note: Participation in Friendship Circle programs is for registered friends only.
URL:https://friendshipcirclenc.org/event/yoga-mindfulness/
LOCATION:Selkin Family Friendship Circle Center\, 6619 Sardis Road\, Charlotte\, NC\, 28270\, United States
CATEGORIES:FC Friends,Teen Friends
ATTACH;FMTTYPE=image/png:https://friendshipcirclenc.org/wp-content/uploads/2023/12/114-Yoga.png
END:VEVENT
BEGIN:VEVENT
DTSTART;TZID=America/New_York:20240111T140000
DTEND;TZID=America/New_York:20240111T150000
DTSTAMP:20260423T010457
CREATED:20230926T153011Z
LAST-MODIFIED:20230926T185809Z
UID:10000260-1704981600-1704985200@friendshipcirclenc.org
SUMMARY:CJDS Senior Visit
DESCRIPTION:CJDS middle school student visit with senior buddies.
URL:https://friendshipcirclenc.org/event/cjds-senior-visit-5/
LOCATION:Waltonwood – Cotswold\, 5215 Randolph Road\, Charlotte\, NC\, 28211\, United States
CATEGORIES:Seniors,Teen
ATTACH;FMTTYPE=image/png:https://friendshipcirclenc.org/wp-content/uploads/2023/09/BT-CJDS1.png
ORGANIZER;CN="Lauren Stark":MAILTO:Lauren@friendshipcirclenc.org
END:VEVENT
BEGIN:VEVENT
DTSTART;TZID=America/New_York:20240107T153000
DTEND;TZID=America/New_York:20240107T170000
DTSTAMP:20260423T010457
CREATED:20231218T175747Z
LAST-MODIFIED:20231227T051451Z
UID:10000293-1704641400-1704646800@friendshipcirclenc.org
SUMMARY:Squishy Sunday Funday
DESCRIPTION:Join us for a DIY day full of sensory science. Learn how to make your very own Slime\, Playdoh\, Squishies for you or to trade with your Friend\, + other soft and fun fidget-friendly goodies. \nPlease Note: Participation in Friendship Circle programs is for registered friends only.
URL:https://friendshipcirclenc.org/event/squishy-fun/
LOCATION:Selkin Family Friendship Circle Center\, 6619 Sardis Road\, Charlotte\, NC\, 28270\, United States
CATEGORIES:FC Friends,Teen Friends
ATTACH;FMTTYPE=image/png:https://friendshipcirclenc.org/wp-content/uploads/2023/12/17-Slime-Squishy.png
END:VEVENT
BEGIN:VEVENT
DTSTART;TZID=America/New_York:20240107T140000
DTEND;TZID=America/New_York:20240107T143000
DTSTAMP:20260423T010457
CREATED:20231016T152339Z
LAST-MODIFIED:20231220T204622Z
UID:10000273-1704636000-1704637800@friendshipcirclenc.org
SUMMARY:Meet & Greet at Windsor Run
DESCRIPTION:Meet & Greet the Windsor Run Shalom Club members in The Tavern Room at the Clubhouse.
URL:https://friendshipcirclenc.org/event/sunday-program-at-windsor-run/
LOCATION:Windsor Run\, 2030 Windsor Run Lane\, Matthews\, North Carolina\, 28105
CATEGORIES:Seniors,Teen
ATTACH;FMTTYPE=image/png:https://friendshipcirclenc.org/wp-content/uploads/2023/10/BT-Windsor-Run-Meet-and-Greet.png
ORGANIZER;CN="Lauren Stark":MAILTO:Lauren@friendshipcirclenc.org
END:VEVENT
BEGIN:VEVENT
DTSTART;TZID=America/New_York:20240104T140000
DTEND;TZID=America/New_York:20240104T150000
DTSTAMP:20260423T010457
CREATED:20230926T152854Z
LAST-MODIFIED:20231027T171339Z
UID:10000259-1704376800-1704380400@friendshipcirclenc.org
SUMMARY:CJDS Senior Visit
DESCRIPTION:CJDS middle school student visit with senior buddies.
URL:https://friendshipcirclenc.org/event/cjds-senior-visit-4/
LOCATION:The Barclay at Southpark\, 4801 Barclay Downs Drive\, Charlotte\, United States
CATEGORIES:Seniors,Teen
ATTACH;FMTTYPE=image/png:https://friendshipcirclenc.org/wp-content/uploads/2023/09/BT-CJDS1.png
ORGANIZER;CN="Lauren Stark":MAILTO:Lauren@friendshipcirclenc.org
END:VEVENT
BEGIN:VEVENT
DTSTART;TZID=America/New_York:20240101T173000
DTEND;TZID=America/New_York:20240101T190000
DTSTAMP:20260423T010457
CREATED:20231227T033553Z
LAST-MODIFIED:20231227T051452Z
UID:10000304-1704130200-1704135600@friendshipcirclenc.org
SUMMARY:Young Adult Circle - New Years
DESCRIPTION:placeholder
URL:https://friendshipcirclenc.org/event/young-adult-circle-new-years/
LOCATION:Selkin Family Friendship Circle Center\, 6619 Sardis Road\, Charlotte\, NC\, 28270\, United States
CATEGORIES:P.S. YAC
ATTACH;FMTTYPE=image/png:https://friendshipcirclenc.org/wp-content/uploads/2023/12/11-YACZAH.png
END:VEVENT
BEGIN:VEVENT
DTSTART;VALUE=DATE:20231231
DTEND;VALUE=DATE:20240101
DTSTAMP:20260423T010457
CREATED:20231020T181441Z
LAST-MODIFIED:20231227T051452Z
UID:10000290-1703980800-1704067199@friendshipcirclenc.org
SUMMARY:No FC - Winter Break
DESCRIPTION:Friendship Circle will be closed on December 31. See you in 2024!
URL:https://friendshipcirclenc.org/event/winter-break232/
LOCATION:NC
ATTACH;FMTTYPE=image/png:https://friendshipcirclenc.org/wp-content/uploads/2023/10/Website-Featured-Images-2023.png
END:VEVENT
BEGIN:VEVENT
DTSTART;VALUE=DATE:20231224
DTEND;VALUE=DATE:20231225
DTSTAMP:20260423T010457
CREATED:20231020T181345Z
LAST-MODIFIED:20231116T062416Z
UID:10000289-1703376000-1703462399@friendshipcirclenc.org
SUMMARY:No FC - Winter Break
DESCRIPTION:There will be no programming on December 24. See you in 2024!
URL:https://friendshipcirclenc.org/event/winter-break231/
LOCATION:NC
ATTACH;FMTTYPE=image/png:https://friendshipcirclenc.org/wp-content/uploads/2023/10/Website-Featured-Images-2023.png
END:VEVENT
BEGIN:VEVENT
DTSTART;TZID=America/New_York:20231217T153000
DTEND;TZID=America/New_York:20231217T170000
DTSTAMP:20260423T010457
CREATED:20231020T181107Z
LAST-MODIFIED:20231116T062323Z
UID:10000288-1702827000-1702832400@friendshipcirclenc.org
SUMMARY:Birthday Circle: Martial Arts
DESCRIPTION:Come celebrate our December birthdays and learn some self-defense skills. We will be joined by instructors from Fit to Fight Krava Maga Studio. All ages and ability levels welcome. \nParticipation in Friendship Circle programs is for registered friends only.
URL:https://friendshipcirclenc.org/event/december-birthday-circle-martial-arts/
LOCATION:Chabad of Charlotte\, 6619 Sardis Road\, Charlotte\, NC\, 28270\, United States
CATEGORIES:FC Friends,Teen Friends
ATTACH;FMTTYPE=image/png:https://friendshipcirclenc.org/wp-content/uploads/2023/10/Martial-Arts.png
END:VEVENT
BEGIN:VEVENT
DTSTART;TZID=America/New_York:20231214T173000
DTEND;TZID=America/New_York:20231214T190000
DTSTAMP:20260423T010457
CREATED:20231031T205848Z
LAST-MODIFIED:20231212T160559Z
UID:10000291-1702575000-1702580400@friendshipcirclenc.org
SUMMARY:Friendship Circle Family Chanukah Event
DESCRIPTION:All of our Friends and their families are invited to celebrate Chanukah at Friendship Circle. More details to come– stay tuned!
URL:https://friendshipcirclenc.org/event/friendship-circle-family-chanukah-event/
LOCATION:Selkin Family Friendship Circle Center\, 6619 Sardis Road\, Charlotte\, NC\, 28270\, United States
CATEGORIES:FC Family,FC Friends,FC Parents,Teen Friends
ATTACH;FMTTYPE=image/png:https://friendshipcirclenc.org/wp-content/uploads/2023/10/1214-Chanukah-Party.png
END:VEVENT
BEGIN:VEVENT
DTSTART;TZID=America/New_York:20231214T140000
DTEND;TZID=America/New_York:20231214T150000
DTSTAMP:20260423T010457
CREATED:20230911T193504Z
LAST-MODIFIED:20230926T194206Z
UID:10000258-1702562400-1702566000@friendshipcirclenc.org
SUMMARY:CJDS Senior Visit
DESCRIPTION:CJDS celebrates Chanukah with their senior buddies. Students will ask their buddies about Chanukah traditions and memories. The buddies will play a Chanukah anagram game. How many words can you make from these letters?
URL:https://friendshipcirclenc.org/event/cjds-senior-visit-3/
LOCATION:Waltonwood – Cotswold\, 5215 Randolph Road\, Charlotte\, NC\, 28211\, United States
CATEGORIES:Seniors,Teen
ATTACH;FMTTYPE=image/png:https://friendshipcirclenc.org/wp-content/uploads/2023/09/BT-CJDS-Chan-8.png
ORGANIZER;CN="Lauren Stark":MAILTO:Lauren@friendshipcirclenc.org
END:VEVENT
BEGIN:VEVENT
DTSTART;TZID=America/New_York:20231210T180000
DTEND;TZID=America/New_York:20231210T210000
DTSTAMP:20260423T010457
CREATED:20231020T180322Z
LAST-MODIFIED:20231031T210232Z
UID:10000287-1702231200-1702242000@friendshipcirclenc.org
SUMMARY:Chanukah Concert
DESCRIPTION:Meet up with your Friends at the Community Chanukah Concert featuring Nissim Black. \nPlease wear your purple Friendship Circle shirt. More info to come.
URL:https://friendshipcirclenc.org/event/chanukah-concert/
LOCATION:Le Meridien\, 555 S. McDowell St. Tower\, Charlotte\, NC
CATEGORIES:FC Family,FC Friends,FC Parents,Teen Friends
ATTACH;FMTTYPE=image/jpeg:https://friendshipcirclenc.org/wp-content/uploads/2023/10/nissimblack-e1698373346933.jpg
END:VEVENT
BEGIN:VEVENT
DTSTART;TZID=America/New_York:20231210T133000
DTEND;TZID=America/New_York:20231210T143000
DTSTAMP:20260423T010457
CREATED:20230911T193059Z
LAST-MODIFIED:20230926T195157Z
UID:10000257-1702215000-1702218600@friendshipcirclenc.org
SUMMARY:Your Neighbor Celebrates: Chanukah
DESCRIPTION:Your Neighbor Celebrates Chanukah with the residents at Merrywood. We’ll enjoy some latkes and play dreidel.
URL:https://friendshipcirclenc.org/event/neighbor-celebrates-chanukah/
LOCATION:Merrywood on Park\, 3600 Park Road\, Charlotte\, NC\, 28209\, United States
CATEGORIES:Seniors,Teen
ATTACH;FMTTYPE=image/png:https://friendshipcirclenc.org/wp-content/uploads/2023/09/Chanukah-2-.png
ORGANIZER;CN="Lauren Stark":MAILTO:Lauren@friendshipcirclenc.org
END:VEVENT
BEGIN:VEVENT
DTSTART;TZID=America/New_York:20231207T140000
DTEND;TZID=America/New_York:20231207T150000
DTSTAMP:20260423T010457
CREATED:20230911T192259Z
LAST-MODIFIED:20231027T171251Z
UID:10000256-1701957600-1701961200@friendshipcirclenc.org
SUMMARY:CJDS Senior Visit
DESCRIPTION:CJDS celebrates Chanukah with their senior buddy by making beeswax candles and menorahs.
URL:https://friendshipcirclenc.org/event/cjds-senior-visit-2/
LOCATION:The Barclay at Southpark\, 4801 Barclay Downs Drive\, Charlotte\, United States
CATEGORIES:Seniors,Teen
ATTACH;FMTTYPE=image/png:https://friendshipcirclenc.org/wp-content/uploads/2023/09/BT-CJDS-Meet-and-Greet.png
ORGANIZER;CN="Lauren Stark":MAILTO:Lauren@friendshipcirclenc.org
END:VEVENT
BEGIN:VEVENT
DTSTART;TZID=America/New_York:20231204T173000
DTEND;TZID=America/New_York:20231204T190000
DTSTAMP:20260423T010457
CREATED:20231120T013458Z
LAST-MODIFIED:20231126T221735Z
UID:10000292-1701711000-1701716400@friendshipcirclenc.org
SUMMARY:Young Adult Circle
DESCRIPTION:Calling all Friendship Circle Young Adults & ZABS Talent: come on out and have some fun with us at December Young Adult Circle! Dinner will be provided. \nPlease RSVP here \nMust be age 16 or older to participate.  These gatherings are not intended for Parent or Guardian participation. A fee of $5 is required to participate in Young Adult Circle.
URL:https://friendshipcirclenc.org/event/young-adult-circle/
LOCATION:Selkin Family Friendship Circle Center\, 6619 Sardis Road\, Charlotte\, NC\, 28270\, United States
CATEGORIES:FC Friends,Teen Friends
ATTACH;FMTTYPE=image/png:https://friendshipcirclenc.org/wp-content/uploads/2023/11/124-Young-Adult-Circle.png
END:VEVENT
BEGIN:VEVENT
DTSTART;TZID=America/New_York:20231203T154500
DTEND;TZID=America/New_York:20231203T170000
DTSTAMP:20260423T010457
CREATED:20231020T174432Z
LAST-MODIFIED:20231116T170900Z
UID:10000286-1701618300-1701622800@friendshipcirclenc.org
SUMMARY:Bowling
DESCRIPTION:Join us at Spare Time Bowling in Pineville for an afternoon of bowling fun. All are welcome\, no prior bowling experience necessary. Bonus: best score of the day wins a prize! Important info: \n\nAll attendees must wear their purple Friendship Circle shirt. Please let us know below if you need one.\nAlso\, please make sure your child is wearing SOCKS to wear with their bowling shoes and also knows their SHOE SIZE (you may tell it to a staff member at drop off if you’d prefer).\nPlease drop your children off directly at Spare Time Bowling at 3:45 pm. Bowling will begin at 4:00 and parent pickup will be promptly at 5:00. Please be on time.
URL:https://friendshipcirclenc.org/event/bowling-2/
LOCATION:Spare Time Bowling Pineville\, 9600 Pineville-Matthews Road\, Pineville\, NC\, 28134
CATEGORIES:FC Friends,Teen Friends
ATTACH;FMTTYPE=image/png:https://friendshipcirclenc.org/wp-content/uploads/2023/10/123-Bowling.png
END:VEVENT
BEGIN:VEVENT
DTSTART;TZID=America/New_York:20231130T140000
DTEND;TZID=America/New_York:20231130T150000
DTSTAMP:20260423T010457
CREATED:20230911T191523Z
LAST-MODIFIED:20230926T194002Z
UID:10000255-1701352800-1701356400@friendshipcirclenc.org
SUMMARY:CJDS Senior Visit
DESCRIPTION:CJDS students will Meet & Greet their senior buddy.
URL:https://friendshipcirclenc.org/event/cjds-senior-visit/
LOCATION:Waltonwood – Cotswold\, 5215 Randolph Road\, Charlotte\, NC\, 28211\, United States
CATEGORIES:Seniors,Teen
ATTACH;FMTTYPE=image/png:https://friendshipcirclenc.org/wp-content/uploads/2023/09/BT-CJDS-Meet-and-Greet.png
ORGANIZER;CN="Lauren Stark":MAILTO:Lauren@friendshipcirclenc.org
END:VEVENT
BEGIN:VEVENT
DTSTART;VALUE=DATE:20231126
DTEND;VALUE=DATE:20231127
DTSTAMP:20260423T010457
CREATED:20231005T135348Z
LAST-MODIFIED:20231029T064104Z
UID:10000271-1700956800-1701043199@friendshipcirclenc.org
SUMMARY:No FC - Thanksgiving Weekend
DESCRIPTION:We hope you and your families have a lovely Thanksgiving holiday! \n– Friendship Circle Team
URL:https://friendshipcirclenc.org/event/no-fc-thanksgiving-weekend/
LOCATION:Selkin Family Friendship Circle Center\, 6619 Sardis Road\, Charlotte\, NC\, 28270\, United States
ATTACH;FMTTYPE=image/png:https://friendshipcirclenc.org/wp-content/uploads/2023/10/1126-Thanksgiving-NO-FC.png
END:VEVENT
BEGIN:VEVENT
DTSTART;TZID=America/New_York:20231119T153000
DTEND;TZID=America/New_York:20231119T170000
DTSTAMP:20260423T010457
CREATED:20231005T135014Z
LAST-MODIFIED:20231114T164715Z
UID:10000270-1700407800-1700413200@friendshipcirclenc.org
SUMMARY:Birthday Circle: RyzAb0ve Fitness
DESCRIPTION:Come join us to celebrate all our November Birthdays and get ready to move around because RyzAb0ve Fitness is coming to the party too! Once we’ve gotten all our energy out it’ll be time for Birthday Cake! \nAll ages and ability levels welcome. \nParticipation in Friendship Circle programs is for registered Friends only.
URL:https://friendshipcirclenc.org/event/november-birthday-circle-2/
LOCATION:Selkin Family Friendship Circle Center\, 6619 Sardis Road\, Charlotte\, NC\, 28270\, United States
CATEGORIES:FC Friends,Teen Friends
ATTACH;FMTTYPE=image/png:https://friendshipcirclenc.org/wp-content/uploads/2023/10/1119-Birthday-Circle-Ryze-Above-Fitness.png
END:VEVENT
BEGIN:VEVENT
DTSTART;TZID=America/New_York:20231119T133000
DTEND;TZID=America/New_York:20231119T143000
DTSTAMP:20260423T010457
CREATED:20230908T172146Z
LAST-MODIFIED:20230926T193901Z
UID:10000254-1700400600-1700404200@friendshipcirclenc.org
SUMMARY:Game Time
DESCRIPTION:Let’s test your skills with a little game fun at Merrywood on Park.
URL:https://friendshipcirclenc.org/event/game-time-2/
LOCATION:Merrywood on Park\, 3600 Park Road\, Charlotte\, NC\, 28209\, United States
CATEGORIES:Seniors,Teen
ATTACH;FMTTYPE=image/png:https://friendshipcirclenc.org/wp-content/uploads/2023/09/BT-PASSWORD-GAME2.png
END:VEVENT
BEGIN:VEVENT
DTSTART;TZID=America/New_York:20231112T120000
DTEND;TZID=America/New_York:20231112T160000
DTSTAMP:20260423T010457
CREATED:20230822T180557Z
LAST-MODIFIED:20231027T021248Z
UID:10000249-1699790400-1699804800@friendshipcirclenc.org
SUMMARY:Pajama Walk
DESCRIPTION:Experience one of the most exciting walks in Charlotte! The Pajama Walk by Friendship Circle & ZABS Place! \nJoin us at McAlpine Creek Park for the 6th annual Pajama Walk presented by Lowe’s Companies Inc. Able Business Resource Group. \nThe Pajama Walk raises awareness and funds for Friendship Circle & ZABS Place to support genuine inclusive friendships\, job training\, employment\, and placement for individuals with special needs abilities. \nWondering Why Pajamas? Well\, pajamas are comfortable\, and no one worries about whether they match or what others might say. That’s exactly the kind of community we’re working on building. We want everyone to feel comfortable being themselves and not worrying about whether they “match” everyone else. \nOf course\, we also dream in pajamas and we’re all about making dreams come true for children\, teens\, and adults of ALL abilities. Join us and  #MakeDreamsComeTrue!
URL:https://friendshipcirclenc.org/event/pajama-walk-2023/
LOCATION:McAlpine Creek Park\, 8711 Monroe Rd\, Charlotte\, NC\, 28212\, United States
CATEGORIES:Community,FC Family,FC Friends,FC Parents,Inclusive,P.S. YAC,Teen,Teen Friends
ATTACH;FMTTYPE=image/png:https://friendshipcirclenc.org/wp-content/uploads/2023/08/Pajama-Walk-Save-The-Date-2023-Facebook-Event-Cover-min.png
END:VEVENT
BEGIN:VEVENT
DTSTART;TZID=America/New_York:20231105T150000
DTEND;TZID=America/New_York:20231105T174500
DTSTAMP:20260423T010457
CREATED:20231005T134540Z
LAST-MODIFIED:20231029T063756Z
UID:10000269-1699196400-1699206300@friendshipcirclenc.org
SUMMARY:Trip to Hunter Farm
DESCRIPTION:Join us on Sunday\, 11/5 for some Fall fun at Hunter Farm. We’ll be taking a bus from Friendship Circle to the Farm and then enjoying a hay ride to their barn full of adorable farm animals that we can pet and feed! We’ll also be picking a pumpkin to bring home. \nImportant Details:\n\nThere will be transportation to and from Hunter Farm. Please meet at Friendship Circle at 3:00pm. The bus will leave promptly at 3:15pm and will return at 5:45pm. We will post on the Mom’s GroupMe with an updated ETA if we are running late on our way back.\nHunter Farm is located off Providence Road in Weddington. If you live nearby and would rather meet us there\, please arrive at the Farm at 3:45pm and plan to pickup from the farm at 5:10pm.\nFriends must wear their Friendship Circle shirt for this program.\nWe will be outside for this program so please make sure your child is dressed appropriately.\n\nParticipation in Friendship Circle programs is for registered friends only.
URL:https://friendshipcirclenc.org/event/trip-to-hunter-farm/
LOCATION:Selkin Family Friendship Circle Center\, 6619 Sardis Road\, Charlotte\, NC\, 28270\, United States
CATEGORIES:FC Friends,Teen Friends
ATTACH;FMTTYPE=image/png:https://friendshipcirclenc.org/wp-content/uploads/2023/10/115-Hunter-Farm-3.png
END:VEVENT
BEGIN:VEVENT
DTSTART;TZID=America/New_York:20231105T140000
DTEND;TZID=America/New_York:20231105T150000
DTSTAMP:20260423T010457
CREATED:20230908T170730Z
LAST-MODIFIED:20230913T161632Z
UID:10000252-1699192800-1699196400@friendshipcirclenc.org
SUMMARY:Music BINGO
DESCRIPTION:It’s time for music BINGO with Jonathan Vyse at Brookdale Carriage Club. Join us for an acoustic guitar experience full of challenge and prizes.
URL:https://friendshipcirclenc.org/event/music-bingo-2/
LOCATION:Brookdale Carriage Club\, 5800 Old Providence Road\, Charlotte\, NC\, 28226\, United States
CATEGORIES:Seniors,Teen
ATTACH;FMTTYPE=image/jpeg:https://friendshipcirclenc.org/wp-content/uploads/2023/09/BINGO.jpg
END:VEVENT
BEGIN:VEVENT
DTSTART;TZID=America/New_York:20231029T153000
DTEND;TZID=America/New_York:20231029T170000
DTSTAMP:20260423T010457
CREATED:20230928T053432Z
LAST-MODIFIED:20231027T020126Z
UID:10000268-1698593400-1698598800@friendshipcirclenc.org
SUMMARY:Parents’ Meet Up
DESCRIPTION:Ms. Sue is back! Come join her for a Parents’ Meet Up at Friendship Circle during our afternoon program. \nPlease Note: Participation in Friendship Circle programs is for registered friends only.
URL:https://friendshipcirclenc.org/event/parents-meet-up-23/
LOCATION:Selkin Family Friendship Circle Center\, 6619 Sardis Road\, Charlotte\, NC\, 28270\, United States
CATEGORIES:FC Parents
ATTACH;FMTTYPE=image/png:https://friendshipcirclenc.org/wp-content/uploads/2022/11/Featured-Event-Image-12.png
END:VEVENT
BEGIN:VEVENT
DTSTART;TZID=America/New_York:20231029T153000
DTEND;TZID=America/New_York:20231029T170000
DTSTAMP:20260423T010457
CREATED:20230815T172043Z
LAST-MODIFIED:20231024T011305Z
UID:10000248-1698593400-1698598800@friendshipcirclenc.org
SUMMARY:Art at Friendship Circle
DESCRIPTION:For this program\, we are so lucky to have local artist Paul Simon teach a painting workshop. The focus of this painting activity will be still life\, using a variety of mediums. Come ready to draw\, paint\, and create! \n\nParticipation in Friendship Circle programs is for registered friends only.
URL:https://friendshipcirclenc.org/event/arts-at-fc/
LOCATION:Selkin Family Friendship Circle Center\, 6619 Sardis Road\, Charlotte\, NC\, 28270\, United States
CATEGORIES:FC Friends,Teen Friends
ATTACH;FMTTYPE=image/png:https://friendshipcirclenc.org/wp-content/uploads/2023/08/1029-Painting.png
END:VEVENT
BEGIN:VEVENT
DTSTART;TZID=America/New_York:20231022T153000
DTEND;TZID=America/New_York:20231022T163000
DTSTAMP:20260423T010457
CREATED:20230815T163521Z
LAST-MODIFIED:20231018T141648Z
UID:10000247-1697988600-1697992200@friendshipcirclenc.org
SUMMARY:Pajama Walk Catwalk Practice
DESCRIPTION:Our Annual Pajama Walk is coming up on November 12\, and this year we’re planning a fun “Catwalk” to show off all our amazing Friendship Circle Friends and ZABS Place Talent! We are going to be doing a rehearsal and “run-through” of the Catwalk performance during this program.  \nWhat is a “Catwalk” you ask? Each participant will walk down our runway in front of the Pajama Walk crowd and show off their fun pajamas! Participants’ names will be announced by our MC\, as well as a fun fact about them. No runway experience required!  \nIf you would like to participate in the Catwalk\, let us know in the RSVP below. Even if you don’t want to participate in the Catwalk but still want to come to Friendship Circle for this program\, that’s fine too– we’d love to see you!  \nPS- Catwalk participants will get an awesome swag bag full of goodies as a thank you for signing up! \nParents: There will also be a Coffee & Chat for Parents hosted by Ms. Sue during this program. We invite you all to stay and enjoy a warm cup of Joe and conversation with friends while your children participate in our program. Please RSVP on the Parents’ Meetup event.
URL:https://friendshipcirclenc.org/event/pjwalk-catwalk/
LOCATION:Chabad of Charlotte\, 6619 Sardis Road\, Charlotte\, NC\, 28270\, United States
CATEGORIES:FC Friends,Teen Friends
ATTACH;FMTTYPE=image/jpeg:https://friendshipcirclenc.org/wp-content/uploads/2023/08/1022-Catwalk-Rehearsal.jpg
END:VEVENT
END:VCALENDAR