BEGIN:VCALENDAR
VERSION:2.0
PRODID:-//Friendship Circle of Charlotte - ECPv6.15.15//NONSGML v1.0//EN
CALSCALE:GREGORIAN
METHOD:PUBLISH
X-WR-CALNAME:Friendship Circle of Charlotte
X-ORIGINAL-URL:https://friendshipcirclenc.org
X-WR-CALDESC:Events for Friendship Circle of Charlotte
REFRESH-INTERVAL;VALUE=DURATION:PT1H
X-Robots-Tag:noindex
X-PUBLISHED-TTL:PT1H
BEGIN:VTIMEZONE
TZID:America/New_York
BEGIN:DAYLIGHT
TZOFFSETFROM:-0500
TZOFFSETTO:-0400
TZNAME:EDT
DTSTART:20210314T070000
END:DAYLIGHT
BEGIN:STANDARD
TZOFFSETFROM:-0400
TZOFFSETTO:-0500
TZNAME:EST
DTSTART:20211107T060000
END:STANDARD
BEGIN:DAYLIGHT
TZOFFSETFROM:-0500
TZOFFSETTO:-0400
TZNAME:EDT
DTSTART:20220313T070000
END:DAYLIGHT
BEGIN:STANDARD
TZOFFSETFROM:-0400
TZOFFSETTO:-0500
TZNAME:EST
DTSTART:20221106T060000
END:STANDARD
BEGIN:DAYLIGHT
TZOFFSETFROM:-0500
TZOFFSETTO:-0400
TZNAME:EDT
DTSTART:20230312T070000
END:DAYLIGHT
BEGIN:STANDARD
TZOFFSETFROM:-0400
TZOFFSETTO:-0500
TZNAME:EST
DTSTART:20231105T060000
END:STANDARD
END:VTIMEZONE
BEGIN:VEVENT
DTSTART;TZID=America/New_York:20221211T153000
DTEND;TZID=America/New_York:20221211T170000
DTSTAMP:20260423T175711
CREATED:20230131T074052Z
LAST-MODIFIED:20230131T074052Z
UID:10000075-1670772600-1670778000@friendshipcirclenc.org
SUMMARY:Mad Science Birthday Circle
DESCRIPTION:It’s the last Birthday Circle of 2022 and we are going to end it off with a bang!Mad Science is here to let your curiosity take its course. Join us for some Science filled fun with many discoveries along the way. Of course\, there will be cake to celebrate our December birthdays. You definitely don’t want to miss out!\nPlease Note: Participation in Friendship Circle programs is for registered friends only.\n 
URL:https://friendshipcirclenc.org/event/mad-science-birthday-circle/
LOCATION:NC
CATEGORIES:FC Friends,Teen Friends
ATTACH;FMTTYPE=image/png:https://friendshipcirclenc.org/wp-content/uploads/2022/11/Featured-Event-Image-18.png
END:VEVENT
BEGIN:VEVENT
DTSTART;TZID=America/New_York:20221204T153000
DTEND;TZID=America/New_York:20221204T163000
DTSTAMP:20260423T175711
CREATED:20230131T074036Z
LAST-MODIFIED:20230131T074036Z
UID:10000073-1670167800-1670171400@friendshipcirclenc.org
SUMMARY:Bowling
DESCRIPTION:Ten Pins. One Ball. Unforgettable Fun.This December our Friends will be hitting the town for a Bowling Bash!\nThis event is taking place at Bowlero Bowling Alley Matthews – 11210 Brigman Rd\, Matthews\, NC 28105.\nAnd we will meet you there!\nLets Rock and Bowl!\nPlease Note: Participation in Friendship Circle programs is for registered friends only.\n 
URL:https://friendshipcirclenc.org/event/bowling/
LOCATION:NC
CATEGORIES:FC Friends,Teen Friends
ATTACH;FMTTYPE=image/png:https://friendshipcirclenc.org/wp-content/uploads/2022/11/Featured-Event-Image-21.png
END:VEVENT
BEGIN:VEVENT
DTSTART;TZID=America/New_York:20221120T153000
DTEND;TZID=America/New_York:20221120T163000
DTSTAMP:20260423T175711
CREATED:20230131T074053Z
LAST-MODIFIED:20230131T074053Z
UID:10000077-1668958200-1668961800@friendshipcirclenc.org
SUMMARY:Splatter Paint Art Circle
DESCRIPTION:Ready or not here it comes…Its time to get down & little messy with ART CIRCLE!\nWhy paint a canvas when you can splatter a canvas?!\nYou DON’T want to miss out!\nIt is going to be a splash!\nPlease Note: Participation in Friendship Circle programs is for registered friends only.\n 
URL:https://friendshipcirclenc.org/event/splatter-paint-art-circle/
LOCATION:NC
CATEGORIES:FC Family,FC Friends,FC Parents,Teen Friends
ATTACH;FMTTYPE=image/png:https://friendshipcirclenc.org/wp-content/uploads/2022/10/Featured-Event-Image-11.png
END:VEVENT
BEGIN:VEVENT
DTSTART;TZID=America/New_York:20221120T153000
DTEND;TZID=America/New_York:20221120T163000
DTSTAMP:20260423T175711
CREATED:20230131T074052Z
LAST-MODIFIED:20230131T074052Z
UID:10000076-1668958200-1668961800@friendshipcirclenc.org
SUMMARY:Moms’ Coffee
DESCRIPTION:Join Ms. Sue for a Moms’ coffee hangout with coffee\, refreshments and a great atmosphere.This event will take place during our November Art Circle.\nPlease Note: Participation in Friendship Circle programs is for registered friends only.\n 
URL:https://friendshipcirclenc.org/event/moms-coffee/
LOCATION:NC
CATEGORIES:FC Family,FC Friends,FC Parents,Teen Friends
ATTACH;FMTTYPE=image/png:https://friendshipcirclenc.org/wp-content/uploads/2022/11/Featured-Event-Image-12.png
END:VEVENT
BEGIN:VEVENT
DTSTART;TZID=America/New_York:20221113T123000
DTEND;TZID=America/New_York:20221113T160000
DTSTAMP:20260423T175711
CREATED:20230131T074123Z
LAST-MODIFIED:20230131T074123Z
UID:10000101-1668342600-1668355200@friendshipcirclenc.org
SUMMARY:Pajama Walk
DESCRIPTION:The Pajama Walk is a community walk to raise awareness and funds for Friendship Circle & ZABS Place – two local non-profits offering social opportunities and training & employment for individuals with special needs and talents. Join us in #MakingDreamsComeTrue!Sign up at PajamaWalk.com
URL:https://friendshipcirclenc.org/event/pajama-walk/
LOCATION:NC
CATEGORIES:Community,FC Family,FC Friends,FC Parents,P.S. YAC,Teen Friends
ATTACH;FMTTYPE=image/png:https://friendshipcirclenc.org/wp-content/uploads/2022/09/Pajama-Walk-2022-Website-Event-429-×-179-px.png
END:VEVENT
BEGIN:VEVENT
DTSTART;TZID=America/New_York:20221106T153000
DTEND;TZID=America/New_York:20221106T163000
DTSTAMP:20260423T175711
CREATED:20230131T074053Z
LAST-MODIFIED:20230131T074053Z
UID:10000078-1667748600-1667752200@friendshipcirclenc.org
SUMMARY:November Birthday Circle
DESCRIPTION:Can you believe we are back at the beginning of a new month?Well believe it or not Birthday Circle is back!\nJoin us in celebrating our November birthdays with cupcake making\, ice cream and lots of party games!\nPlease Note: Participation in Friendship Circle programs is for registered friends only.\n 
URL:https://friendshipcirclenc.org/event/november-birthday-circle/
LOCATION:NC
CATEGORIES:FC Friends,Teen Friends
ATTACH;FMTTYPE=image/png:https://friendshipcirclenc.org/wp-content/uploads/2022/10/Featured-Event-Image-9.png
END:VEVENT
BEGIN:VEVENT
DTSTART;TZID=America/New_York:20221030T153000
DTEND;TZID=America/New_York:20221030T163000
DTSTAMP:20260423T175711
CREATED:20230131T074107Z
LAST-MODIFIED:20230131T074107Z
UID:10000080-1667143800-1667147400@friendshipcirclenc.org
SUMMARY:October Music Circle
DESCRIPTION:Music Circle is a great place to hang out with friends and make some noise!! (Sensory headphones are welcome and will be available). Get ready to play some music-making games and have lots of fun.Looking forward to jamming with you!\nPlease Note: Participation in Friendship Circle programs is for registered friends only.
URL:https://friendshipcirclenc.org/event/october-music-circle/
LOCATION:NC
CATEGORIES:FC Family,FC Friends,FC Parents,Teen Friends
ATTACH;FMTTYPE=image/jpeg:https://friendshipcirclenc.org/wp-content/uploads/2022/09/Featured-Event-Image-29.jpg
END:VEVENT
BEGIN:VEVENT
DTSTART;TZID=America/New_York:20221023T153000
DTEND;TZID=America/New_York:20221023T163000
DTSTAMP:20260423T175711
CREATED:20230131T074122Z
LAST-MODIFIED:20230131T074122Z
UID:10000084-1666539000-1666542600@friendshipcirclenc.org
SUMMARY:Birthday Circle – Petting Zoo
DESCRIPTION:Friendship Circle is having an EXTRAORDINARY PETTING ZOO right in our backyard.Come hang out with and feed various farm animals while having fun with friends.\nCan’t wait to see YOU there!\nPlease Note: Participation in Friendship Circle programs is for registered friends only.
URL:https://friendshipcirclenc.org/event/birthday-circle-petting-zoo/
LOCATION:NC
CATEGORIES:FC Friends,Teen Friends
ATTACH;FMTTYPE=image/png:https://friendshipcirclenc.org/wp-content/uploads/2022/09/Petting-Zoo-1.png
END:VEVENT
BEGIN:VEVENT
DTSTART;TZID=America/New_York:20221020T193000
DTEND;TZID=America/New_York:20221020T210000
DTSTAMP:20260423T175711
CREATED:20230131T074106Z
LAST-MODIFIED:20230131T074106Z
UID:10000079-1666294200-1666299600@friendshipcirclenc.org
SUMMARY:Parents Night Out – Trivia and Treats
DESCRIPTION:Friendship Circle Parents Night Out is back! All Friendship Circle parents are invited for an evening of fireside trivia and treats.Don’t forget to RSVP so we can plan accordingly.
URL:https://friendshipcirclenc.org/event/parents-night-out-trivia-and-treats/
LOCATION:NC
CATEGORIES:FC Parents
ATTACH;FMTTYPE=image/png:https://friendshipcirclenc.org/wp-content/uploads/2022/10/Moms-Night-Out-600-×-600-px.png
END:VEVENT
BEGIN:VEVENT
DTSTART;TZID=America/New_York:20221009T183000
DTEND;TZID=America/New_York:20221009T183000
DTSTAMP:20260423T175711
CREATED:20230131T074108Z
LAST-MODIFIED:20230131T074108Z
UID:10000082-1665340200-1665340200@friendshipcirclenc.org
SUMMARY:Family Sukkot Dinner
DESCRIPTION:Come join Friendship Circle for a Sukkot Dinner! Inviting all our Special Friends and Teen Friends and their families to join us for an all inclusive dinner under the stars!We can’t wait to see you all there!\nPlease Note: Participation in Friendship Circle programs is for registered friends only.
URL:https://friendshipcirclenc.org/event/family-sukkot-dinner/
LOCATION:NC
CATEGORIES:FC Family,FC Friends,FC Parents,Teen Friends
ATTACH;FMTTYPE=image/png:https://friendshipcirclenc.org/wp-content/uploads/2022/09/Family-Sukkot-Dinner.png
END:VEVENT
BEGIN:VEVENT
DTSTART;TZID=America/New_York:20221002T153000
DTEND;TZID=America/New_York:20221002T163000
DTSTAMP:20260423T175711
CREATED:20230131T074107Z
LAST-MODIFIED:20230131T074107Z
UID:10000081-1664724600-1664728200@friendshipcirclenc.org
SUMMARY:Bean Mosaic Art Circle
DESCRIPTION:Birthday Circle is back and better then ever and we’re excited to invite our friends of all ages to come celebrate with us!You’ve probably heard of mosaic art\, but what about mosaic art with beans?!\nCome join us to make super cool abstract art pieces from different types of beans (followed by delicious cake and ice cream). Can’t wait to see all the creative designs our friends come up with!\nPlease Note: Participation in Friendship Circle programs is for registered friends only.
URL:https://friendshipcirclenc.org/event/bean-mosaic-art-circle/
LOCATION:NC
CATEGORIES:FC Family,FC Friends,FC Parents,Teen Friends
ATTACH;FMTTYPE=image/jpeg:https://friendshipcirclenc.org/wp-content/uploads/2022/09/Featured-Event-Image-27.jpg
END:VEVENT
BEGIN:VEVENT
DTSTART;TZID=America/New_York:20220918T180000
DTEND;TZID=America/New_York:20220918T210000
DTSTAMP:20260423T175711
CREATED:20230131T074124Z
LAST-MODIFIED:20230131T074124Z
UID:10000047-1663524000-1663534800@friendshipcirclenc.org
SUMMARY:Mega Challah Bake
DESCRIPTION:Inviting our Friendship Circle Moms to join us at the 4th Mega Challah Bake for Charlotte’s Jewish women. After a three year break\, we’re trilled to be back and better than ever!\nExperience the power in numbers as we mix\, knead\, and braid together.\nThis event is for ladies and girls ages 12 and up.\nClick here to RSVP\n 
URL:https://friendshipcirclenc.org/event/mega-challah-bake/
LOCATION:NC
CATEGORIES:FC Parents
ATTACH;FMTTYPE=image/jpeg:https://friendshipcirclenc.org/wp-content/uploads/2022/08/Challah-bake.jpg
END:VEVENT
BEGIN:VEVENT
DTSTART;TZID=America/New_York:20220918T150000
DTEND;TZID=America/New_York:20220918T170000
DTSTAMP:20260423T175711
CREATED:20230131T074325Z
LAST-MODIFIED:20230131T074325Z
UID:10000066-1663513200-1663520400@friendshipcirclenc.org
SUMMARY:Car Wash Fundraiser and Ice Cream Party
DESCRIPTION:Our fantastic Friendship Circle Car Wash is back and this time it’s a FUNdraiser for our new FUN Zone!The car wash will be run by our Friends and we’ll have an awesome time practicing skills\, having fun\, and benefiting our new Inclusive Fun Zone while doing it. We encourage Special Friends of all ages to participate.\nAnd after all the work is done… we’ll have an ice cream party!!!\nWant to get your car washed?\nSign up for an appointment\, before they’re all gone. Spots are limited.\n 
URL:https://friendshipcirclenc.org/event/car-wash-fundraiser-and-ice-cream-party/
LOCATION:NC
CATEGORIES:Community,FC Family,FC Friends,FC Parents,P.S. YAC,Teen Friends
ATTACH;FMTTYPE=image/jpeg:https://friendshipcirclenc.org/wp-content/uploads/2022/06/Featured-Event-Image-25.jpg
END:VEVENT
BEGIN:VEVENT
DTSTART;TZID=America/New_York:20220912T173000
DTEND;TZID=America/New_York:20220912T190000
DTSTAMP:20260423T175711
CREATED:20230131T074124Z
LAST-MODIFIED:20230131T074124Z
UID:10000049-1663003800-1663009200@friendshipcirclenc.org
SUMMARY:P.S. YAC – Philip Sperling Young Adult Circle
DESCRIPTION:Join us for another Philip Sperling Young Adult Circle. This time we’ll enjoy an evening of sweet (and savory) treats and fun with the ZABS Place team of Talent.At our September P.S YAC we’ll be making homemade waffles and enjoying them with a variety of toppings (and some ice cream too!)\nThis is a NUT FREE event. If you have food allergies\, please let us know in advance.\nWe can’t wait to see you there!\nPlease Note: We will be holding this event on the 2nd Monday of the month due to Labor Day being on the 1st Monday. P.S YAC is for Friendship Circle friends 16 and older.
URL:https://friendshipcirclenc.org/event/p-s-yac-philip-sperling-young-adult-circle/
LOCATION:NC
CATEGORIES:P.S. YAC
ATTACH;FMTTYPE=image/jpeg:https://friendshipcirclenc.org/wp-content/uploads/2022/08/Featured-Event-Image-26.jpg
END:VEVENT
BEGIN:VEVENT
DTSTART;TZID=America/New_York:20220911T153000
DTEND;TZID=America/New_York:20220911T163000
DTSTAMP:20260423T175711
CREATED:20230131T074324Z
LAST-MODIFIED:20230131T074324Z
UID:10000054-1662910200-1662913800@friendshipcirclenc.org
SUMMARY:Rosh Hashana Kickoff Event
DESCRIPTION:Welcome back! What better way to kick off our year than with super-fun Rosh Hashana themed activities. Food\, Fun\, Friends and Games\, what more could we need?!  We can’t wait to see you!
URL:https://friendshipcirclenc.org/event/rosh-hashana-kickoff-event/
LOCATION:NC
CATEGORIES:FC Friends,Teen Friends
ATTACH;FMTTYPE=image/png:https://friendshipcirclenc.org/wp-content/uploads/2022/08/Featured-Event-Image.png
END:VEVENT
BEGIN:VEVENT
DTSTART;TZID=America/New_York:20220801T173000
DTEND;TZID=America/New_York:20220801T190000
DTSTAMP:20260423T175711
CREATED:20230131T074324Z
LAST-MODIFIED:20230131T074324Z
UID:10000100-1659375000-1659380400@friendshipcirclenc.org
SUMMARY:P.S. YAC – Philip Sperling Young Adult Circle
DESCRIPTION:The Philip Sperling Young Adult Circle is back for another super-fun evening. Join us for an Outdoor Game Night with the ZABS Place team of Talent for lots huge games including Cornhole\, Giant Kerplunk\, Giant Jenga\, Ladder-ball and much more. We can’t wait to enjoy a warm summer night playing games together.Like every good outdoor game night we’ll be having a hot dog dinner and dessert.\nPlease note: This event will be rain or shine. If needed we will move the games indoors.\nP.S YAC is for Friendship Circle friends 16 and older.
URL:https://friendshipcirclenc.org/event/p-s-yac-philip-sperling-young-adult-circle-2/
LOCATION:NC
CATEGORIES:P.S. YAC
ATTACH;FMTTYPE=image/png:https://friendshipcirclenc.org/wp-content/uploads/2022/07/ZAH-events-Lexi-4.png
END:VEVENT
BEGIN:VEVENT
DTSTART;TZID=America/New_York:20220711T173000
DTEND;TZID=America/New_York:20220711T190000
DTSTAMP:20260423T175711
CREATED:20230131T074325Z
LAST-MODIFIED:20230131T074325Z
UID:10000065-1657560600-1657566000@friendshipcirclenc.org
SUMMARY:P.S. YAC – Philip Sperling Young Adult Circle
DESCRIPTION:The Philip Sperling Young Adult Circle is back for another super-fun evening. Join us for a BINGO Night with Friends. This event is hosted by the Coca-Cola company! Yup\, they’ll be joining us for our July YAC event. Get ready for tons of fun and plenty of prizes!A choice between Smoked Turkey Sandwiches and PB&J with a side of sliced veggies and chips for dinner. We can’t wait to see you there!\nPlease Note: We will be holding this event on the 2nd Monday of the month due to 4th of July on the 1st Monday.\nParticipation in Young Adult Circle is open to FC Friends 16 & up.
URL:https://friendshipcirclenc.org/event/p-s-yac-philip-sperling-young-adult-circle-3/
LOCATION:NC
CATEGORIES:FC Friends,P.S. YAC
ATTACH;FMTTYPE=image/png:https://friendshipcirclenc.org/wp-content/uploads/2022/06/ZAH-events-Lexi-1.png
END:VEVENT
BEGIN:VEVENT
DTSTART;TZID=America/New_York:20220619T170000
DTEND;TZID=America/New_York:20220619T210000
DTSTAMP:20260423T175711
CREATED:20230131T074412Z
LAST-MODIFIED:20230131T074412Z
UID:10000067-1655658000-1655672400@friendshipcirclenc.org
SUMMARY:Family Fun Day
DESCRIPTION:Just because school is out for the summer does not mean we have to stop having fun. Bring the family and join us for a Knights Baseball game in honor of Father’s Day and enjoy the time to catch up with friends. \n 
URL:https://friendshipcirclenc.org/event/family-fun-day/
LOCATION:NC
CATEGORIES:FC Family,FC Friends,FC Parents,Teen Friends
ATTACH;FMTTYPE=image/png:https://friendshipcirclenc.org/wp-content/uploads/2022/04/Featured-Event-Image-16.png
END:VEVENT
BEGIN:VEVENT
DTSTART;TZID=America/New_York:20220522T153000
DTEND;TZID=America/New_York:20220522T163000
DTSTAMP:20260423T175711
CREATED:20230131T074412Z
LAST-MODIFIED:20230131T074412Z
UID:10000064-1653233400-1653237000@friendshipcirclenc.org
SUMMARY:Birthday Circle
DESCRIPTION:Come help us celebrate our Friends with Birthdays in the month of May\, June or July!  It’s our last program of the school year so we’ve got to pack in lots of fun! How about a pizza party?! We will bake our own pizzas and share with our friends.We can’t wait to see you all and celebrating our Friends’ Birthdays.
URL:https://friendshipcirclenc.org/event/birthday-circle/
LOCATION:NC
CATEGORIES:FC Friends,Teen Friends
ATTACH;FMTTYPE=image/png:https://friendshipcirclenc.org/wp-content/uploads/2022/04/Birthday-Circle.png
END:VEVENT
BEGIN:VEVENT
DTSTART;TZID=America/New_York:20220515T153000
DTEND;TZID=America/New_York:20220515T163000
DTSTAMP:20260423T175711
CREATED:20230131T074412Z
LAST-MODIFIED:20230131T074412Z
UID:10000068-1652628600-1652632200@friendshipcirclenc.org
SUMMARY:Just Dancing
DESCRIPTION:Join us for an hour of dancing and fun\, led by Ms. Brianna. Show off your best dance moves and learn a few new steps too!
URL:https://friendshipcirclenc.org/event/just-dancing/
LOCATION:NC
CATEGORIES:FC Friends,Teen Friends
ATTACH;FMTTYPE=image/png:https://friendshipcirclenc.org/wp-content/uploads/2022/04/Just-Dancing-.png
END:VEVENT
BEGIN:VEVENT
DTSTART;TZID=America/New_York:20220508T153000
DTEND;TZID=America/New_York:20220508T163000
DTSTAMP:20260423T175711
CREATED:20230131T074413Z
LAST-MODIFIED:20230131T074413Z
UID:10000099-1652023800-1652027400@friendshipcirclenc.org
SUMMARY:Mother’s Day Craft
DESCRIPTION:What better way to show our mothers how much we love them than with a special Mother’s Day gift. Friends\, join us in making a special craft to share with your mother or a role model in your life.We hope to see you there!\n \n 
URL:https://friendshipcirclenc.org/event/mothers-day-craft/
LOCATION:NC
CATEGORIES:FC Friends,Teen Friends
ATTACH;FMTTYPE=image/png:https://friendshipcirclenc.org/wp-content/uploads/2022/04/Featured-Event-Image-15.png
END:VEVENT
BEGIN:VEVENT
DTSTART;TZID=America/New_York:20220502T173000
DTEND;TZID=America/New_York:20220502T190000
DTSTAMP:20260423T175711
CREATED:20230131T074413Z
LAST-MODIFIED:20230131T074413Z
UID:10000089-1651512600-1651518000@friendshipcirclenc.org
SUMMARY:YAC – Philip Sperling Young Adult Circle
DESCRIPTION:The Philip Sperling Young Adult Circle is back for another super-fun evening. Join us for a Game Night with Friends. How about Mega Jenga\, Giant Checkers\, Indoor Basketball\, Headbandz game and many more! Pizza dinner will be served.Participation in Young Adult Circle is open to FC Friends 16 & up.
URL:https://friendshipcirclenc.org/event/yac-philip-sperling-young-adult-circle/
LOCATION:NC
CATEGORIES:FC Friends
ATTACH;FMTTYPE=image/png:https://friendshipcirclenc.org/wp-content/uploads/2022/04/Featured-Event-Image-14.png
END:VEVENT
BEGIN:VEVENT
DTSTART;TZID=America/New_York:20220501T170000
DTEND;TZID=America/New_York:20220501T190000
DTSTAMP:20260423T175711
CREATED:20230131T074422Z
LAST-MODIFIED:20230131T074422Z
UID:10000090-1651424400-1651431600@friendshipcirclenc.org
SUMMARY:Friendship Circle Family Picnic
DESCRIPTION:Our annual Friendship Circle Family Picnic is here!Join us to celebrate another amazing year of friendship. We will be recognizing all our 2022 graduates and we hope to see all our friends and their families for an evening of games\, yummy food\, and lots of laughs.\n \n 
URL:https://friendshipcirclenc.org/event/friendship-circle-family-picnic/
LOCATION:NC
CATEGORIES:FC Family,FC Friends,FC Parents,Teen Friends
ATTACH;FMTTYPE=image/png:https://friendshipcirclenc.org/wp-content/uploads/2022/04/Featured-Event-Image-10.png
END:VEVENT
BEGIN:VEVENT
DTSTART;TZID=America/New_York:20220424T150000
DTEND;TZID=America/New_York:20220424T163000
DTSTAMP:20260423T175711
CREATED:20230131T074423Z
LAST-MODIFIED:20230131T074423Z
UID:10000093-1650812400-1650817800@friendshipcirclenc.org
SUMMARY:Car Wash
DESCRIPTION:We’re hosting our very first Friendship Circle car wash! As prep for a Car Wash Fundraiser later this year\, we decided there’s no better way to perfect our car washing skills than with some practice. We are super excited to be practicing a great skill and having fun with our friends while doing it.This event will be weather permitting. Event cancellation will be decided by Friday April 22nd.\nWanna get your car washed? Make sure to reserve a spot in the first or second shift.
URL:https://friendshipcirclenc.org/event/car-wash/
LOCATION:NC
CATEGORIES:FC Friends,Teen Friends
ATTACH;FMTTYPE=image/jpeg:https://friendshipcirclenc.org/wp-content/uploads/2022/03/Featured-Event-Image-22.jpg
END:VEVENT
BEGIN:VEVENT
DTSTART;TZID=America/New_York:20220410T153000
DTEND;TZID=America/New_York:20220410T163000
DTSTAMP:20260423T175711
CREATED:20230131T074424Z
LAST-MODIFIED:20230131T074424Z
UID:10000094-1649604600-1649608200@friendshipcirclenc.org
SUMMARY:Improv Acting
DESCRIPTION:We are excited to be heading to Acting Out Studio for some improv acting.  Join us to show off your award-winning acting skills and get ready for lots of fun and laughs.RSVP required.
URL:https://friendshipcirclenc.org/event/improv-acting/
LOCATION:NC
CATEGORIES:FC Friends,Teen Friends
ATTACH;FMTTYPE=image/jpeg:https://friendshipcirclenc.org/wp-content/uploads/2022/02/Featured-Event-Image-21.jpg
END:VEVENT
BEGIN:VEVENT
DTSTART;TZID=America/New_York:20220404T173000
DTEND;TZID=America/New_York:20220404T190000
DTSTAMP:20260423T175711
CREATED:20230131T074423Z
LAST-MODIFIED:20230131T074423Z
UID:10000092-1649093400-1649098800@friendshipcirclenc.org
SUMMARY:YAC – Philip Sperling Young Adult Circle
DESCRIPTION:It’s been a while since we’ve gotten together for our Philip Sperling Young Adult Circle and we’re so excited to be back. Join us for some fun putt putt mini golfing at Trail’s Dynasty Miniature Golf along with a boxed turkey sandwich dinner.Participation in Young Adult Circle is open to FC Friends 16 & up.
URL:https://friendshipcirclenc.org/event/yac-philip-sperling-young-adult-circle-2/
LOCATION:NC
CATEGORIES:FC Friends
ATTACH;FMTTYPE=image/jpeg:https://friendshipcirclenc.org/wp-content/uploads/2022/03/Featured-Event-Image-23.jpg
END:VEVENT
BEGIN:VEVENT
DTSTART;TZID=America/New_York:20220403T153000
DTEND;TZID=America/New_York:20220403T163000
DTSTAMP:20260423T175711
CREATED:20230131T074422Z
LAST-MODIFIED:20230131T074422Z
UID:10000091-1648999800-1649003400@friendshipcirclenc.org
SUMMARY:“Shine Bright” Suncatcher Creating
DESCRIPTION:Come join us for an hour of creativity as we design and make our very own sun catchers. With the weather getting warmer and the sun getting brighter\, this is the perfect piece of art to hang in your own window or to give to a friend.We look forward to seeing each of you and how you express yourself in your creations.
URL:https://friendshipcirclenc.org/event/shine-bright-suncatcher-creating/
LOCATION:NC
CATEGORIES:FC Friends,Teen Friends
ATTACH;FMTTYPE=image/jpeg:https://friendshipcirclenc.org/wp-content/uploads/2022/03/Featured-Event-Image-24.jpg
END:VEVENT
BEGIN:VEVENT
DTSTART;TZID=America/New_York:20220327T153000
DTEND;TZID=America/New_York:20220327T163000
DTSTAMP:20260423T175711
CREATED:20230131T074427Z
LAST-MODIFIED:20230131T074427Z
UID:10000095-1648395000-1648398600@friendshipcirclenc.org
SUMMARY:Birthday Circle
DESCRIPTION:Come help us celebrate our friends with Birthdays in the months of March and April!  A fun afternoon filled with lots of games and laughs. Weather depending this will be an outside event. We look forward to seeing you all and celebrating our Friends’ Birthdays.
URL:https://friendshipcirclenc.org/event/birthday-circle-2/
LOCATION:NC
CATEGORIES:FC Friends,Teen Friends
ATTACH;FMTTYPE=image/jpeg:https://friendshipcirclenc.org/wp-content/uploads/2022/02/Featured-Event-Image-17.jpg
END:VEVENT
BEGIN:VEVENT
DTSTART;TZID=America/New_York:20220324T193000
DTEND;TZID=America/New_York:20220324T210000
DTSTAMP:20260423T175711
CREATED:20230131T074428Z
LAST-MODIFIED:20230131T074428Z
UID:10000097-1648150200-1648155600@friendshipcirclenc.org
SUMMARY:Women That Wine
DESCRIPTION:FC Moms’ Night Out is back!  All Friendship Circle Moms are invited for an evening of wine\, cheese\, chatter\, and fun at the home of Patricia and David Stern. Address will be sent privately upon RSVP.Non-alcoholic drinks will be served as well.\n 
URL:https://friendshipcirclenc.org/event/women-that-wine/
LOCATION:NC
CATEGORIES:FC Parents
ATTACH;FMTTYPE=image/jpeg:https://friendshipcirclenc.org/wp-content/uploads/2022/02/Moms-Night-Out.jpg
END:VEVENT
BEGIN:VEVENT
DTSTART;TZID=America/New_York:20220320T150000
DTEND;TZID=America/New_York:20220320T163000
DTSTAMP:20260423T175711
CREATED:20230131T074437Z
LAST-MODIFIED:20230131T074437Z
UID:10000085-1647788400-1647793800@friendshipcirclenc.org
SUMMARY:Inclusive Flag Football Game
DESCRIPTION:Inspired by Bar Mitzvah Boy Jonah Zaidman\, and under the guidance of Coach Dan Vizzini\, a seasoned sports coach and even better human being\, we will be hosting our first ever inclusive flag football game!Make sure to RSVP so you will have a jersey and be part of the fun.
URL:https://friendshipcirclenc.org/event/inclusive-flag-football-game/
LOCATION:NC
CATEGORIES:FC Family,FC Friends,FC Parents,Teen Friends
ATTACH;FMTTYPE=image/jpeg:https://friendshipcirclenc.org/wp-content/uploads/2022/02/Featured-Event-Image-18.jpg
END:VEVENT
END:VCALENDAR