BEGIN:VCALENDAR
VERSION:2.0
PRODID:-//Friendship Circle of Charlotte - ECPv6.15.15//NONSGML v1.0//EN
CALSCALE:GREGORIAN
METHOD:PUBLISH
X-WR-CALNAME:Friendship Circle of Charlotte
X-ORIGINAL-URL:https://friendshipcirclenc.org
X-WR-CALDESC:Events for Friendship Circle of Charlotte
REFRESH-INTERVAL;VALUE=DURATION:PT1H
X-Robots-Tag:noindex
X-PUBLISHED-TTL:PT1H
BEGIN:VTIMEZONE
TZID:America/New_York
BEGIN:DAYLIGHT
TZOFFSETFROM:-0500
TZOFFSETTO:-0400
TZNAME:EDT
DTSTART:20200308T070000
END:DAYLIGHT
BEGIN:STANDARD
TZOFFSETFROM:-0400
TZOFFSETTO:-0500
TZNAME:EST
DTSTART:20201101T060000
END:STANDARD
BEGIN:DAYLIGHT
TZOFFSETFROM:-0500
TZOFFSETTO:-0400
TZNAME:EDT
DTSTART:20210314T070000
END:DAYLIGHT
BEGIN:STANDARD
TZOFFSETFROM:-0400
TZOFFSETTO:-0500
TZNAME:EST
DTSTART:20211107T060000
END:STANDARD
BEGIN:DAYLIGHT
TZOFFSETFROM:-0500
TZOFFSETTO:-0400
TZNAME:EDT
DTSTART:20220313T070000
END:DAYLIGHT
BEGIN:STANDARD
TZOFFSETFROM:-0400
TZOFFSETTO:-0500
TZNAME:EST
DTSTART:20221106T060000
END:STANDARD
BEGIN:DAYLIGHT
TZOFFSETFROM:-0500
TZOFFSETTO:-0400
TZNAME:EDT
DTSTART:20230312T070000
END:DAYLIGHT
BEGIN:STANDARD
TZOFFSETFROM:-0400
TZOFFSETTO:-0500
TZNAME:EST
DTSTART:20231105T060000
END:STANDARD
END:VTIMEZONE
BEGIN:VEVENT
DTSTART;TZID=America/New_York:20220313T153000
DTEND;TZID=America/New_York:20220313T163000
DTSTAMP:20260424T023938
CREATED:20230131T074429Z
LAST-MODIFIED:20230131T074429Z
UID:10000088-1647185400-1647189000@friendshipcirclenc.org
SUMMARY:Hamantash Bake and Exchange
DESCRIPTION:Happy Purim! In honor of the upcoming holiday we will be baking our very own Hamantashen. We will be baking enough to bring a few home with us but most importantly enough to share with our friends. Don’t forget to wear your favorite Purim costume (but one that you do not mind getting a little dirty from baking).
URL:https://friendshipcirclenc.org/event/hamantash-bake-and-exchange/
LOCATION:North Carolina
CATEGORIES:FC Friends,Teen Friends
ATTACH;FMTTYPE=image/png:https://friendshipcirclenc.org/wp-content/uploads/2022/02/Hamantashen-Bake-.png
END:VEVENT
BEGIN:VEVENT
DTSTART;TZID=America/New_York:20220306T153000
DTEND;TZID=America/New_York:20220306T163000
DTSTAMP:20260424T023938
CREATED:20230131T074429Z
LAST-MODIFIED:20230131T074429Z
UID:10000098-1646580600-1646584200@friendshipcirclenc.org
SUMMARY:Make Your Own Bouncy Ball
DESCRIPTION:Come join us for an hour of creativity and fun as we each make our own bouncy balls. Get creative and make yours one of a kind. Let’s see who has the recipe to make theirs bounce the highest!
URL:https://friendshipcirclenc.org/event/make-your-own-bouncy-ball/
LOCATION:North Carolina
CATEGORIES:FC Friends,Teen Friends
ATTACH;FMTTYPE=image/png:https://friendshipcirclenc.org/wp-content/uploads/2022/02/Create-your-own-Bouncy-Ball-.png
END:VEVENT
BEGIN:VEVENT
DTSTART;TZID=America/New_York:20220227T153000
DTEND;TZID=America/New_York:20220227T163000
DTSTAMP:20260424T023938
CREATED:20230131T074438Z
LAST-MODIFIED:20230131T074438Z
UID:10000086-1645975800-1645979400@friendshipcirclenc.org
SUMMARY:Bowling with Friends
DESCRIPTION:After a very long time\, we’re excited to be heading out to enjoy a fun afternoon of bowling at Sports Connection. Please note that RSVP is required by Friday\, 2/11. Can’t wait to see you!
URL:https://friendshipcirclenc.org/event/bowling-with-friends/
LOCATION:North Carolina
CATEGORIES:FC Friends,Teen Friends
ATTACH;FMTTYPE=image/png:https://friendshipcirclenc.org/wp-content/uploads/2022/02/Bracelet-Making-3.png
END:VEVENT
BEGIN:VEVENT
DTSTART;TZID=America/New_York:20220213T153000
DTEND;TZID=America/New_York:20220213T163000
DTSTAMP:20260424T023938
CREATED:20230131T074438Z
LAST-MODIFIED:20230131T074438Z
UID:10000087-1644766200-1644769800@friendshipcirclenc.org
SUMMARY:Super Bowl Circle
DESCRIPTION:Join us for some pre-Super Bowl fun and bring your team spirit. We will be crafting\, playing\, enjoying snacks and some healthy competition. Don’t miss out. RSVP required.
URL:https://friendshipcirclenc.org/event/super-bowl-circle/
LOCATION:North Carolina
CATEGORIES:FC Friends,Teen Friends
ATTACH;FMTTYPE=image/png:https://friendshipcirclenc.org/wp-content/uploads/2022/02/Bracelet-Making.png
END:VEVENT
BEGIN:VEVENT
DTSTART;TZID=America/New_York:20220206T153000
DTEND;TZID=America/New_York:20220206T163000
DTSTAMP:20260424T023938
CREATED:20230131T074439Z
LAST-MODIFIED:20230131T074439Z
UID:10000009-1644161400-1644165000@friendshipcirclenc.org
SUMMARY:Workout with RyzAbove
DESCRIPTION:Join us for some exercise with Ryan Bost. Get ready to get fit and have fun!Note: This will be an indoor program.
URL:https://friendshipcirclenc.org/event/workout-with-ryzabove/
LOCATION:North Carolina
CATEGORIES:FC Friends,Teen Friends
ATTACH;FMTTYPE=image/png:https://friendshipcirclenc.org/wp-content/uploads/2022/01/Featured-Event-Image-7.png
END:VEVENT
BEGIN:VEVENT
DTSTART;TZID=America/New_York:20220130T153000
DTEND;TZID=America/New_York:20220130T163000
DTSTAMP:20260424T023938
CREATED:20230131T074542Z
LAST-MODIFIED:20230131T074542Z
UID:10000002-1643556600-1643560200@friendshipcirclenc.org
SUMMARY:Birthday Circle: Cupcake Making
DESCRIPTION:Come celebrate all of our January and February birthdays! We’ll be having an awesome first birthday party of the year and we’ll be baking and decorating our own Birthday Cupcakes!RSVP required.\nThis program will be indoors. Masks required.
URL:https://friendshipcirclenc.org/event/birthday-circle-cupcake-making/
LOCATION:North Carolina
CATEGORIES:FC Friends,Teen Friends
ATTACH;FMTTYPE=image/jpeg:https://friendshipcirclenc.org/wp-content/uploads/2023/01/Featured-Event-Image-15-t7UEyE.tmp_.jpg
END:VEVENT
BEGIN:VEVENT
DTSTART;TZID=America/New_York:20220123T033000
DTEND;TZID=America/New_York:20220123T163000
DTSTAMP:20260424T023938
CREATED:20230131T074439Z
LAST-MODIFIED:20230131T074439Z
UID:10000010-1642908600-1642955400@friendshipcirclenc.org
SUMMARY:Friendship Bracelet Making
DESCRIPTION:Friends are Forever! Join us for a fun arts and crafts activity that you will cherish forever! We’re making Friendship Bracelets!
URL:https://friendshipcirclenc.org/event/friendship-bracelet-making/
LOCATION:North Carolina
CATEGORIES:FC Friends,Teen Friends
ATTACH;FMTTYPE=image/png:https://friendshipcirclenc.org/wp-content/uploads/2023/01/Featured-Event-Image-6-ejkDWI.tmp_.png
END:VEVENT
BEGIN:VEVENT
DTSTART;TZID=America/New_York:20220109T153000
DTEND;TZID=America/New_York:20220109T163000
DTSTAMP:20260424T023938
CREATED:20230131T074543Z
LAST-MODIFIED:20230131T074543Z
UID:10000003-1641742200-1641745800@friendshipcirclenc.org
SUMMARY:Yoga
DESCRIPTION:Join us for a physically distanced but in-person Yoga and Movement. We can’t wait to see you!
URL:https://friendshipcirclenc.org/event/yoga/
LOCATION:North Carolina
CATEGORIES:FC Family,FC Friends,Teen Friends
ATTACH;FMTTYPE=image/jpeg:https://friendshipcirclenc.org/wp-content/uploads/2023/01/Yoga-qR1kFs.tmp_.jpg
END:VEVENT
BEGIN:VEVENT
DTSTART;TZID=America/New_York:20211219T153000
DTEND;TZID=America/New_York:20211219T163000
DTSTAMP:20260424T023938
CREATED:20230131T074543Z
LAST-MODIFIED:20230131T074543Z
UID:10000004-1639927800-1639931400@friendshipcirclenc.org
SUMMARY:Mad Science!
DESCRIPTION:Join us for an exciting journey into scientific mysteries and experiments!We’re welcoming Mad Science of Charlotte to Friendship Circle.
URL:https://friendshipcirclenc.org/event/mad-science/
LOCATION:North Carolina
CATEGORIES:FC Friends,Teen Friends
ATTACH;FMTTYPE=image/png:https://friendshipcirclenc.org/wp-content/uploads/2023/01/Featured-Event-Image-17-RFK3h9.tmp_.png
END:VEVENT
BEGIN:VEVENT
DTSTART;TZID=America/New_York:20211212T153000
DTEND;TZID=America/New_York:20211212T153000
DTSTAMP:20260424T023938
CREATED:20230131T074544Z
LAST-MODIFIED:20230131T074544Z
UID:10000005-1639323000-1639323000@friendshipcirclenc.org
SUMMARY:Let’s Make Pizza
DESCRIPTION:Calling all Friendship Circle friends and teen friends!Join us for a baking program to learn how to make your favorite pizza! We’ll have all different types of flavors and toppings and have blast too!
URL:https://friendshipcirclenc.org/event/lets-make-pizza/
LOCATION:North Carolina
CATEGORIES:FC Friends,Teen Friends
ATTACH;FMTTYPE=image/png:https://friendshipcirclenc.org/wp-content/uploads/2023/01/Featured-Event-Image-16-H4bmab.tmp_.png
END:VEVENT
BEGIN:VEVENT
DTSTART;TZID=America/New_York:20211205T153000
DTEND;TZID=America/New_York:20211205T170000
DTSTAMP:20260424T023938
CREATED:20230131T074545Z
LAST-MODIFIED:20230131T074545Z
UID:10000006-1638718200-1638723600@friendshipcirclenc.org
SUMMARY:Family Chanukah Party
DESCRIPTION:Inviting all Friendship Circle friends and their families! Yes\, you read that right\, parents and siblings are invited too!Let’s celebrate the last night of Chanukah in style with a \nDonut Decorating\nDonut Dash Game\nDonut Menorah\nYou Donut want to miss out!
URL:https://friendshipcirclenc.org/event/family-chanukah-party/
LOCATION:North Carolina
CATEGORIES:FC Family,FC Friends,FC Parents,Teen Friends
ATTACH;FMTTYPE=image/jpeg:https://friendshipcirclenc.org/wp-content/uploads/2023/01/Featured-Event-Image-17-lOFLR6.tmp_.jpg
END:VEVENT
BEGIN:VEVENT
DTSTART;TZID=America/New_York:20211129T173000
DTEND;TZID=America/New_York:20211129T180000
DTSTAMP:20260424T023938
CREATED:20230131T074600Z
LAST-MODIFIED:20230131T074600Z
UID:10000001-1638207000-1638208800@friendshipcirclenc.org
SUMMARY:Art Menorah Celebration @ Queens University
DESCRIPTION:Join us once again as we make our mark at the Charlotte Art Menorah at Queens University.\nJoin all FC Friends and their families to gather outside  and witness the Friendship Flame painted on the beautiful art Menorah designed in tribute to Justice Ruth Bader Ginsburg. Then we’ll light a candle Menorah onsite. \nThis event is part of a national initiative to highlight Jewish Street Art. Learn more about it here.
URL:https://friendshipcirclenc.org/event/art-menorah-celebration-queens-university/
LOCATION:North Carolina
CATEGORIES:Community,FC Family,FC Friends,FC Parents,Teen Friends
ATTACH;FMTTYPE=image/jpeg:https://friendshipcirclenc.org/wp-content/uploads/2023/01/ArtMenorah-QLZcTV.tmp_.jpg
END:VEVENT
BEGIN:VEVENT
DTSTART;TZID=America/New_York:20211128T170000
DTEND;TZID=America/New_York:20211128T190000
DTSTAMP:20260424T023938
CREATED:20230131T074559Z
LAST-MODIFIED:20230131T074559Z
UID:10000007-1638118800-1638126000@friendshipcirclenc.org
SUMMARY:8th Day Concert
DESCRIPTION:HIGHLIGHTSConcert with 8th day\nMenorah lighting\nKosher deli (pre-order)\nADMISSION / TICKETS (Pre-sale ends 11/22)\nGeneral admission\npre-sale $18 / standard $25 (+ FREE entry for Kids 5 and under )\nFamily package\npre-sale $54 / standard $75\nVIP (premium seat) – $118 sales ends 11/22/21\nSPONSORSHIP (Individual and corporate)\nAll levels of sponsorship include:\nSpecial mention at event and dinner\nVIP seats\nSponsor Levels\n$360 – 2 VIP Seats\n$500 – 3 VIP Seats\n$1\,000 – 4 VIP Seats + Medium banner of sponsor name/logo at event\n$1\,800 – 6 VIP Seats  + Medium banner of sponsor name/logo at event\n$5\,000 – 10 VIP seats + Large banner of sponsor name/logo at event
URL:https://friendshipcirclenc.org/event/8th-day-concert/
LOCATION:North Carolina
CATEGORIES:Community,FC Family,FC Friends,FC Parents,Teen Friends
ATTACH;FMTTYPE=image/jpeg:https://friendshipcirclenc.org/wp-content/uploads/2023/01/8thday-Tn9ks3.tmp_.jpg
END:VEVENT
BEGIN:VEVENT
DTSTART;TZID=America/New_York:20211121T153000
DTEND;TZID=America/New_York:20211121T163000
DTSTAMP:20260424T023938
CREATED:20230131T074601Z
LAST-MODIFIED:20230131T074601Z
UID:10000008-1637508600-1637512200@friendshipcirclenc.org
SUMMARY:Paint Ur Piece
DESCRIPTION:Join us to create a masterpiece of self-expression…This is a program for Friendship Circle Friends and Teen Friends. RSVP required.\nThis program will be in-person and outside and will follow all distancing guidelines.
URL:https://friendshipcirclenc.org/event/paint-ur-piece/
LOCATION:North Carolina
CATEGORIES:Community,FC Friends,Teen Friends
ATTACH;FMTTYPE=image/jpeg:https://friendshipcirclenc.org/wp-content/uploads/2023/01/Featured-Event-Image-6-E2N1LU.tmp_.jpg
END:VEVENT
BEGIN:VEVENT
DTSTART;TZID=America/New_York:20211114T123000
DTEND;TZID=America/New_York:20211114T153000
DTSTAMP:20260424T023938
CREATED:20230131T074727Z
LAST-MODIFIED:20230131T074727Z
UID:10000112-1636893000-1636903800@friendshipcirclenc.org
SUMMARY:Pajama Walk
DESCRIPTION:The Pajama Walk is a community walk to raise awareness and funds for Friendship Circle & ZABS Place – two local non-profits offering social opportunities and training & employment for individuals with special needs and talents. Join us in #MakingDreamsComeTrue!Sign up at PajamaWalk.com
URL:https://friendshipcirclenc.org/event/pajama-walk-2/
LOCATION:North Carolina
CATEGORIES:Community,FC Family,FC Friends,FC Parents,Teen Friends
ATTACH;FMTTYPE=image/jpeg:https://friendshipcirclenc.org/wp-content/uploads/2023/01/PajamaWalkSTD-LSJEAw.tmp_.jpg
END:VEVENT
BEGIN:VEVENT
DTSTART;TZID=America/New_York:20211107T153000
DTEND;TZID=America/New_York:20211107T163000
DTSTAMP:20260424T023938
CREATED:20230131T074602Z
LAST-MODIFIED:20230131T074602Z
UID:10000104-1636299000-1636302600@friendshipcirclenc.org
SUMMARY:Pajama Walk Practice – Drum Circle + Zumba!
DESCRIPTION:Sunday\, 11/7\, we’re inviting all our Friendship Circle Friends to join us in Freedom Park at the Bandshell Island from 3:30-4:30pm so we can practice our opening performance for the Pajama Walk.We’ll be joined by two incredibly talented friends: Mr. David Drum who will lead us in a drum warmup and walk kickoff and Ms. Monique Stamps who will lead us in a Zumba routine.\nALL Friendship Circle Friends\, Teen Friends (past\, present and future :)) are invited and encouraged to join us\, whether you’ll be performing at the Pajama Walk or not (can’t think of reason why you wouldn’t be coming :))\nAside from being tons of FUN to drum and zumba – on a stage\, with friends – in a park… this will also help everyone get comfortable for the Pajama Walk Opening Performance and know what to expect at the Pajama Walk.\nNOTE: The closest parking lot entrance to the Bandshell is at 2435 Cumberland Ave.\nPlease RSVP below (if you haven’t already.)\nCan’t wait to see you!
URL:https://friendshipcirclenc.org/event/pajama-walk-practice-drum-circle-zumba/
LOCATION:North Carolina
CATEGORIES:FC Friends,Teen Friends
ATTACH;FMTTYPE=image/jpeg:https://friendshipcirclenc.org/wp-content/uploads/2023/01/unnamed-1-Bsgnjy.tmp_.jpg
END:VEVENT
BEGIN:VEVENT
DTSTART;TZID=America/New_York:20211031T153000
DTEND;TZID=America/New_York:20211031T163000
DTSTAMP:20260424T023938
CREATED:20230131T074603Z
LAST-MODIFIED:20230131T074603Z
UID:10000105-1635694200-1635697800@friendshipcirclenc.org
SUMMARY:Fall FunFest
DESCRIPTION:Fall is such a beautiful season with the changing leaves\, the crisp weather\, seasonal flavors who doesn’t love pumpkin spice! (Ok\, there are probably lots of people.)\nSo for all those reasons we’re excited to get together and have some Fall Fun! Think Apple Decorating\, Pumpkin Bowling\, Guessing Games\, and lots of delicious fall snacks.\nRSVP required.\nThis program will be outdoors\, weather permitting. Masks required.
URL:https://friendshipcirclenc.org/event/fall-funfest/
LOCATION:North Carolina
CATEGORIES:FC Friends,Teen Friends
ATTACH;FMTTYPE=image/jpeg:https://friendshipcirclenc.org/wp-content/uploads/2023/01/Featured-Event-Image-16-PRlZoU.tmp_.jpg
END:VEVENT
BEGIN:VEVENT
DTSTART;TZID=America/New_York:20211024T153000
DTEND;TZID=America/New_York:20211024T163000
DTSTAMP:20260424T023938
CREATED:20230131T075426Z
LAST-MODIFIED:20230131T075426Z
UID:10000168-1635089400-1635093000@friendshipcirclenc.org
SUMMARY:Birthday Circle: Cookie Edition
DESCRIPTION:Come celebrate all of our September & October birthdays! We’ll be having an awesome first birthday party of the year and we’ll be baking and decorating our own Birthday Cookies!RSVP required.\nThis program will be indoors. Masks required.
URL:https://friendshipcirclenc.org/event/birthday-circle-cookie-edition/
LOCATION:North Carolina
CATEGORIES:FC Friends,Teen Friends
ATTACH;FMTTYPE=image/jpeg:https://friendshipcirclenc.org/wp-content/uploads/2023/01/Featured-Event-Image-15-t7UEyE.tmp_.jpg
END:VEVENT
BEGIN:VEVENT
DTSTART;TZID=America/New_York:20211017T153000
DTEND;TZID=America/New_York:20211017T163000
DTSTAMP:20260424T023938
CREATED:20230131T075241Z
LAST-MODIFIED:20230131T075241Z
UID:10000138-1634484600-1634488200@friendshipcirclenc.org
SUMMARY:Zumba
DESCRIPTION:Join us  for some dancing fun with a Zumba instructor. Make sure to wear comfy clothes and shoes cuz’ we’ll be dancin’ it up.RSVP required.\nThis program will be indoors and distanced. Masks required.
URL:https://friendshipcirclenc.org/event/zumba-2/
LOCATION:North Carolina
CATEGORIES:FC Friends,Teen Friends
ATTACH;FMTTYPE=image/jpeg:https://friendshipcirclenc.org/wp-content/uploads/2023/01/Featured-Event-Image-5-LL8q6u.tmp_.jpg
END:VEVENT
BEGIN:VEVENT
DTSTART;TZID=America/New_York:20211010T153000
DTEND;TZID=America/New_York:20211010T163000
DTSTAMP:20260424T023938
CREATED:20230131T074707Z
LAST-MODIFIED:20230131T074707Z
UID:10000106-1633879800-1633883400@friendshipcirclenc.org
SUMMARY:Bubbles\, Chalk & Dance
DESCRIPTION:It’s Bubbles and Chalk and Dancing time! Join your FC Friends for a day of outdoor creative fun using chalk\, bubbles & a bit of dance to create pictures and murals that come to life! 
URL:https://friendshipcirclenc.org/event/bubbles-chalk-dance/
LOCATION:North Carolina
CATEGORIES:FC Friends,Teen Friends
ATTACH;FMTTYPE=image/jpeg:https://friendshipcirclenc.org/wp-content/uploads/2023/01/Featured-Event-Image-14-d05jYp.tmp_.jpg
END:VEVENT
BEGIN:VEVENT
DTSTART;TZID=America/New_York:20211003T153000
DTEND;TZID=America/New_York:20211003T163000
DTSTAMP:20260424T023938
CREATED:20230131T074708Z
LAST-MODIFIED:20230131T074708Z
UID:10000107-1633275000-1633278600@friendshipcirclenc.org
SUMMARY:Tie Dye “Anything”
DESCRIPTION:Join us for an exciting creative art program where we will Tie Die Anything.Shirts\, Pillow Cases\, Caps\, You name it!\nWe will have many items to tie dye on site but feel free to bring your own items to tie dye as well!\nRSVP required.\nThis program will be in-person and outside. Masks required.
URL:https://friendshipcirclenc.org/event/tie-dye-anything/
LOCATION:North Carolina
CATEGORIES:FC Friends,Teen Friends
ATTACH;FMTTYPE=image/png:https://friendshipcirclenc.org/wp-content/uploads/2023/01/Featured-Event-Image-3-ApKDqB.tmp_.png
END:VEVENT
BEGIN:VEVENT
DTSTART;TZID=America/New_York:20210926T153000
DTEND;TZID=America/New_York:20210926T163000
DTSTAMP:20260424T023938
CREATED:20230131T074708Z
LAST-MODIFIED:20230131T074708Z
UID:10000108-1632670200-1632673800@friendshipcirclenc.org
SUMMARY:Sukkarowinds Outdoor Carnival
DESCRIPTION:Join Us For a Family-Style Sukkot Celebration!Get ready to compete in a life-sized board game loaded with holiday challenges and lots of fun! Enjoy a Lulav & Etrog Bungee Run\, Edible Sukkah Craft\, Lulav Ringtoss\, Snacks in the Sukkah\, and a Kosher Hotdog Dinner-to-Go.\nDate: Sunday\, September 26th at 3:30PM\nImportant Safety Requirements:\n– Masks are required for all participants.\n– Physical-Distancing guidelines will be implemented.
URL:https://friendshipcirclenc.org/event/sukkarowinds-outdoor-carnival/
LOCATION:North Carolina
CATEGORIES:Community,FC Family,FC Friends,Teen Friends
ATTACH;FMTTYPE=image/png:https://friendshipcirclenc.org/wp-content/uploads/2023/01/SukkahLand-2-e1632365904285-gsSBrN.tmp_.png
END:VEVENT
BEGIN:VEVENT
DTSTART;TZID=America/New_York:20210919T153000
DTEND;TZID=America/New_York:20210919T163000
DTSTAMP:20260424T023938
CREATED:20230131T074709Z
LAST-MODIFIED:20230131T074709Z
UID:10000109-1632065400-1632069000@friendshipcirclenc.org
SUMMARY:Karate
DESCRIPTION:Join us for Martial Arts with instructor Rebecca Mormann of Martial Arts University.
URL:https://friendshipcirclenc.org/event/karate/
LOCATION:North Carolina
CATEGORIES:FC Friends,Teen Friends
ATTACH;FMTTYPE=image/png:https://friendshipcirclenc.org/wp-content/uploads/2023/01/Featured-Event-Image-14-p9Mo0D.tmp_.png
END:VEVENT
BEGIN:VEVENT
DTSTART;TZID=America/New_York:20210912T153000
DTEND;TZID=America/New_York:20210912T163000
DTSTAMP:20260424T023938
CREATED:20230131T074710Z
LAST-MODIFIED:20230131T074710Z
UID:10000110-1631460600-1631464200@friendshipcirclenc.org
SUMMARY:Drum Circle
DESCRIPTION:Join us as we jam with Mr. David Drum in the Friendship Circle parking lot! Join us once again for some drumming fun!
URL:https://friendshipcirclenc.org/event/drum-circle/
LOCATION:North Carolina
CATEGORIES:FC Family,FC Friends,FC Parents,Teen Friends
ATTACH;FMTTYPE=image/png:https://friendshipcirclenc.org/wp-content/uploads/2023/01/Featured-Event-Image-1-CPnXKL.tmp_.png
END:VEVENT
BEGIN:VEVENT
DTSTART;TZID=America/New_York:20210909T180000
DTEND;TZID=America/New_York:20210909T193000
DTSTAMP:20260424T023938
CREATED:20230131T074728Z
LAST-MODIFIED:20230131T074728Z
UID:10000113-1631210400-1631215800@friendshipcirclenc.org
SUMMARY:Teen Friend Kickoff
DESCRIPTION:Calling all Friendship Circle Teen Friends to join us for an evening of fun and reflection while learning about an inspirational year ahead at Friendship Circle.
URL:https://friendshipcirclenc.org/event/teen-friend-kickoff/
LOCATION:North Carolina
CATEGORIES:Teen Friends
ATTACH;FMTTYPE=image/png:https://friendshipcirclenc.org/wp-content/uploads/2023/01/FC-Kickoff-3e3Jug.tmp_.png
END:VEVENT
BEGIN:VEVENT
DTSTART;TZID=America/New_York:20210829T173000
DTEND;TZID=America/New_York:20210829T190000
DTSTAMP:20260424T023938
CREATED:20230131T074726Z
LAST-MODIFIED:20230131T074726Z
UID:10000111-1630258200-1630263600@friendshipcirclenc.org
SUMMARY:Kickoff Family BBQ
DESCRIPTION:Join us at Squirrel Lake Park for a Friendship Circle Family New Year Kickoff. All our Friends and their parents and siblings are invited.No need to bring any food\, BBQ picnic will be catered by Kosher Charlotte.\nRSVP below is required so we can make sure there is enough food.\nWe can’t wait to see you!
URL:https://friendshipcirclenc.org/event/kickoff-family-bbq/
LOCATION:North Carolina
CATEGORIES:FC Family,FC Friends,FC Parents,Teen Friends
ATTACH;FMTTYPE=image/png:https://friendshipcirclenc.org/wp-content/uploads/2023/01/Featured-Event-Image-FQldBQ.tmp_.png
END:VEVENT
BEGIN:VEVENT
DTSTART;TZID=America/New_York:20210603T173000
DTEND;TZID=America/New_York:20210603T190000
DTSTAMP:20260424T023938
CREATED:20230131T074729Z
LAST-MODIFIED:20230131T074729Z
UID:10000012-1622741400-1622746800@friendshipcirclenc.org
SUMMARY:Family Picnic
DESCRIPTION:Join us at Squirrel Lake Park for a Friendship Circle Family End-of-Year Picnic. All our Friends and their parents and siblings are invited.No need to bring any food\, picnic will be catered by Kosher Charlotte.\nRSVP below is required so we can make sure there is enough food.
URL:https://friendshipcirclenc.org/event/family-picnic/
LOCATION:North Carolina
CATEGORIES:FC Family,FC Friends,FC Parents,Teen Friends
ATTACH;FMTTYPE=image/png:https://friendshipcirclenc.org/wp-content/uploads/2023/01/Featured-Event-Image-12-FwXHCG.tmp_.png
END:VEVENT
BEGIN:VEVENT
DTSTART;TZID=America/New_York:20210523T153000
DTEND;TZID=America/New_York:20210523T163000
DTSTAMP:20260424T023938
CREATED:20230131T075157Z
LAST-MODIFIED:20230131T075157Z
UID:10000038-1621783800-1621787400@friendshipcirclenc.org
SUMMARY:Drum Circle
DESCRIPTION:It’s hard to believe it’s been a whole year since we jammed with Mr. David Drum in the Friendship Circle parking lot! Join us once again for some drumming fun!
URL:https://friendshipcirclenc.org/event/drum-circle-2/
LOCATION:North Carolina
CATEGORIES:FC Family,FC Friends,FC Parents,Teen Friends
ATTACH;FMTTYPE=image/jpeg:https://friendshipcirclenc.org/wp-content/uploads/2023/01/drumcircle-outdoor-LFFV63.tmp_.jpg
END:VEVENT
BEGIN:VEVENT
DTSTART;TZID=America/New_York:20210520T163000
DTEND;TZID=America/New_York:20210520T173000
DTSTAMP:20260424T023938
CREATED:20230131T074800Z
LAST-MODIFIED:20230131T074800Z
UID:10000014-1621528200-1621531800@friendshipcirclenc.org
SUMMARY:Friendship Loaves
DESCRIPTION:We’re all about recognizing abilities\, especially when they smell and taste as good as freshly baked Challah! Friendship Loaves is a project of Friendship Circle\, to offer culinary opportunities to our Specially Talented Friends.Come roll up your sleeves and enjoy the process of making your own loaf of delicious Challah.\nNote: This program will be held indoors. Masks are required.
URL:https://friendshipcirclenc.org/event/friendship-loaves/
LOCATION:North Carolina
CATEGORIES:FC Friends,Teen Friends
ATTACH;FMTTYPE=image/png:https://friendshipcirclenc.org/wp-content/uploads/2023/01/Friendship-Loaves-labels-1-WNZT9R.tmp_.png
END:VEVENT
BEGIN:VEVENT
DTSTART;TZID=America/New_York:20210506T190000
DTEND;TZID=America/New_York:20210506T190000
DTSTAMP:20260424T023938
CREATED:20230131T075427Z
LAST-MODIFIED:20230131T075427Z
UID:10000134-1620327600-1620327600@friendshipcirclenc.org
SUMMARY:One More Thing I Wish You Knew
DESCRIPTION:Join us for an inspiring and informative virtual evening focused on resilience in our community and learn how you can make a difference for yourself and others.\nEveryone has a story. Now it’s time to listen.\nTwo courageous individuals will share their story of perseverance. \nFeatured Speakers: \nJaime Kosofsky\, Founding partners of the North Carolina based law firm of Brady & Kosofsky.\nJamel Merriman\, Local Artist and ZABS Place Talent \n \nWhen: Thursday\, May 6th at 7:00PM\nWhere: Virtual: Joining link will be emailed to participants after registration.\nA joint program of Jewish Family Services\, UMatter\, and Friendship Circle\nThis event is made possible thanks to the support of the Jewish Federation of Greater Charlotte.
URL:https://friendshipcirclenc.org/event/one-more-thing-i-wish-you-knew/
LOCATION:North Carolina
CATEGORIES:Community,FC Family,FC Friends,FC Parents,Teen Friends
ATTACH;FMTTYPE=image/jpeg:https://friendshipcirclenc.org/wp-content/uploads/2023/01/1morething-E8DgXb.tmp_.jpg
END:VEVENT
END:VCALENDAR