BEGIN:VCALENDAR
VERSION:2.0
PRODID:-//Friendship Circle of Charlotte - ECPv6.15.15//NONSGML v1.0//EN
CALSCALE:GREGORIAN
METHOD:PUBLISH
X-WR-CALNAME:Friendship Circle of Charlotte
X-ORIGINAL-URL:https://friendshipcirclenc.org
X-WR-CALDESC:Events for Friendship Circle of Charlotte
REFRESH-INTERVAL;VALUE=DURATION:PT1H
X-Robots-Tag:noindex
X-PUBLISHED-TTL:PT1H
BEGIN:VTIMEZONE
TZID:America/New_York
BEGIN:DAYLIGHT
TZOFFSETFROM:-0500
TZOFFSETTO:-0400
TZNAME:EDT
DTSTART:20230312T070000
END:DAYLIGHT
BEGIN:STANDARD
TZOFFSETFROM:-0400
TZOFFSETTO:-0500
TZNAME:EST
DTSTART:20231105T060000
END:STANDARD
BEGIN:DAYLIGHT
TZOFFSETFROM:-0500
TZOFFSETTO:-0400
TZNAME:EDT
DTSTART:20240310T070000
END:DAYLIGHT
BEGIN:STANDARD
TZOFFSETFROM:-0400
TZOFFSETTO:-0500
TZNAME:EST
DTSTART:20241103T060000
END:STANDARD
BEGIN:DAYLIGHT
TZOFFSETFROM:-0500
TZOFFSETTO:-0400
TZNAME:EDT
DTSTART:20250309T070000
END:DAYLIGHT
BEGIN:STANDARD
TZOFFSETFROM:-0400
TZOFFSETTO:-0500
TZNAME:EST
DTSTART:20251102T060000
END:STANDARD
END:VTIMEZONE
BEGIN:VEVENT
DTSTART;TZID=America/New_York:20240201T140000
DTEND;TZID=America/New_York:20240201T150000
DTSTAMP:20260422T011347
CREATED:20230926T153225Z
LAST-MODIFIED:20231027T171448Z
UID:10000263-1706796000-1706799600@friendshipcirclenc.org
SUMMARY:CJDS Senior Visit
DESCRIPTION:CJDS middle school student visit with senior buddies.
URL:https://friendshipcirclenc.org/event/cjds-senior-visit-8/
LOCATION:The Barclay at Southpark\, 4801 Barclay Downs Drive\, Charlotte\, United States
CATEGORIES:Seniors,Teen
ATTACH;FMTTYPE=image/png:https://friendshipcirclenc.org/wp-content/uploads/2023/09/BT-CJDS1.png
ORGANIZER;CN="Lauren Stark":MAILTO:Lauren@friendshipcirclenc.org
END:VEVENT
BEGIN:VEVENT
DTSTART;TZID=America/New_York:20240208T140000
DTEND;TZID=America/New_York:20240208T150000
DTSTAMP:20260422T011347
CREATED:20230926T153405Z
LAST-MODIFIED:20230926T185950Z
UID:10000264-1707400800-1707404400@friendshipcirclenc.org
SUMMARY:CJDS Senior Visit
DESCRIPTION:CJDS middle school student visit with senior buddies.
URL:https://friendshipcirclenc.org/event/cjds-senior-visit-9/
LOCATION:Waltonwood – Cotswold\, 5215 Randolph Road\, Charlotte\, NC\, 28211\, United States
CATEGORIES:Seniors,Teen
ATTACH;FMTTYPE=image/png:https://friendshipcirclenc.org/wp-content/uploads/2023/09/BT-CJDS1.png
ORGANIZER;CN="Lauren Stark":MAILTO:Lauren@friendshipcirclenc.org
END:VEVENT
BEGIN:VEVENT
DTSTART;TZID=America/New_York:20240211T140000
DTEND;TZID=America/New_York:20240211T150000
DTSTAMP:20260422T011347
CREATED:20231016T152840Z
LAST-MODIFIED:20231204T154858Z
UID:10000272-1707660000-1707663600@friendshipcirclenc.org
SUMMARY:Senior Program - Drum Circle
DESCRIPTION:Join in the Drum Circle fun with our Senior friends.
URL:https://friendshipcirclenc.org/event/bt-senior-program-drum-circle/
LOCATION:Windsor Run\, 2030 Windsor Run Lane\, Matthews\, North Carolina\, 28105
CATEGORIES:Seniors,Teen
ATTACH;FMTTYPE=image/png:https://friendshipcirclenc.org/wp-content/uploads/2023/10/Drum-Circle-Windsor-Run.png
ORGANIZER;CN="Lauren Stark":MAILTO:Lauren@friendshipcirclenc.org
END:VEVENT
BEGIN:VEVENT
DTSTART;TZID=America/New_York:20240215T140000
DTEND;TZID=America/New_York:20240215T150000
DTSTAMP:20260422T011347
CREATED:20230926T153443Z
LAST-MODIFIED:20231027T171528Z
UID:10000265-1708005600-1708009200@friendshipcirclenc.org
SUMMARY:CJDS Senior Visit
DESCRIPTION:CJDS middle school student visit with senior buddies.
URL:https://friendshipcirclenc.org/event/cjds-senior-visit-10/
LOCATION:The Barclay at Southpark\, 4801 Barclay Downs Drive\, Charlotte\, United States
CATEGORIES:Seniors,Teen
ATTACH;FMTTYPE=image/png:https://friendshipcirclenc.org/wp-content/uploads/2023/09/BT-CJDS1.png
ORGANIZER;CN="Lauren Stark":MAILTO:Lauren@friendshipcirclenc.org
END:VEVENT
BEGIN:VEVENT
DTSTART;TZID=America/New_York:20240218T133000
DTEND;TZID=America/New_York:20240218T143000
DTSTAMP:20260422T011347
CREATED:20231016T153915Z
LAST-MODIFIED:20240123T181730Z
UID:10000279-1708263000-1708266600@friendshipcirclenc.org
SUMMARY:Sunday Program - Decorate a Pot
DESCRIPTION:Decorate a planting pot with our senior friends at Merrywood on Park.
URL:https://friendshipcirclenc.org/event/sunday-program-decorate/
LOCATION:Merrywood on Park\, 3600 Park Road\, Charlotte\, NC\, 28209\, United States
CATEGORIES:FC Friends,Seniors,Teen,Teen Friends
ATTACH;FMTTYPE=image/png:https://friendshipcirclenc.org/wp-content/uploads/2023/10/Feb-18-Craft-MoP-Sunday-Program.png
ORGANIZER;CN="Lauren Stark":MAILTO:Lauren@friendshipcirclenc.org
END:VEVENT
BEGIN:VEVENT
DTSTART;TZID=America/New_York:20240222T140000
DTEND;TZID=America/New_York:20240222T150000
DTSTAMP:20260422T011347
CREATED:20230926T153521Z
LAST-MODIFIED:20230926T190036Z
UID:10000266-1708610400-1708614000@friendshipcirclenc.org
SUMMARY:CJDS Senior Visit
DESCRIPTION:CJDS middle school student visit with senior buddies.
URL:https://friendshipcirclenc.org/event/cjds-senior-visit-11/
LOCATION:Waltonwood – Cotswold\, 5215 Randolph Road\, Charlotte\, NC\, 28211\, United States
CATEGORIES:Seniors,Teen
ATTACH;FMTTYPE=image/png:https://friendshipcirclenc.org/wp-content/uploads/2023/09/BT-CJDS1.png
ORGANIZER;CN="Lauren Stark":MAILTO:Lauren@friendshipcirclenc.org
END:VEVENT
BEGIN:VEVENT
DTSTART;TZID=America/New_York:20240229T140000
DTEND;TZID=America/New_York:20240229T150000
DTSTAMP:20260422T011347
CREATED:20230926T153607Z
LAST-MODIFIED:20231027T171602Z
UID:10000267-1709215200-1709218800@friendshipcirclenc.org
SUMMARY:CJDS Senior Visit
DESCRIPTION:CJDS middle school student visit with senior buddies.
URL:https://friendshipcirclenc.org/event/cjds-senior-visit-12/
LOCATION:The Barclay at Southpark\, 4801 Barclay Downs Drive\, Charlotte\, United States
CATEGORIES:Seniors,Teen
ATTACH;FMTTYPE=image/png:https://friendshipcirclenc.org/wp-content/uploads/2023/09/BT-CJDS1.png
ORGANIZER;CN="Lauren Stark":MAILTO:Lauren@friendshipcirclenc.org
END:VEVENT
END:VCALENDAR