BEGIN:VCALENDAR
VERSION:2.0
PRODID:-//Friendship Circle of Charlotte - ECPv6.15.15//NONSGML v1.0//EN
CALSCALE:GREGORIAN
METHOD:PUBLISH
X-ORIGINAL-URL:https://friendshipcirclenc.org
X-WR-CALDESC:Events for Friendship Circle of Charlotte
REFRESH-INTERVAL;VALUE=DURATION:PT1H
X-Robots-Tag:noindex
X-PUBLISHED-TTL:PT1H
BEGIN:VTIMEZONE
TZID:America/New_York
BEGIN:DAYLIGHT
TZOFFSETFROM:-0500
TZOFFSETTO:-0400
TZNAME:EDT
DTSTART:20230312T070000
END:DAYLIGHT
BEGIN:STANDARD
TZOFFSETFROM:-0400
TZOFFSETTO:-0500
TZNAME:EST
DTSTART:20231105T060000
END:STANDARD
BEGIN:DAYLIGHT
TZOFFSETFROM:-0500
TZOFFSETTO:-0400
TZNAME:EDT
DTSTART:20240310T070000
END:DAYLIGHT
BEGIN:STANDARD
TZOFFSETFROM:-0400
TZOFFSETTO:-0500
TZNAME:EST
DTSTART:20241103T060000
END:STANDARD
BEGIN:DAYLIGHT
TZOFFSETFROM:-0500
TZOFFSETTO:-0400
TZNAME:EDT
DTSTART:20250309T070000
END:DAYLIGHT
BEGIN:STANDARD
TZOFFSETFROM:-0400
TZOFFSETTO:-0500
TZNAME:EST
DTSTART:20251102T060000
END:STANDARD
END:VTIMEZONE
BEGIN:VEVENT
DTSTART;TZID=America/New_York:20240317T133000
DTEND;TZID=America/New_York:20240317T143000
DTSTAMP:20260421T235429
CREATED:20231016T154144Z
LAST-MODIFIED:20231016T154144Z
UID:10000281-1710682200-1710685800@friendshipcirclenc.org
SUMMARY:Sunday Program at Merrywood on Park
DESCRIPTION:Senior program at Merrywood on Park.
URL:https://friendshipcirclenc.org/event/sunday-program-at-merrywood-on-park-3/
LOCATION:Merrywood on Park\, 3600 Park Road\, Charlotte\, NC\, 28209\, United States
CATEGORIES:Seniors,Teen
ATTACH;FMTTYPE=image/png:https://friendshipcirclenc.org/wp-content/uploads/2023/10/BT-Sunday-at-Merrywood-on-Park.png
ORGANIZER;CN="Lauren Stark":MAILTO:Lauren@friendshipcirclenc.org
END:VEVENT
BEGIN:VEVENT
DTSTART;TZID=America/New_York:20240319T160000
DTEND;TZID=America/New_York:20240319T170000
DTSTAMP:20260421T235429
CREATED:20240216T192024Z
LAST-MODIFIED:20240216T192312Z
UID:10000316-1710864000-1710867600@friendshipcirclenc.org
SUMMARY:BT: Make & Take Hamentaschen
DESCRIPTION:Join some terrific senior ladies at The Barclay\, as we make Hamentashen to take home to bake.
URL:https://friendshipcirclenc.org/event/bt-make-take-hamentaschen/
LOCATION:The Barclay at Southpark\, 4801 Barclay Downs Drive\, Charlotte\, United States
CATEGORIES:Seniors,Teen
ATTACH;FMTTYPE=image/png:https://friendshipcirclenc.org/wp-content/uploads/2024/02/The-Barclay-Hamentaschen.png
ORGANIZER;CN="Lauren Stark":MAILTO:Lauren@friendshipcirclenc.org
END:VEVENT
BEGIN:VEVENT
DTSTART;TZID=America/New_York:20240324T153000
DTEND;TZID=America/New_York:20240324T163000
DTSTAMP:20260421T235429
CREATED:20231016T153113Z
LAST-MODIFIED:20240110T182402Z
UID:10000274-1711294200-1711297800@friendshipcirclenc.org
SUMMARY:Purim Party at Windsor Run with Friendship Circle
DESCRIPTION:Friendship Circle travels to Windsor Run for a inter-generational Purim Party.
URL:https://friendshipcirclenc.org/event/senior-program-at-windsor-run/
LOCATION:Windsor Run\, 2030 Windsor Run Lane\, Matthews\, North Carolina\, 28105
CATEGORIES:Seniors,Teen
ATTACH;FMTTYPE=image/png:https://friendshipcirclenc.org/wp-content/uploads/2023/10/Purim-Party-Sunday-Program.png
ORGANIZER;CN="Lauren Stark":MAILTO:Lauren@friendshipcirclenc.org
END:VEVENT
END:VCALENDAR