BEGIN:VCALENDAR
VERSION:2.0
PRODID:-//Friendship Circle of Charlotte - ECPv6.15.15//NONSGML v1.0//EN
CALSCALE:GREGORIAN
METHOD:PUBLISH
X-ORIGINAL-URL:https://friendshipcirclenc.org
X-WR-CALDESC:Events for Friendship Circle of Charlotte
REFRESH-INTERVAL;VALUE=DURATION:PT1H
X-Robots-Tag:noindex
X-PUBLISHED-TTL:PT1H
BEGIN:VTIMEZONE
TZID:America/New_York
BEGIN:DAYLIGHT
TZOFFSETFROM:-0500
TZOFFSETTO:-0400
TZNAME:EDT
DTSTART:20230312T070000
END:DAYLIGHT
BEGIN:STANDARD
TZOFFSETFROM:-0400
TZOFFSETTO:-0500
TZNAME:EST
DTSTART:20231105T060000
END:STANDARD
BEGIN:DAYLIGHT
TZOFFSETFROM:-0500
TZOFFSETTO:-0400
TZNAME:EDT
DTSTART:20240310T070000
END:DAYLIGHT
BEGIN:STANDARD
TZOFFSETFROM:-0400
TZOFFSETTO:-0500
TZNAME:EST
DTSTART:20241103T060000
END:STANDARD
BEGIN:DAYLIGHT
TZOFFSETFROM:-0500
TZOFFSETTO:-0400
TZNAME:EDT
DTSTART:20250309T070000
END:DAYLIGHT
BEGIN:STANDARD
TZOFFSETFROM:-0400
TZOFFSETTO:-0500
TZNAME:EST
DTSTART:20251102T060000
END:STANDARD
END:VTIMEZONE
BEGIN:VEVENT
DTSTART;TZID=America/New_York:20241029T163000
DTEND;TZID=America/New_York:20241029T173000
DTSTAMP:20260422T161654
CREATED:20240716T153344Z
LAST-MODIFIED:20240813T222541Z
UID:10000485-1730219400-1730223000@friendshipcirclenc.org
SUMMARY:Film Club
DESCRIPTION:Lights\, Camera\, Action! Join us this Fall for a 6-week Film Club. Friends will write and film their very own movie under the guidance of professional screenwriter and FC Dad\, Charlie Gale. All levels of film and acting experience are welcome. \nImportant Details: \n\nDates: 9/24\, 10/1\, 10/8\, 10/15\, 10/22\, 10/29\nAges: Friends 13+\n\n  \nParticipation in Friendship Circle programs is for registered friends only. 
URL:https://friendshipcirclenc.org/event/film-club/2024-10-29/
LOCATION:Selkin Family Friendship Circle Center\, 6619 Sardis Road\, Charlotte\, NC\, 28270\, United States
CATEGORIES:FC Friends,P.S. YAC
ATTACH;FMTTYPE=image/png:https://friendshipcirclenc.org/wp-content/uploads/2024/07/Film-Club.png
END:VEVENT
BEGIN:VEVENT
DTSTART;TZID=America/New_York:20241022T163000
DTEND;TZID=America/New_York:20241022T173000
DTSTAMP:20260422T161654
CREATED:20240716T153344Z
LAST-MODIFIED:20240813T222541Z
UID:10000484-1729614600-1729618200@friendshipcirclenc.org
SUMMARY:Film Club
DESCRIPTION:Lights\, Camera\, Action! Join us this Fall for a 6-week Film Club. Friends will write and film their very own movie under the guidance of professional screenwriter and FC Dad\, Charlie Gale. All levels of film and acting experience are welcome. \nImportant Details: \n\nDates: 9/24\, 10/1\, 10/8\, 10/15\, 10/22\, 10/29\nAges: Friends 13+\n\n  \nParticipation in Friendship Circle programs is for registered friends only. 
URL:https://friendshipcirclenc.org/event/film-club/2024-10-22/
LOCATION:Selkin Family Friendship Circle Center\, 6619 Sardis Road\, Charlotte\, NC\, 28270\, United States
CATEGORIES:FC Friends,P.S. YAC
ATTACH;FMTTYPE=image/png:https://friendshipcirclenc.org/wp-content/uploads/2024/07/Film-Club.png
END:VEVENT
BEGIN:VEVENT
DTSTART;TZID=America/New_York:20241015T163000
DTEND;TZID=America/New_York:20241015T173000
DTSTAMP:20260422T161654
CREATED:20240716T153344Z
LAST-MODIFIED:20240813T222541Z
UID:10000483-1729009800-1729013400@friendshipcirclenc.org
SUMMARY:Film Club
DESCRIPTION:Lights\, Camera\, Action! Join us this Fall for a 6-week Film Club. Friends will write and film their very own movie under the guidance of professional screenwriter and FC Dad\, Charlie Gale. All levels of film and acting experience are welcome. \nImportant Details: \n\nDates: 9/24\, 10/1\, 10/8\, 10/15\, 10/22\, 10/29\nAges: Friends 13+\n\n  \nParticipation in Friendship Circle programs is for registered friends only. 
URL:https://friendshipcirclenc.org/event/film-club/2024-10-15/
LOCATION:Selkin Family Friendship Circle Center\, 6619 Sardis Road\, Charlotte\, NC\, 28270\, United States
CATEGORIES:FC Friends,P.S. YAC
ATTACH;FMTTYPE=image/png:https://friendshipcirclenc.org/wp-content/uploads/2024/07/Film-Club.png
END:VEVENT
BEGIN:VEVENT
DTSTART;TZID=America/New_York:20241008T163000
DTEND;TZID=America/New_York:20241008T173000
DTSTAMP:20260422T161654
CREATED:20240716T153344Z
LAST-MODIFIED:20240813T222541Z
UID:10000482-1728405000-1728408600@friendshipcirclenc.org
SUMMARY:Film Club
DESCRIPTION:Lights\, Camera\, Action! Join us this Fall for a 6-week Film Club. Friends will write and film their very own movie under the guidance of professional screenwriter and FC Dad\, Charlie Gale. All levels of film and acting experience are welcome. \nImportant Details: \n\nDates: 9/24\, 10/1\, 10/8\, 10/15\, 10/22\, 10/29\nAges: Friends 13+\n\n  \nParticipation in Friendship Circle programs is for registered friends only. 
URL:https://friendshipcirclenc.org/event/film-club/2024-10-08/
LOCATION:Selkin Family Friendship Circle Center\, 6619 Sardis Road\, Charlotte\, NC\, 28270\, United States
CATEGORIES:FC Friends,P.S. YAC
ATTACH;FMTTYPE=image/png:https://friendshipcirclenc.org/wp-content/uploads/2024/07/Film-Club.png
END:VEVENT
BEGIN:VEVENT
DTSTART;TZID=America/New_York:20241001T163000
DTEND;TZID=America/New_York:20241001T173000
DTSTAMP:20260422T161654
CREATED:20240716T153344Z
LAST-MODIFIED:20240813T222541Z
UID:10000488-1727800200-1727803800@friendshipcirclenc.org
SUMMARY:Film Club
DESCRIPTION:Lights\, Camera\, Action! Join us this Fall for a 6-week Film Club. Friends will write and film their very own movie under the guidance of professional screenwriter and FC Dad\, Charlie Gale. All levels of film and acting experience are welcome. \nImportant Details: \n\nDates: 9/24\, 10/1\, 10/8\, 10/15\, 10/22\, 10/29\nAges: Friends 13+\n\n  \nParticipation in Friendship Circle programs is for registered friends only. 
URL:https://friendshipcirclenc.org/event/film-club/2024-10-01/
LOCATION:Selkin Family Friendship Circle Center\, 6619 Sardis Road\, Charlotte\, NC\, 28270\, United States
CATEGORIES:FC Friends,P.S. YAC
ATTACH;FMTTYPE=image/png:https://friendshipcirclenc.org/wp-content/uploads/2024/07/Film-Club.png
END:VEVENT
BEGIN:VEVENT
DTSTART;TZID=America/New_York:20240915T153000
DTEND;TZID=America/New_York:20240915T170000
DTSTAMP:20260422T161654
CREATED:20240806T172004Z
LAST-MODIFIED:20240813T210307Z
UID:10000424-1726414200-1726419600@friendshipcirclenc.org
SUMMARY:Gardening Birthday Circle
DESCRIPTION:Our friend “Marissa The Gardener” is back to help us celebrate our September Birthdays and spruce up the Friendship Circle garden for Fall. Join us for an afternoon of planting\, fun\, sun\, and birthday treats! \nPlease remember to wear sunscreen and gardening friendly clothes. \nParticipation in Friendship Circle programs is for registered Friends only.
URL:https://friendshipcirclenc.org/event/birthdaycirclegardening/
LOCATION:Selkin Family Friendship Circle Center\, 6619 Sardis Road\, Charlotte\, NC\, 28270\, United States
CATEGORIES:FC Friends,Teen Friends
ATTACH;FMTTYPE=image/png:https://friendshipcirclenc.org/wp-content/uploads/2024/08/Gardening-BdayCircle.png
END:VEVENT
BEGIN:VEVENT
DTSTART;TZID=America/New_York:20240908T153000
DTEND;TZID=America/New_York:20240908T170000
DTSTAMP:20260422T161654
CREATED:20240806T161622Z
LAST-MODIFIED:20240813T224351Z
UID:10000423-1725809400-1725814800@friendshipcirclenc.org
SUMMARY:Welcome Back with RyzeAb0ve Fitness
DESCRIPTION:Join us for the first Sunday program of the year! We will welcome new friends\, catch up with old ones\, and have lots of active fun with RyzeAb0ve Fitness. Please dress in comfortable clothes for movement. \nPlease RSVP by Thursday\, 9/5 so we can plan accordingly. \nParticipation in Friendship Circle programs is for registered Friends only.
URL:https://friendshipcirclenc.org/event/ryzeabovefitness/
LOCATION:Selkin Family Friendship Circle Center\, 6619 Sardis Road\, Charlotte\, NC\, 28270\, United States
CATEGORIES:FC Friends,Teen Friends
ATTACH;FMTTYPE=image/png:https://friendshipcirclenc.org/wp-content/uploads/2024/08/RyzeAbove-Fitness.png
END:VEVENT
BEGIN:VEVENT
DTSTART;TZID=America/New_York:20240805T173000
DTEND;TZID=America/New_York:20240805T190000
DTSTAMP:20260422T161654
CREATED:20240715T202544Z
LAST-MODIFIED:20240730T012535Z
UID:10000421-1722879000-1722884400@friendshipcirclenc.org
SUMMARY:YAC: Game Night
DESCRIPTION:We’re inviting co-workers and friends from ZABS Place and Friendship Circle’s P.S. YAC to join us for a fun August ZABS After Hourz. This month\, we will gather at Friendship Circle for a board game night! Enjoy great conversation with old and new friends while engaging in a little friendly competition. We will also share a meal together and celebrate our friends who are heading off to college. \nZABS After Hourz events are a chance for current and past ZABS Talent to experience a sense of independence as they get together after work and enjoy each other’s friendship. These gatherings are not intended for Parent or Guardian participation. \nAttendees are encouraged to wear a ZABS Place\, Pajama Walk -OR- Friendship Circle shirt.
URL:https://friendshipcirclenc.org/event/yac-game-night/
LOCATION:Selkin Family Friendship Circle Center\, 6619 Sardis Road\, Charlotte\, NC\, 28270\, United States
CATEGORIES:P.S. YAC
ATTACH;FMTTYPE=image/png:https://friendshipcirclenc.org/wp-content/uploads/2024/07/85-ZAH-1.png
END:VEVENT
BEGIN:VEVENT
DTSTART;TZID=America/New_York:20240710T180000
DTEND;TZID=America/New_York:20240710T200000
DTSTAMP:20260422T161654
CREATED:20240621T013205Z
LAST-MODIFIED:20240621T020320Z
UID:10000394-1720634400-1720641600@friendshipcirclenc.org
SUMMARY:YAC: Inclusive Rugby
DESCRIPTION:We’re excited to partner with the Charlotte Cardinals Rugby Club for our July Philip Sperling Young Adult Circle event! We will meet at the OrthoCarolina Sportsplex in Pineville to join the Cardinals for one of their summer rugby sessions\, during which they will lead fun rugby drills and games\, and teach us all about this exciting sport. The ZABS After Hourz group will join us and friends will play alongside peers on the Cardinals team. It will be a fun-filled evening of bonding with friends and making new ones! \nImportant Details:\n\nNo rugby experience is required!\nWater will be provided during activities.\nA picnic dinner will be provided. (Gluten\, Dairy\, and Nut-Free options are available – please list allergies).\nAttendees are encouraged to wear a Friendship Circle\, Pajama Walk\, or ZABS Place shirt\, and wear clothes that are comfortable to move in.\n\nP.S. YAC events are designed for our Friends 18+ to experience a sense of independence as they get together with peers and enjoy each other’s friendship. Friends are not paired with a Teen Friend for these programs.
URL:https://friendshipcirclenc.org/event/yac-inclusive-rugby/
LOCATION:OrthoCarolina Sportsplex\, 13333 Dorman Road\, Pineville\, NC\, 28134\, United States
CATEGORIES:P.S. YAC
ATTACH;FMTTYPE=image/png:https://friendshipcirclenc.org/wp-content/uploads/2024/06/710-Rugby.png
END:VEVENT
END:VCALENDAR