BEGIN:VCALENDAR
VERSION:2.0
PRODID:-//Friendship Circle of Charlotte - ECPv6.15.15//NONSGML v1.0//EN
CALSCALE:GREGORIAN
METHOD:PUBLISH
X-WR-CALNAME:Friendship Circle of Charlotte
X-ORIGINAL-URL:https://friendshipcirclenc.org
X-WR-CALDESC:Events for Friendship Circle of Charlotte
REFRESH-INTERVAL;VALUE=DURATION:PT1H
X-Robots-Tag:noindex
X-PUBLISHED-TTL:PT1H
BEGIN:VTIMEZONE
TZID:America/New_York
BEGIN:DAYLIGHT
TZOFFSETFROM:-0500
TZOFFSETTO:-0400
TZNAME:EDT
DTSTART:20220313T070000
END:DAYLIGHT
BEGIN:STANDARD
TZOFFSETFROM:-0400
TZOFFSETTO:-0500
TZNAME:EST
DTSTART:20221106T060000
END:STANDARD
BEGIN:DAYLIGHT
TZOFFSETFROM:-0500
TZOFFSETTO:-0400
TZNAME:EDT
DTSTART:20230312T070000
END:DAYLIGHT
BEGIN:STANDARD
TZOFFSETFROM:-0400
TZOFFSETTO:-0500
TZNAME:EST
DTSTART:20231105T060000
END:STANDARD
BEGIN:DAYLIGHT
TZOFFSETFROM:-0500
TZOFFSETTO:-0400
TZNAME:EDT
DTSTART:20240310T070000
END:DAYLIGHT
BEGIN:STANDARD
TZOFFSETFROM:-0400
TZOFFSETTO:-0500
TZNAME:EST
DTSTART:20241103T060000
END:STANDARD
END:VTIMEZONE
BEGIN:VEVENT
DTSTART;TZID=America/New_York:20230518T100000
DTEND;TZID=America/New_York:20230518T180000
DTSTAMP:20260421T094457
CREATED:20230324T053953Z
LAST-MODIFIED:20230418T173354Z
UID:10000187-1684404000-1684432800@friendshipcirclenc.org
SUMMARY:Friendship Loaves
DESCRIPTION:Roll up your sleeves and get ready to bake because it’s Friendship Loaves time! \nWe’re all set for our first Baking Series of 2023 and we’d love for our FC Friends (age 16+) to join us. \nBaking roles will be divided by shift\, so please pick the one that’s best for you.
URL:https://friendshipcirclenc.org/event/friendship-loaves-series/2023-05-18/
LOCATION:Chabad of Charlotte\, 6619 Sardis Road\, Charlotte\, NC\, 28270\, United States
CATEGORIES:FC Friends,Inclusive,P.S. YAC,Teen Friends
ATTACH;FMTTYPE=image/jpeg:https://friendshipcirclenc.org/wp-content/uploads/2023/03/Friendship-Loaves-Baking-Day.jpg
END:VEVENT
BEGIN:VEVENT
DTSTART;TZID=America/New_York:20230511T100000
DTEND;TZID=America/New_York:20230511T180000
DTSTAMP:20260421T094457
CREATED:20230324T053953Z
LAST-MODIFIED:20230418T173354Z
UID:10000186-1683799200-1683828000@friendshipcirclenc.org
SUMMARY:Friendship Loaves
DESCRIPTION:Roll up your sleeves and get ready to bake because it’s Friendship Loaves time! \nWe’re all set for our first Baking Series of 2023 and we’d love for our FC Friends (age 16+) to join us. \nBaking roles will be divided by shift\, so please pick the one that’s best for you.
URL:https://friendshipcirclenc.org/event/friendship-loaves-series/2023-05-11/
LOCATION:Chabad of Charlotte\, 6619 Sardis Road\, Charlotte\, NC\, 28270\, United States
CATEGORIES:FC Friends,Inclusive,P.S. YAC,Teen Friends
ATTACH;FMTTYPE=image/jpeg:https://friendshipcirclenc.org/wp-content/uploads/2023/03/Friendship-Loaves-Baking-Day.jpg
END:VEVENT
BEGIN:VEVENT
DTSTART;TZID=America/New_York:20230504T160000
DTEND;TZID=America/New_York:20230504T180000
DTSTAMP:20260421T094457
CREATED:20230502T222801Z
LAST-MODIFIED:20230502T222802Z
UID:10000192-1683216000-1683223200@friendshipcirclenc.org
SUMMARY:Friendship Loaves
DESCRIPTION:Roll up your sleeves and get ready to bake because it’s Friendship Loaves time! \nWe’re all set for our first Baking Series of 2023 and we’d love for our FC Friends (age 16+) to join us. \nBaking roles will be divided by shift\, so please pick the one that’s best for you.
URL:https://friendshipcirclenc.org/event/friendship-loaves-series-3/
LOCATION:Chabad of Charlotte\, 6619 Sardis Road\, Charlotte\, NC\, 28270\, United States
CATEGORIES:FC Friends,Inclusive,P.S. YAC,Teen Friends
ATTACH;FMTTYPE=image/png:https://friendshipcirclenc.org/wp-content/uploads/2023/03/Friendship-Loaves-Baking-Day-1.png
END:VEVENT
BEGIN:VEVENT
DTSTART;TZID=America/New_York:20230427T100000
DTEND;TZID=America/New_York:20230427T180000
DTSTAMP:20260421T094457
CREATED:20230328T145254Z
LAST-MODIFIED:20230426T160738Z
UID:10000184-1682589600-1682618400@friendshipcirclenc.org
SUMMARY:Friendship Loaves
DESCRIPTION:Roll up your sleeves and get ready to bake because it’s Friendship Loaves time! \nWe’re all set for our first Baking Series of 2023 and we’d love for our FC Friends (age 16+) to join us. \nBaking roles will be divided by shift\, so please pick the one that’s best for you.
URL:https://friendshipcirclenc.org/event/friendship-loaves-series-2/
LOCATION:Chabad of Charlotte\, 6619 Sardis Road\, Charlotte\, NC\, 28270\, United States
CATEGORIES:FC Friends,Inclusive,P.S. YAC,Teen Friends
ATTACH;FMTTYPE=image/png:https://friendshipcirclenc.org/wp-content/uploads/2023/03/Friendship-Loaves-Baking-Day.png
END:VEVENT
BEGIN:VEVENT
DTSTART;TZID=America/New_York:20230420T100000
DTEND;TZID=America/New_York:20230420T180000
DTSTAMP:20260421T094457
CREATED:20230324T053953Z
LAST-MODIFIED:20230418T173354Z
UID:10000183-1681984800-1682013600@friendshipcirclenc.org
SUMMARY:Friendship Loaves
DESCRIPTION:Roll up your sleeves and get ready to bake because it’s Friendship Loaves time! \nWe’re all set for our first Baking Series of 2023 and we’d love for our FC Friends (age 16+) to join us. \nBaking roles will be divided by shift\, so please pick the one that’s best for you.
URL:https://friendshipcirclenc.org/event/friendship-loaves-series/2023-04-20/
LOCATION:Chabad of Charlotte\, 6619 Sardis Road\, Charlotte\, NC\, 28270\, United States
CATEGORIES:FC Friends,Inclusive,P.S. YAC,Teen Friends
ATTACH;FMTTYPE=image/jpeg:https://friendshipcirclenc.org/wp-content/uploads/2023/03/Friendship-Loaves-Baking-Day.jpg
END:VEVENT
BEGIN:VEVENT
DTSTART;VALUE=DATE:20230309
DTEND;VALUE=DATE:20230310
DTSTAMP:20260421T094457
CREATED:20230215T202721Z
LAST-MODIFIED:20230301T000343Z
UID:10000171-1678320000-1678406399@friendshipcirclenc.org
SUMMARY:Friendship Loaves Baking Day
DESCRIPTION:Friendship Loaves is Back! \nWe’re inviting all FC Friends (age 16+) who are interested in practicing some baking skills to join us on March 9th for a Friendship Loaves Baking Day. Come meet our new Baking Leader\, Haley Ben-David and have some fun making fresh Challah. \nThere are two shifts\, so be sure to choose the one that works best with your schedule.\nMorning Shift: 10am-12pm\nAfternoon Shift: 4-6pm
URL:https://friendshipcirclenc.org/event/friendship-loaves-baking-day/
LOCATION:Chabad of Charlotte\, 6619 Sardis Road\, Charlotte\, NC\, 28270\, United States
CATEGORIES:FC Friends,Inclusive,P.S. YAC,Teen,Teen Friends
ATTACH;FMTTYPE=image/jpeg:https://friendshipcirclenc.org/wp-content/uploads/2023/02/Featured-Event-Image-Facebook-Cover.jpg
END:VEVENT
END:VCALENDAR