BEGIN:VCALENDAR
VERSION:2.0
PRODID:-//Friendship Circle of Charlotte - ECPv6.15.15//NONSGML v1.0//EN
CALSCALE:GREGORIAN
METHOD:PUBLISH
X-ORIGINAL-URL:https://friendshipcirclenc.org
X-WR-CALDESC:Events for Friendship Circle of Charlotte
REFRESH-INTERVAL;VALUE=DURATION:PT1H
X-Robots-Tag:noindex
X-PUBLISHED-TTL:PT1H
BEGIN:VTIMEZONE
TZID:America/New_York
BEGIN:DAYLIGHT
TZOFFSETFROM:-0500
TZOFFSETTO:-0400
TZNAME:EDT
DTSTART:20220313T070000
END:DAYLIGHT
BEGIN:STANDARD
TZOFFSETFROM:-0400
TZOFFSETTO:-0500
TZNAME:EST
DTSTART:20221106T060000
END:STANDARD
BEGIN:DAYLIGHT
TZOFFSETFROM:-0500
TZOFFSETTO:-0400
TZNAME:EDT
DTSTART:20230312T070000
END:DAYLIGHT
BEGIN:STANDARD
TZOFFSETFROM:-0400
TZOFFSETTO:-0500
TZNAME:EST
DTSTART:20231105T060000
END:STANDARD
BEGIN:DAYLIGHT
TZOFFSETFROM:-0500
TZOFFSETTO:-0400
TZNAME:EDT
DTSTART:20240310T070000
END:DAYLIGHT
BEGIN:STANDARD
TZOFFSETFROM:-0400
TZOFFSETTO:-0500
TZNAME:EST
DTSTART:20241103T060000
END:STANDARD
END:VTIMEZONE
BEGIN:VEVENT
DTSTART;TZID=America/New_York:20230503T193000
DTEND;TZID=America/New_York:20230503T203000
DTSTAMP:20260421T170801
CREATED:20230217T062421Z
LAST-MODIFIED:20230424T191327Z
UID:10000172-1683142200-1683145800@friendshipcirclenc.org
SUMMARY:Dad's Night Out - Axe Throwing
DESCRIPTION:Take some time for yourself and join fellow Friendship Circle Dads for a fun night of socializing and laughs. Try your hand at axe-throwing and discover a hidden talent you may possess! \nWhen: Wednesday\, May 3rd at 7:30PM\nWhere: BATL Axe Throwing LoSo 4128 South Blvd Unit: C – Charlotte\, NC 28209\nCost: $25 (Drinks Included)
URL:https://friendshipcirclenc.org/event/dads-night-out-axe-throwing/
LOCATION:BATL Axe Throwing LoSo\, 4128 South Blvd Unit: C\, Charlotte\, 28209
CATEGORIES:FC Parents
ATTACH;FMTTYPE=image/png:https://friendshipcirclenc.org/wp-content/uploads/2023/02/MAKE-COPY-1.png
ORGANIZER;CN="Rabbi Bentzion":MAILTO:bentzion@friendshipcirclenc.org
END:VEVENT
END:VCALENDAR