BEGIN:VCALENDAR
VERSION:2.0
PRODID:-//Friendship Circle of Charlotte - ECPv6.15.15//NONSGML v1.0//EN
CALSCALE:GREGORIAN
METHOD:PUBLISH
X-WR-CALNAME:Friendship Circle of Charlotte
X-ORIGINAL-URL:https://friendshipcirclenc.org
X-WR-CALDESC:Events for Friendship Circle of Charlotte
REFRESH-INTERVAL;VALUE=DURATION:PT1H
X-Robots-Tag:noindex
X-PUBLISHED-TTL:PT1H
BEGIN:VTIMEZONE
TZID:America/New_York
BEGIN:DAYLIGHT
TZOFFSETFROM:-0500
TZOFFSETTO:-0400
TZNAME:EDT
DTSTART:20230312T070000
END:DAYLIGHT
BEGIN:STANDARD
TZOFFSETFROM:-0400
TZOFFSETTO:-0500
TZNAME:EST
DTSTART:20231105T060000
END:STANDARD
BEGIN:DAYLIGHT
TZOFFSETFROM:-0500
TZOFFSETTO:-0400
TZNAME:EDT
DTSTART:20240310T070000
END:DAYLIGHT
BEGIN:STANDARD
TZOFFSETFROM:-0400
TZOFFSETTO:-0500
TZNAME:EST
DTSTART:20241103T060000
END:STANDARD
BEGIN:DAYLIGHT
TZOFFSETFROM:-0500
TZOFFSETTO:-0400
TZNAME:EDT
DTSTART:20250309T070000
END:DAYLIGHT
BEGIN:STANDARD
TZOFFSETFROM:-0400
TZOFFSETTO:-0500
TZNAME:EST
DTSTART:20251102T060000
END:STANDARD
BEGIN:DAYLIGHT
TZOFFSETFROM:-0500
TZOFFSETTO:-0400
TZNAME:EDT
DTSTART:20260308T070000
END:DAYLIGHT
BEGIN:STANDARD
TZOFFSETFROM:-0400
TZOFFSETTO:-0500
TZNAME:EST
DTSTART:20261101T060000
END:STANDARD
BEGIN:DAYLIGHT
TZOFFSETFROM:-0500
TZOFFSETTO:-0400
TZNAME:EDT
DTSTART:20270314T070000
END:DAYLIGHT
BEGIN:STANDARD
TZOFFSETFROM:-0400
TZOFFSETTO:-0500
TZNAME:EST
DTSTART:20271107T060000
END:STANDARD
END:VTIMEZONE
BEGIN:VEVENT
DTSTART;TZID=America/New_York:20260308T150000
DTEND;TZID=America/New_York:20260308T173000
DTSTAMP:20260420T112937
CREATED:20260223T172607Z
LAST-MODIFIED:20260303T214634Z
UID:10000972-1772982000-1772991000@friendshipcirclenc.org
SUMMARY:Children's Theatre Field Trip
DESCRIPTION:It’s time for another Friendship Circle Field Trip! We will be taking the bus uptown to see Esperanza Rising at the Children’s Theatre. This show is one act and approximately one hour long. Read the play description below to learn more. \nThis field trip has limited availability. RSVP asap to save your spot. \nIMPORTANT BUS INFO:   \nThe bus will be leaving Friendship Circle promptly at 3:20pm. Please plan to arrive no later than 3:15pm. The bus will plan to be back on camus around 5:40pm. We will communicate in the GroupMe all travel updates if we will be later than that for any reason. \nPlay description:  \nSmart and stubborn teenager Esperanza Ortega lives the life of a rich girl in 1920s Mexico wearing pretty clothes and attending private school. The day before her birthday tragedy strikes\, setting a chain of events into motion that forever change her life. She and her family flee Mexico for the United States only to face new struggles as they start again during the Great Depression. This powerful story illuminates loss and shines a light on hard work and hope. \nParticipation in Friendship Circle programs is for registered Friends only.
URL:https://friendshipcirclenc.org/event/childrens-theatre-field-trip/
LOCATION:Children’s Theater of Charlotte at Imaginon\, 300 E 7th St\, Charlotte\, NC\, 28202\, United States
ATTACH;FMTTYPE=image/png:https://friendshipcirclenc.org/wp-content/uploads/2026/02/Website-Featured-Images-23-25-5.png
ORGANIZER;CN="Sarah Howe":MAILTO:sarah@friendshipcirclenc.org
END:VEVENT
BEGIN:VEVENT
DTSTART;TZID=America/New_York:20240218T153000
DTEND;TZID=America/New_York:20240218T180000
DTSTAMP:20260420T112937
CREATED:20231218T193033Z
LAST-MODIFIED:20240212T203807Z
UID:10000297-1708270200-1708279200@friendshipcirclenc.org
SUMMARY:Pinocchio at Children's Theater of CLT
DESCRIPTION:We’re taking a bus from Friendship Circle and heading Uptown to watch a sensory-friendly performance of Pinocchio. This incredible opportunity is thanks to the generosity of the Autism Strong Foundation and their partnership with the Children’s Theatre of Charlotte. \nDon’t miss out on this wonderful story and incredible opportunity! \nImportant Details:\n\nThere will be transportation to and from Children’s Theatre of Charlotte. Please meet at Friendship Circle before 3:30pm. The bus will leave promptly at 3:30pm and will return at 6:00pm. We will post on the Mom’s GroupMe with an updated ETA if we are running late on our way back.  \nChildren’s Theatre of Charlotte is located in Uptown at ImaginOn Library. If you live nearby and would rather meet us there\, please meet us there at 3:55pm and plan to pickup from the Library at 5:30pm.\nFriends must wear their Friendship Circle shirt for this program.\n\nPlease Note: Participation in Friendship Circle programs is for registered friends only.
URL:https://friendshipcirclenc.org/event/pinocchio-ctc/
LOCATION:Selkin Family Friendship Circle Center\, 6619 Sardis Road\, Charlotte\, NC\, 28270\, United States
CATEGORIES:FC Friends,Teen Friends
ATTACH;FMTTYPE=image/png:https://friendshipcirclenc.org/wp-content/uploads/2023/12/218-CTC-Pinocchio.png
END:VEVENT
END:VCALENDAR